BEGIN:VCALENDAR
VERSION:2.0
PRODID:-//YGAMETIME.com//YGT iCal Creator//EN
METHOD:PUBLISH
X-PUBLISHED-TTL:PT6H
REFRESH-INTERVAL;VALUE=DURATION:PT6H
CALSCALE:GREGORIAN
X-WR-CALNAME:YGAMETIME CALENDAR
BEGIN:VTIMEZONE
TZID:America/New_York
X-LIC-LOCATION:America/New_York
BEGIN:DAYLIGHT
TZOFFSETFROM:-0500
TZOFFSETTO:-0400
TZNAME:EDT
DTSTART:19700308T020000
RRULE:FREQ=YEARLY;BYMONTH=3;BYDAY=2SU
END:DAYLIGHT
BEGIN:STANDARD
TZOFFSETFROM:-0400
TZOFFSETTO:-0500
TZNAME:EST
DTSTART:19701101T020000
RRULE:FREQ=YEARLY;BYMONTH=11;BYDAY=1SU
END:STANDARD
END:VTIMEZONE
BEGIN:VEVENT
UID:eastbutler-67391@ygametime.com
DTSTAMP:20160827T130000Z
DTSTART;TZID=America/New_York:20160827T090000
DURATION:PT0H60M0S
SUMMARY:#8 Mark Leach & Joe Schrock  vs #1 Ryan Schwartz & Paul Davidson
DESCRIPTION:Coed 4 & 5 | Soccer\nEAST BUTLER COUNTY YMCA\n
URL;VALUE=URI:https://ygametime.com/branch/eastbutler/sports/2016-fall-soccer/2789/?utm_medium=calendar&utm_source=team_cal&utm_content=league_url#game-67391
LOCATION:East Butler YMCA 4&5 Field #1 Pink
BEGIN:VALARM
TRIGGER:-P2H
ACTION:DISPLAY
DESCRIPTION:#8 Mark Leach & Joe Schrock  vs #1 Ryan Schwartz & Paul Davidson
END:VALARM
END:VEVENT
BEGIN:VEVENT
UID:eastbutler-67410@ygametime.com
DTSTAMP:20160910T150000Z
DTSTART;TZID=America/New_York:20160910T110000
DURATION:PT0H60M0S
SUMMARY:#10 Caroline Kren  vs #1 Ryan Schwartz & Paul Davidson
DESCRIPTION:Coed 4 & 5 | Soccer\nEAST BUTLER COUNTY YMCA\n
URL;VALUE=URI:https://ygametime.com/branch/eastbutler/sports/2016-fall-soccer/2789/?utm_medium=calendar&utm_source=team_cal&utm_content=league_url#game-67410
LOCATION:East Butler YMCA 4&5 Field #2 Yellow
BEGIN:VALARM
TRIGGER:-P2H
ACTION:DISPLAY
DESCRIPTION:#10 Caroline Kren  vs #1 Ryan Schwartz & Paul Davidson
END:VALARM
END:VEVENT
BEGIN:VEVENT
UID:eastbutler-67416@ygametime.com
DTSTAMP:20160917T150000Z
DTSTART;TZID=America/New_York:20160917T110000
DURATION:PT0H60M0S
SUMMARY:#1 Ryan Schwartz & Paul Davidson vs #11 Jason VanArsdall & Curtis Rouse 
DESCRIPTION:Coed 4 & 5 | Soccer\nEAST BUTLER COUNTY YMCA\n
URL;VALUE=URI:https://ygametime.com/branch/eastbutler/sports/2016-fall-soccer/2789/?utm_medium=calendar&utm_source=team_cal&utm_content=league_url#game-67416
LOCATION:East Butler YMCA 4&5 Field #1 Pink
BEGIN:VALARM
TRIGGER:-P2H
ACTION:DISPLAY
DESCRIPTION:#1 Ryan Schwartz & Paul Davidson vs #11 Jason VanArsdall & Curtis Rouse 
END:VALARM
END:VEVENT
BEGIN:VEVENT
UID:eastbutler-67422@ygametime.com
DTSTAMP:20160924T140000Z
DTSTART;TZID=America/New_York:20160924T100000
DURATION:PT0H60M0S
SUMMARY:#12 Tim Mumma & Van Houten  vs #1 Ryan Schwartz & Paul Davidson
DESCRIPTION:Coed 4 & 5 | Soccer\nEAST BUTLER COUNTY YMCA\n
URL;VALUE=URI:https://ygametime.com/branch/eastbutler/sports/2016-fall-soccer/2789/?utm_medium=calendar&utm_source=team_cal&utm_content=league_url#game-67422
LOCATION:East Butler YMCA 4&5 Field #2 Yellow
BEGIN:VALARM
TRIGGER:-P2H
ACTION:DISPLAY
DESCRIPTION:#12 Tim Mumma & Van Houten  vs #1 Ryan Schwartz & Paul Davidson
END:VALARM
END:VEVENT
BEGIN:VEVENT
UID:eastbutler-67428@ygametime.com
DTSTAMP:20161001T140000Z
DTSTART;TZID=America/New_York:20161001T100000
DURATION:PT0H60M0S
SUMMARY:#1 Ryan Schwartz & Paul Davidson vs #13 Thrasher & Speigel 
DESCRIPTION:Coed 4 & 5 | Soccer\nEAST BUTLER COUNTY YMCA\n
URL;VALUE=URI:https://ygametime.com/branch/eastbutler/sports/2016-fall-soccer/2789/?utm_medium=calendar&utm_source=team_cal&utm_content=league_url#game-67428
LOCATION:East Butler YMCA 4&5 Field #1 Pink
BEGIN:VALARM
TRIGGER:-P2H
ACTION:DISPLAY
DESCRIPTION:#1 Ryan Schwartz & Paul Davidson vs #13 Thrasher & Speigel 
END:VALARM
END:VEVENT
BEGIN:VEVENT
UID:eastbutler-67434@ygametime.com
DTSTAMP:20161008T130000Z
DTSTART;TZID=America/New_York:20161008T090000
DURATION:PT0H60M0S
SUMMARY:#14 Baumann &Terrell  vs #1 Ryan Schwartz & Paul Davidson
DESCRIPTION:Coed 4 & 5 | Soccer\nEAST BUTLER COUNTY YMCA\n
URL;VALUE=URI:https://ygametime.com/branch/eastbutler/sports/2016-fall-soccer/2789/?utm_medium=calendar&utm_source=team_cal&utm_content=league_url#game-67434
LOCATION:East Butler YMCA 4&5 Field #2 Yellow
BEGIN:VALARM
TRIGGER:-P2H
ACTION:DISPLAY
DESCRIPTION:#14 Baumann &Terrell  vs #1 Ryan Schwartz & Paul Davidson
END:VALARM
END:VEVENT
BEGIN:VEVENT
UID:eastbutler-67440@ygametime.com
DTSTAMP:20161015T130000Z
DTSTART;TZID=America/New_York:20161015T090000
DURATION:PT0H60M0S
SUMMARY:#1 Ryan Schwartz & Paul Davidson vs #7 Josh Ranes & Kevin Bredek 
DESCRIPTION:Coed 4 & 5 | Soccer\nEAST BUTLER COUNTY YMCA\n
URL;VALUE=URI:https://ygametime.com/branch/eastbutler/sports/2016-fall-soccer/2789/?utm_medium=calendar&utm_source=team_cal&utm_content=league_url#game-67440
LOCATION:East Butler YMCA 4&5 Field #1 Pink
BEGIN:VALARM
TRIGGER:-P2H
ACTION:DISPLAY
DESCRIPTION:#1 Ryan Schwartz & Paul Davidson vs #7 Josh Ranes & Kevin Bredek 
END:VALARM
END:VEVENT
BEGIN:VEVENT
UID:eastbutler-67404@ygametime.com
DTSTAMP:20161022T160000Z
DTSTART;TZID=America/New_York:20161022T120000
DURATION:PT0H60M0S
SUMMARY:#1 Ryan Schwartz & Paul Davidson vs #9 John Hall
DESCRIPTION:Coed 4 & 5 | Soccer\nEAST BUTLER COUNTY YMCA\n
URL;VALUE=URI:https://ygametime.com/branch/eastbutler/sports/2016-fall-soccer/2789/?utm_medium=calendar&utm_source=team_cal&utm_content=league_url#game-67404
LOCATION:East Butler YMCA 4&5 Field #1 Pink
BEGIN:VALARM
TRIGGER:-P2H
ACTION:DISPLAY
DESCRIPTION:#1 Ryan Schwartz & Paul Davidson vs #9 John Hall
END:VALARM
END:VEVENT
END:VCALENDAR

