BEGIN:VCALENDAR
VERSION:2.0
PRODID:-//YGAMETIME.com//YGT iCal Creator//EN
METHOD:PUBLISH
X-PUBLISHED-TTL:PT6H
REFRESH-INTERVAL;VALUE=DURATION:PT6H
CALSCALE:GREGORIAN
X-WR-CALNAME:YGAMETIME CALENDAR
BEGIN:VTIMEZONE
TZID:America/New_York
X-LIC-LOCATION:America/New_York
BEGIN:DAYLIGHT
TZOFFSETFROM:-0500
TZOFFSETTO:-0400
TZNAME:EDT
DTSTART:19700308T020000
RRULE:FREQ=YEARLY;BYMONTH=3;BYDAY=2SU
END:DAYLIGHT
BEGIN:STANDARD
TZOFFSETFROM:-0400
TZOFFSETTO:-0500
TZNAME:EST
DTSTART:19701101T020000
RRULE:FREQ=YEARLY;BYMONTH=11;BYDAY=1SU
END:STANDARD
END:VTIMEZONE
BEGIN:VEVENT
UID:eastbutler-67395@ygametime.com
DTSTAMP:20160827T150000Z
DTSTART;TZID=America/New_York:20160827T110000
DURATION:PT0H60M0S
SUMMARY:#11 Jason VanArsdall & Curtis Rouse  vs #4 Desi Molina & Matt Kollstedt
DESCRIPTION:Coed 4 & 5 | Soccer\nEAST BUTLER COUNTY YMCA\n
URL;VALUE=URI:https://ygametime.com/branch/eastbutler/sports/2016-fall-soccer/2789/?utm_medium=calendar&utm_source=team_cal&utm_content=league_url#game-67395
LOCATION:East Butler YMCA 4&5 Field #1 Pink
BEGIN:VALARM
TRIGGER:-P2H
ACTION:DISPLAY
DESCRIPTION:#11 Jason VanArsdall & Curtis Rouse  vs #4 Desi Molina & Matt Kollstedt
END:VALARM
END:VEVENT
BEGIN:VEVENT
UID:eastbutler-67408@ygametime.com
DTSTAMP:20160910T140000Z
DTSTART;TZID=America/New_York:20160910T100000
DURATION:PT0H60M0S
SUMMARY:#7 Josh Ranes & Kevin Bredek  vs #4 Desi Molina & Matt Kollstedt
DESCRIPTION:Coed 4 & 5 | Soccer\nEAST BUTLER COUNTY YMCA\n
URL;VALUE=URI:https://ygametime.com/branch/eastbutler/sports/2016-fall-soccer/2789/?utm_medium=calendar&utm_source=team_cal&utm_content=league_url#game-67408
LOCATION:East Butler YMCA 4&5 Field #2 Yellow
BEGIN:VALARM
TRIGGER:-P2H
ACTION:DISPLAY
DESCRIPTION:#7 Josh Ranes & Kevin Bredek  vs #4 Desi Molina & Matt Kollstedt
END:VALARM
END:VEVENT
BEGIN:VEVENT
UID:eastbutler-67418@ygametime.com
DTSTAMP:20160917T160000Z
DTSTART;TZID=America/New_York:20160917T120000
DURATION:PT0H60M0S
SUMMARY:#4 Desi Molina & Matt Kollstedt vs #5 Pat Naylor & Brad Lantis
DESCRIPTION:Coed 4 & 5 | Soccer\nEAST BUTLER COUNTY YMCA\n
URL;VALUE=URI:https://ygametime.com/branch/eastbutler/sports/2016-fall-soccer/2789/?utm_medium=calendar&utm_source=team_cal&utm_content=league_url#game-67418
LOCATION:East Butler YMCA 4&5 Field #1 Pink
BEGIN:VALARM
TRIGGER:-P2H
ACTION:DISPLAY
DESCRIPTION:#4 Desi Molina & Matt Kollstedt vs #5 Pat Naylor & Brad Lantis
END:VALARM
END:VEVENT
BEGIN:VEVENT
UID:eastbutler-67421@ygametime.com
DTSTAMP:20160924T140000Z
DTSTART;TZID=America/New_York:20160924T100000
DURATION:PT0H60M0S
SUMMARY:#3 Jill French  vs #4 Desi Molina & Matt Kollstedt
DESCRIPTION:Coed 4 & 5 | Soccer\nEAST BUTLER COUNTY YMCA\n
URL;VALUE=URI:https://ygametime.com/branch/eastbutler/sports/2016-fall-soccer/2789/?utm_medium=calendar&utm_source=team_cal&utm_content=league_url#game-67421
LOCATION:East Butler YMCA 4&5 Field #1 Pink
BEGIN:VALARM
TRIGGER:-P2H
ACTION:DISPLAY
DESCRIPTION:#3 Jill French  vs #4 Desi Molina & Matt Kollstedt
END:VALARM
END:VEVENT
BEGIN:VEVENT
UID:eastbutler-67426@ygametime.com
DTSTAMP:20161001T130000Z
DTSTART;TZID=America/New_York:20161001T090000
DURATION:PT0H60M0S
SUMMARY:#4 Desi Molina & Matt Kollstedt vs #8 Mark Leach & Joe Schrock 
DESCRIPTION:Coed 4 & 5 | Soccer\nEAST BUTLER COUNTY YMCA\n
URL;VALUE=URI:https://ygametime.com/branch/eastbutler/sports/2016-fall-soccer/2789/?utm_medium=calendar&utm_source=team_cal&utm_content=league_url#game-67426
LOCATION:East Butler YMCA 4&5 Field #1 Pink
BEGIN:VALARM
TRIGGER:-P2H
ACTION:DISPLAY
DESCRIPTION:#4 Desi Molina & Matt Kollstedt vs #8 Mark Leach & Joe Schrock 
END:VALARM
END:VEVENT
BEGIN:VEVENT
UID:eastbutler-67438@ygametime.com
DTSTAMP:20161008T150000Z
DTSTART;TZID=America/New_York:20161008T110000
DURATION:PT0H60M0S
SUMMARY:#10 Caroline Kren  vs #4 Desi Molina & Matt Kollstedt
DESCRIPTION:Coed 4 & 5 | Soccer\nEAST BUTLER COUNTY YMCA\n
URL;VALUE=URI:https://ygametime.com/branch/eastbutler/sports/2016-fall-soccer/2789/?utm_medium=calendar&utm_source=team_cal&utm_content=league_url#game-67438
LOCATION:East Butler YMCA 4&5 Field #2 Yellow
BEGIN:VALARM
TRIGGER:-P2H
ACTION:DISPLAY
DESCRIPTION:#10 Caroline Kren  vs #4 Desi Molina & Matt Kollstedt
END:VALARM
END:VEVENT
BEGIN:VEVENT
UID:eastbutler-67443@ygametime.com
DTSTAMP:20161015T140000Z
DTSTART;TZID=America/New_York:20161015T100000
DURATION:PT0H60M0S
SUMMARY:#4 Desi Molina & Matt Kollstedt vs #12 Tim Mumma & Van Houten 
DESCRIPTION:Coed 4 & 5 | Soccer\nEAST BUTLER COUNTY YMCA\n
URL;VALUE=URI:https://ygametime.com/branch/eastbutler/sports/2016-fall-soccer/2789/?utm_medium=calendar&utm_source=team_cal&utm_content=league_url#game-67443
LOCATION:East Butler YMCA 4&5 Field #2 Yellow
BEGIN:VALARM
TRIGGER:-P2H
ACTION:DISPLAY
DESCRIPTION:#4 Desi Molina & Matt Kollstedt vs #12 Tim Mumma & Van Houten 
END:VALARM
END:VEVENT
BEGIN:VEVENT
UID:eastbutler-67401@ygametime.com
DTSTAMP:20161022T140000Z
DTSTART;TZID=America/New_York:20161022T100000
DURATION:PT0H60M0S
SUMMARY:#4 Desi Molina & Matt Kollstedt vs #13 Thrasher & Speigel 
DESCRIPTION:Coed 4 & 5 | Soccer\nEAST BUTLER COUNTY YMCA\n
URL;VALUE=URI:https://ygametime.com/branch/eastbutler/sports/2016-fall-soccer/2789/?utm_medium=calendar&utm_source=team_cal&utm_content=league_url#game-67401
LOCATION:East Butler YMCA 4&5 Field #2 Yellow
BEGIN:VALARM
TRIGGER:-P2H
ACTION:DISPLAY
DESCRIPTION:#4 Desi Molina & Matt Kollstedt vs #13 Thrasher & Speigel 
END:VALARM
END:VEVENT
END:VCALENDAR

