BEGIN:VCALENDAR
VERSION:2.0
PRODID:-//YGAMETIME.com//YGT iCal Creator//EN
METHOD:PUBLISH
X-PUBLISHED-TTL:PT6H
REFRESH-INTERVAL;VALUE=DURATION:PT6H
CALSCALE:GREGORIAN
X-WR-CALNAME:YGAMETIME CALENDAR
BEGIN:VTIMEZONE
TZID:America/New_York
X-LIC-LOCATION:America/New_York
BEGIN:DAYLIGHT
TZOFFSETFROM:-0500
TZOFFSETTO:-0400
TZNAME:EDT
DTSTART:19700308T020000
RRULE:FREQ=YEARLY;BYMONTH=3;BYDAY=2SU
END:DAYLIGHT
BEGIN:STANDARD
TZOFFSETFROM:-0400
TZOFFSETTO:-0500
TZNAME:EST
DTSTART:19701101T020000
RRULE:FREQ=YEARLY;BYMONTH=11;BYDAY=1SU
END:STANDARD
END:VTIMEZONE
BEGIN:VEVENT
UID:eastbutler-67394@ygametime.com
DTSTAMP:20160827T140000Z
DTSTART;TZID=America/New_York:20160827T100000
DURATION:PT0H60M0S
SUMMARY:#5 Pat Naylor & Brad Lantis vs #12 Tim Mumma & Van Houten 
DESCRIPTION:Coed 4 & 5 | Soccer\nEAST BUTLER COUNTY YMCA\n
URL;VALUE=URI:https://ygametime.com/branch/eastbutler/sports/2016-fall-soccer/2789/?utm_medium=calendar&utm_source=team_cal&utm_content=league_url#game-67394
LOCATION:East Butler YMCA 4&5 Field #2 Yellow
BEGIN:VALARM
TRIGGER:-P2H
ACTION:DISPLAY
DESCRIPTION:#5 Pat Naylor & Brad Lantis vs #12 Tim Mumma & Van Houten 
END:VALARM
END:VEVENT
BEGIN:VEVENT
UID:eastbutler-67409@ygametime.com
DTSTAMP:20160910T150000Z
DTSTART;TZID=America/New_York:20160910T110000
DURATION:PT0H60M0S
SUMMARY:#5 Pat Naylor & Brad Lantis vs #6 Nunley & Tara Shultz
DESCRIPTION:Coed 4 & 5 | Soccer\nEAST BUTLER COUNTY YMCA\n
URL;VALUE=URI:https://ygametime.com/branch/eastbutler/sports/2016-fall-soccer/2789/?utm_medium=calendar&utm_source=team_cal&utm_content=league_url#game-67409
LOCATION:East Butler YMCA 4&5 Field #1 Pink
BEGIN:VALARM
TRIGGER:-P2H
ACTION:DISPLAY
DESCRIPTION:#5 Pat Naylor & Brad Lantis vs #6 Nunley & Tara Shultz
END:VALARM
END:VEVENT
BEGIN:VEVENT
UID:eastbutler-67418@ygametime.com
DTSTAMP:20160917T160000Z
DTSTART;TZID=America/New_York:20160917T120000
DURATION:PT0H60M0S
SUMMARY:#4 Desi Molina & Matt Kollstedt vs #5 Pat Naylor & Brad Lantis
DESCRIPTION:Coed 4 & 5 | Soccer\nEAST BUTLER COUNTY YMCA\n
URL;VALUE=URI:https://ygametime.com/branch/eastbutler/sports/2016-fall-soccer/2789/?utm_medium=calendar&utm_source=team_cal&utm_content=league_url#game-67418
LOCATION:East Butler YMCA 4&5 Field #1 Pink
BEGIN:VALARM
TRIGGER:-P2H
ACTION:DISPLAY
DESCRIPTION:#4 Desi Molina & Matt Kollstedt vs #5 Pat Naylor & Brad Lantis
END:VALARM
END:VEVENT
BEGIN:VEVENT
UID:eastbutler-67420@ygametime.com
DTSTAMP:20160924T130000Z
DTSTART;TZID=America/New_York:20160924T090000
DURATION:PT0H60M0S
SUMMARY:#5 Pat Naylor & Brad Lantis vs #2 Bruce Esteves & Jodi Fritsch
DESCRIPTION:Coed 4 & 5 | Soccer\nEAST BUTLER COUNTY YMCA\n
URL;VALUE=URI:https://ygametime.com/branch/eastbutler/sports/2016-fall-soccer/2789/?utm_medium=calendar&utm_source=team_cal&utm_content=league_url#game-67420
LOCATION:East Butler YMCA 4&5 Field #2 Yellow
BEGIN:VALARM
TRIGGER:-P2H
ACTION:DISPLAY
DESCRIPTION:#5 Pat Naylor & Brad Lantis vs #2 Bruce Esteves & Jodi Fritsch
END:VALARM
END:VEVENT
BEGIN:VEVENT
UID:eastbutler-67429@ygametime.com
DTSTAMP:20161001T140000Z
DTSTART;TZID=America/New_York:20161001T100000
DURATION:PT0H60M0S
SUMMARY:#9 John Hall vs #5 Pat Naylor & Brad Lantis
DESCRIPTION:Coed 4 & 5 | Soccer\nEAST BUTLER COUNTY YMCA\n
URL;VALUE=URI:https://ygametime.com/branch/eastbutler/sports/2016-fall-soccer/2789/?utm_medium=calendar&utm_source=team_cal&utm_content=league_url#game-67429
LOCATION:East Butler YMCA 4&5 Field #2 Yellow
BEGIN:VALARM
TRIGGER:-P2H
ACTION:DISPLAY
DESCRIPTION:#9 John Hall vs #5 Pat Naylor & Brad Lantis
END:VALARM
END:VEVENT
BEGIN:VEVENT
UID:eastbutler-67437@ygametime.com
DTSTAMP:20161008T150000Z
DTSTART;TZID=America/New_York:20161008T110000
DURATION:PT0H60M0S
SUMMARY:#5 Pat Naylor & Brad Lantis vs #11 Jason VanArsdall & Curtis Rouse 
DESCRIPTION:Coed 4 & 5 | Soccer\nEAST BUTLER COUNTY YMCA\n
URL;VALUE=URI:https://ygametime.com/branch/eastbutler/sports/2016-fall-soccer/2789/?utm_medium=calendar&utm_source=team_cal&utm_content=league_url#game-67437
LOCATION:East Butler YMCA 4&5 Field #1 Pink
BEGIN:VALARM
TRIGGER:-P2H
ACTION:DISPLAY
DESCRIPTION:#5 Pat Naylor & Brad Lantis vs #11 Jason VanArsdall & Curtis Rouse 
END:VALARM
END:VEVENT
BEGIN:VEVENT
UID:eastbutler-67442@ygametime.com
DTSTAMP:20161015T140000Z
DTSTART;TZID=America/New_York:20161015T100000
DURATION:PT0H60M0S
SUMMARY:#13 Thrasher & Speigel  vs #5 Pat Naylor & Brad Lantis
DESCRIPTION:Coed 4 & 5 | Soccer\nEAST BUTLER COUNTY YMCA\n
URL;VALUE=URI:https://ygametime.com/branch/eastbutler/sports/2016-fall-soccer/2789/?utm_medium=calendar&utm_source=team_cal&utm_content=league_url#game-67442
LOCATION:East Butler YMCA 4&5 Field #1 Pink
BEGIN:VALARM
TRIGGER:-P2H
ACTION:DISPLAY
DESCRIPTION:#13 Thrasher & Speigel  vs #5 Pat Naylor & Brad Lantis
END:VALARM
END:VEVENT
BEGIN:VEVENT
UID:eastbutler-67402@ygametime.com
DTSTAMP:20161022T150000Z
DTSTART;TZID=America/New_York:20161022T110000
DURATION:PT0H60M0S
SUMMARY:#14 Baumann &Terrell  vs #5 Pat Naylor & Brad Lantis
DESCRIPTION:Coed 4 & 5 | Soccer\nEAST BUTLER COUNTY YMCA\n
URL;VALUE=URI:https://ygametime.com/branch/eastbutler/sports/2016-fall-soccer/2789/?utm_medium=calendar&utm_source=team_cal&utm_content=league_url#game-67402
LOCATION:East Butler YMCA 4&5 Field #1 Pink
BEGIN:VALARM
TRIGGER:-P2H
ACTION:DISPLAY
DESCRIPTION:#14 Baumann &Terrell  vs #5 Pat Naylor & Brad Lantis
END:VALARM
END:VEVENT
END:VCALENDAR

