BEGIN:VCALENDAR
VERSION:2.0
PRODID:-//YGAMETIME.com//YGT iCal Creator//EN
METHOD:PUBLISH
X-PUBLISHED-TTL:PT6H
REFRESH-INTERVAL;VALUE=DURATION:PT6H
CALSCALE:GREGORIAN
X-WR-CALNAME:YGAMETIME CALENDAR
BEGIN:VTIMEZONE
TZID:America/New_York
X-LIC-LOCATION:America/New_York
BEGIN:DAYLIGHT
TZOFFSETFROM:-0500
TZOFFSETTO:-0400
TZNAME:EDT
DTSTART:19700308T020000
RRULE:FREQ=YEARLY;BYMONTH=3;BYDAY=2SU
END:DAYLIGHT
BEGIN:STANDARD
TZOFFSETFROM:-0400
TZOFFSETTO:-0500
TZNAME:EST
DTSTART:19701101T020000
RRULE:FREQ=YEARLY;BYMONTH=11;BYDAY=1SU
END:STANDARD
END:VTIMEZONE
BEGIN:VEVENT
UID:eastbutler-67397@ygametime.com
DTSTAMP:20160827T160000Z
DTSTART;TZID=America/New_York:20160827T120000
DURATION:PT0H60M0S
SUMMARY:#7 Josh Ranes & Kevin Bredek  vs #14 Baumann &Terrell 
DESCRIPTION:Coed 4 & 5 | Soccer\nEAST BUTLER COUNTY YMCA\n
URL;VALUE=URI:https://ygametime.com/branch/eastbutler/sports/2016-fall-soccer/2789/?utm_medium=calendar&utm_source=team_cal&utm_content=league_url#game-67397
LOCATION:East Butler YMCA 4&5 Field #1 Pink
BEGIN:VALARM
TRIGGER:-P2H
ACTION:DISPLAY
DESCRIPTION:#7 Josh Ranes & Kevin Bredek  vs #14 Baumann &Terrell 
END:VALARM
END:VEVENT
BEGIN:VEVENT
UID:eastbutler-67408@ygametime.com
DTSTAMP:20160910T140000Z
DTSTART;TZID=America/New_York:20160910T100000
DURATION:PT0H60M0S
SUMMARY:#7 Josh Ranes & Kevin Bredek  vs #4 Desi Molina & Matt Kollstedt
DESCRIPTION:Coed 4 & 5 | Soccer\nEAST BUTLER COUNTY YMCA\n
URL;VALUE=URI:https://ygametime.com/branch/eastbutler/sports/2016-fall-soccer/2789/?utm_medium=calendar&utm_source=team_cal&utm_content=league_url#game-67408
LOCATION:East Butler YMCA 4&5 Field #2 Yellow
BEGIN:VALARM
TRIGGER:-P2H
ACTION:DISPLAY
DESCRIPTION:#7 Josh Ranes & Kevin Bredek  vs #4 Desi Molina & Matt Kollstedt
END:VALARM
END:VEVENT
BEGIN:VEVENT
UID:eastbutler-67413@ygametime.com
DTSTAMP:20160917T130000Z
DTSTART;TZID=America/New_York:20160917T090000
DURATION:PT0H60M0S
SUMMARY:#2 Bruce Esteves & Jodi Fritsch vs #7 Josh Ranes & Kevin Bredek 
DESCRIPTION:Coed 4 & 5 | Soccer\nEAST BUTLER COUNTY YMCA\n
URL;VALUE=URI:https://ygametime.com/branch/eastbutler/sports/2016-fall-soccer/2789/?utm_medium=calendar&utm_source=team_cal&utm_content=league_url#game-67413
LOCATION:East Butler YMCA 4&5 Field #2 Yellow
BEGIN:VALARM
TRIGGER:-P2H
ACTION:DISPLAY
DESCRIPTION:#2 Bruce Esteves & Jodi Fritsch vs #7 Josh Ranes & Kevin Bredek 
END:VALARM
END:VEVENT
BEGIN:VEVENT
UID:eastbutler-67425@ygametime.com
DTSTAMP:20160924T160000Z
DTSTART;TZID=America/New_York:20160924T120000
DURATION:PT0H60M0S
SUMMARY:#7 Josh Ranes & Kevin Bredek  vs #9 John Hall
DESCRIPTION:Coed 4 & 5 | Soccer\nEAST BUTLER COUNTY YMCA\n
URL;VALUE=URI:https://ygametime.com/branch/eastbutler/sports/2016-fall-soccer/2789/?utm_medium=calendar&utm_source=team_cal&utm_content=league_url#game-67425
LOCATION:East Butler YMCA 4&5 Field #1 Pink
BEGIN:VALARM
TRIGGER:-P2H
ACTION:DISPLAY
DESCRIPTION:#7 Josh Ranes & Kevin Bredek  vs #9 John Hall
END:VALARM
END:VEVENT
BEGIN:VEVENT
UID:eastbutler-67430@ygametime.com
DTSTAMP:20161001T150000Z
DTSTART;TZID=America/New_York:20161001T110000
DURATION:PT0H60M0S
SUMMARY:#11 Jason VanArsdall & Curtis Rouse  vs #7 Josh Ranes & Kevin Bredek 
DESCRIPTION:Coed 4 & 5 | Soccer\nEAST BUTLER COUNTY YMCA\n
URL;VALUE=URI:https://ygametime.com/branch/eastbutler/sports/2016-fall-soccer/2789/?utm_medium=calendar&utm_source=team_cal&utm_content=league_url#game-67430
LOCATION:East Butler YMCA 4&5 Field #1 Pink
BEGIN:VALARM
TRIGGER:-P2H
ACTION:DISPLAY
DESCRIPTION:#11 Jason VanArsdall & Curtis Rouse  vs #7 Josh Ranes & Kevin Bredek 
END:VALARM
END:VEVENT
BEGIN:VEVENT
UID:eastbutler-67435@ygametime.com
DTSTAMP:20161008T140000Z
DTSTART;TZID=America/New_York:20161008T100000
DURATION:PT0H60M0S
SUMMARY:#7 Josh Ranes & Kevin Bredek  vs #13 Thrasher & Speigel 
DESCRIPTION:Coed 4 & 5 | Soccer\nEAST BUTLER COUNTY YMCA\n
URL;VALUE=URI:https://ygametime.com/branch/eastbutler/sports/2016-fall-soccer/2789/?utm_medium=calendar&utm_source=team_cal&utm_content=league_url#game-67435
LOCATION:East Butler YMCA 4&5 Field #1 Pink
BEGIN:VALARM
TRIGGER:-P2H
ACTION:DISPLAY
DESCRIPTION:#7 Josh Ranes & Kevin Bredek  vs #13 Thrasher & Speigel 
END:VALARM
END:VEVENT
BEGIN:VEVENT
UID:eastbutler-67440@ygametime.com
DTSTAMP:20161015T130000Z
DTSTART;TZID=America/New_York:20161015T090000
DURATION:PT0H60M0S
SUMMARY:#1 Ryan Schwartz & Paul Davidson vs #7 Josh Ranes & Kevin Bredek 
DESCRIPTION:Coed 4 & 5 | Soccer\nEAST BUTLER COUNTY YMCA\n
URL;VALUE=URI:https://ygametime.com/branch/eastbutler/sports/2016-fall-soccer/2789/?utm_medium=calendar&utm_source=team_cal&utm_content=league_url#game-67440
LOCATION:East Butler YMCA 4&5 Field #1 Pink
BEGIN:VALARM
TRIGGER:-P2H
ACTION:DISPLAY
DESCRIPTION:#1 Ryan Schwartz & Paul Davidson vs #7 Josh Ranes & Kevin Bredek 
END:VALARM
END:VEVENT
BEGIN:VEVENT
UID:eastbutler-67403@ygametime.com
DTSTAMP:20161022T150000Z
DTSTART;TZID=America/New_York:20161022T110000
DURATION:PT0H60M0S
SUMMARY:#6 Nunley & Tara Shultz vs #7 Josh Ranes & Kevin Bredek 
DESCRIPTION:Coed 4 & 5 | Soccer\nEAST BUTLER COUNTY YMCA\n
URL;VALUE=URI:https://ygametime.com/branch/eastbutler/sports/2016-fall-soccer/2789/?utm_medium=calendar&utm_source=team_cal&utm_content=league_url#game-67403
LOCATION:East Butler YMCA 4&5 Field #2 Yellow
BEGIN:VALARM
TRIGGER:-P2H
ACTION:DISPLAY
DESCRIPTION:#6 Nunley & Tara Shultz vs #7 Josh Ranes & Kevin Bredek 
END:VALARM
END:VEVENT
END:VCALENDAR

