BEGIN:VCALENDAR
VERSION:2.0
PRODID:-//YGAMETIME.com//YGT iCal Creator//EN
METHOD:PUBLISH
X-PUBLISHED-TTL:PT6H
REFRESH-INTERVAL;VALUE=DURATION:PT6H
CALSCALE:GREGORIAN
X-WR-CALNAME:YGAMETIME CALENDAR
BEGIN:VTIMEZONE
TZID:America/New_York
X-LIC-LOCATION:America/New_York
BEGIN:DAYLIGHT
TZOFFSETFROM:-0500
TZOFFSETTO:-0400
TZNAME:EDT
DTSTART:19700308T020000
RRULE:FREQ=YEARLY;BYMONTH=3;BYDAY=2SU
END:DAYLIGHT
BEGIN:STANDARD
TZOFFSETFROM:-0400
TZOFFSETTO:-0500
TZNAME:EST
DTSTART:19701101T020000
RRULE:FREQ=YEARLY;BYMONTH=11;BYDAY=1SU
END:STANDARD
END:VTIMEZONE
BEGIN:VEVENT
UID:eastbutler-67392@ygametime.com
DTSTAMP:20160827T130000Z
DTSTART;TZID=America/New_York:20160827T090000
DURATION:PT0H60M0S
SUMMARY:#9 John Hall vs #2 Bruce Esteves & Jodi Fritsch
DESCRIPTION:Coed 4 & 5 | Soccer\nEAST BUTLER COUNTY YMCA\n
URL;VALUE=URI:https://ygametime.com/branch/eastbutler/sports/2016-fall-soccer/2789/?utm_medium=calendar&utm_source=team_cal&utm_content=league_url#game-67392
LOCATION:East Butler YMCA 4&5 Field #2 Yellow
BEGIN:VALARM
TRIGGER:-P2H
ACTION:DISPLAY
DESCRIPTION:#9 John Hall vs #2 Bruce Esteves & Jodi Fritsch
END:VALARM
END:VEVENT
BEGIN:VEVENT
UID:eastbutler-67411@ygametime.com
DTSTAMP:20160910T160000Z
DTSTART;TZID=America/New_York:20160910T120000
DURATION:PT0H60M0S
SUMMARY:#11 Jason VanArsdall & Curtis Rouse  vs #9 John Hall
DESCRIPTION:Coed 4 & 5 | Soccer\nEAST BUTLER COUNTY YMCA\n
URL;VALUE=URI:https://ygametime.com/branch/eastbutler/sports/2016-fall-soccer/2789/?utm_medium=calendar&utm_source=team_cal&utm_content=league_url#game-67411
LOCATION:East Butler YMCA 4&5 Field #1 Pink
BEGIN:VALARM
TRIGGER:-P2H
ACTION:DISPLAY
DESCRIPTION:#11 Jason VanArsdall & Curtis Rouse  vs #9 John Hall
END:VALARM
END:VEVENT
BEGIN:VEVENT
UID:eastbutler-67415@ygametime.com
DTSTAMP:20160917T140000Z
DTSTART;TZID=America/New_York:20160917T100000
DURATION:PT0H60M0S
SUMMARY:#9 John Hall vs #13 Thrasher & Speigel 
DESCRIPTION:Coed 4 & 5 | Soccer\nEAST BUTLER COUNTY YMCA\n
URL;VALUE=URI:https://ygametime.com/branch/eastbutler/sports/2016-fall-soccer/2789/?utm_medium=calendar&utm_source=team_cal&utm_content=league_url#game-67415
LOCATION:East Butler YMCA 4&5 Field #2 Yellow
BEGIN:VALARM
TRIGGER:-P2H
ACTION:DISPLAY
DESCRIPTION:#9 John Hall vs #13 Thrasher & Speigel 
END:VALARM
END:VEVENT
BEGIN:VEVENT
UID:eastbutler-67425@ygametime.com
DTSTAMP:20160924T160000Z
DTSTART;TZID=America/New_York:20160924T120000
DURATION:PT0H60M0S
SUMMARY:#7 Josh Ranes & Kevin Bredek  vs #9 John Hall
DESCRIPTION:Coed 4 & 5 | Soccer\nEAST BUTLER COUNTY YMCA\n
URL;VALUE=URI:https://ygametime.com/branch/eastbutler/sports/2016-fall-soccer/2789/?utm_medium=calendar&utm_source=team_cal&utm_content=league_url#game-67425
LOCATION:East Butler YMCA 4&5 Field #1 Pink
BEGIN:VALARM
TRIGGER:-P2H
ACTION:DISPLAY
DESCRIPTION:#7 Josh Ranes & Kevin Bredek  vs #9 John Hall
END:VALARM
END:VEVENT
BEGIN:VEVENT
UID:eastbutler-67429@ygametime.com
DTSTAMP:20161001T140000Z
DTSTART;TZID=America/New_York:20161001T100000
DURATION:PT0H60M0S
SUMMARY:#9 John Hall vs #5 Pat Naylor & Brad Lantis
DESCRIPTION:Coed 4 & 5 | Soccer\nEAST BUTLER COUNTY YMCA\n
URL;VALUE=URI:https://ygametime.com/branch/eastbutler/sports/2016-fall-soccer/2789/?utm_medium=calendar&utm_source=team_cal&utm_content=league_url#game-67429
LOCATION:East Butler YMCA 4&5 Field #2 Yellow
BEGIN:VALARM
TRIGGER:-P2H
ACTION:DISPLAY
DESCRIPTION:#9 John Hall vs #5 Pat Naylor & Brad Lantis
END:VALARM
END:VEVENT
BEGIN:VEVENT
UID:eastbutler-67439@ygametime.com
DTSTAMP:20161008T160000Z
DTSTART;TZID=America/New_York:20161008T120000
DURATION:PT0H60M0S
SUMMARY:#3 Jill French  vs #9 John Hall
DESCRIPTION:Coed 4 & 5 | Soccer\nEAST BUTLER COUNTY YMCA\n
URL;VALUE=URI:https://ygametime.com/branch/eastbutler/sports/2016-fall-soccer/2789/?utm_medium=calendar&utm_source=team_cal&utm_content=league_url#game-67439
LOCATION:East Butler YMCA 4&5 Field #1 Pink
BEGIN:VALARM
TRIGGER:-P2H
ACTION:DISPLAY
DESCRIPTION:#3 Jill French  vs #9 John Hall
END:VALARM
END:VEVENT
BEGIN:VEVENT
UID:eastbutler-67446@ygametime.com
DTSTAMP:20161015T160000Z
DTSTART;TZID=America/New_York:20161015T120000
DURATION:PT0H60M0S
SUMMARY:#9 John Hall vs #8 Mark Leach & Joe Schrock 
DESCRIPTION:Coed 4 & 5 | Soccer\nEAST BUTLER COUNTY YMCA\n
URL;VALUE=URI:https://ygametime.com/branch/eastbutler/sports/2016-fall-soccer/2789/?utm_medium=calendar&utm_source=team_cal&utm_content=league_url#game-67446
LOCATION:East Butler YMCA 4&5 Field #1 Pink
BEGIN:VALARM
TRIGGER:-P2H
ACTION:DISPLAY
DESCRIPTION:#9 John Hall vs #8 Mark Leach & Joe Schrock 
END:VALARM
END:VEVENT
BEGIN:VEVENT
UID:eastbutler-67404@ygametime.com
DTSTAMP:20161022T160000Z
DTSTART;TZID=America/New_York:20161022T120000
DURATION:PT0H60M0S
SUMMARY:#1 Ryan Schwartz & Paul Davidson vs #9 John Hall
DESCRIPTION:Coed 4 & 5 | Soccer\nEAST BUTLER COUNTY YMCA\n
URL;VALUE=URI:https://ygametime.com/branch/eastbutler/sports/2016-fall-soccer/2789/?utm_medium=calendar&utm_source=team_cal&utm_content=league_url#game-67404
LOCATION:East Butler YMCA 4&5 Field #1 Pink
BEGIN:VALARM
TRIGGER:-P2H
ACTION:DISPLAY
DESCRIPTION:#1 Ryan Schwartz & Paul Davidson vs #9 John Hall
END:VALARM
END:VEVENT
END:VCALENDAR

