BEGIN:VCALENDAR
VERSION:2.0
PRODID:-//YGAMETIME.com//YGT iCal Creator//EN
METHOD:PUBLISH
X-PUBLISHED-TTL:PT6H
REFRESH-INTERVAL;VALUE=DURATION:PT6H
CALSCALE:GREGORIAN
X-WR-CALNAME:YGAMETIME CALENDAR
BEGIN:VTIMEZONE
TZID:America/New_York
X-LIC-LOCATION:America/New_York
BEGIN:DAYLIGHT
TZOFFSETFROM:-0500
TZOFFSETTO:-0400
TZNAME:EDT
DTSTART:19700308T020000
RRULE:FREQ=YEARLY;BYMONTH=3;BYDAY=2SU
END:DAYLIGHT
BEGIN:STANDARD
TZOFFSETFROM:-0400
TZOFFSETTO:-0500
TZNAME:EST
DTSTART:19701101T020000
RRULE:FREQ=YEARLY;BYMONTH=11;BYDAY=1SU
END:STANDARD
END:VTIMEZONE
BEGIN:VEVENT
UID:eastbutler-67393@ygametime.com
DTSTAMP:20160827T140000Z
DTSTART;TZID=America/New_York:20160827T100000
DURATION:PT0H60M0S
SUMMARY:#3 Jill French  vs #10 Caroline Kren 
DESCRIPTION:Coed 4 & 5 | Soccer\nEAST BUTLER COUNTY YMCA\n
URL;VALUE=URI:https://ygametime.com/branch/eastbutler/sports/2016-fall-soccer/2789/?utm_medium=calendar&utm_source=team_cal&utm_content=league_url#game-67393
LOCATION:East Butler YMCA 4&5 Field #1 Pink
BEGIN:VALARM
TRIGGER:-P2H
ACTION:DISPLAY
DESCRIPTION:#3 Jill French  vs #10 Caroline Kren 
END:VALARM
END:VEVENT
BEGIN:VEVENT
UID:eastbutler-67410@ygametime.com
DTSTAMP:20160910T150000Z
DTSTART;TZID=America/New_York:20160910T110000
DURATION:PT0H60M0S
SUMMARY:#10 Caroline Kren  vs #1 Ryan Schwartz & Paul Davidson
DESCRIPTION:Coed 4 & 5 | Soccer\nEAST BUTLER COUNTY YMCA\n
URL;VALUE=URI:https://ygametime.com/branch/eastbutler/sports/2016-fall-soccer/2789/?utm_medium=calendar&utm_source=team_cal&utm_content=league_url#game-67410
LOCATION:East Butler YMCA 4&5 Field #2 Yellow
BEGIN:VALARM
TRIGGER:-P2H
ACTION:DISPLAY
DESCRIPTION:#10 Caroline Kren  vs #1 Ryan Schwartz & Paul Davidson
END:VALARM
END:VEVENT
BEGIN:VEVENT
UID:eastbutler-67417@ygametime.com
DTSTAMP:20160917T150000Z
DTSTART;TZID=America/New_York:20160917T110000
DURATION:PT0H60M0S
SUMMARY:#12 Tim Mumma & Van Houten  vs #10 Caroline Kren 
DESCRIPTION:Coed 4 & 5 | Soccer\nEAST BUTLER COUNTY YMCA\n
URL;VALUE=URI:https://ygametime.com/branch/eastbutler/sports/2016-fall-soccer/2789/?utm_medium=calendar&utm_source=team_cal&utm_content=league_url#game-67417
LOCATION:East Butler YMCA 4&5 Field #2 Yellow
BEGIN:VALARM
TRIGGER:-P2H
ACTION:DISPLAY
DESCRIPTION:#12 Tim Mumma & Van Houten  vs #10 Caroline Kren 
END:VALARM
END:VEVENT
BEGIN:VEVENT
UID:eastbutler-67424@ygametime.com
DTSTAMP:20160924T150000Z
DTSTART;TZID=America/New_York:20160924T110000
DURATION:PT0H60M0S
SUMMARY:#10 Caroline Kren  vs #14 Baumann &Terrell 
DESCRIPTION:Coed 4 & 5 | Soccer\nEAST BUTLER COUNTY YMCA\n
URL;VALUE=URI:https://ygametime.com/branch/eastbutler/sports/2016-fall-soccer/2789/?utm_medium=calendar&utm_source=team_cal&utm_content=league_url#game-67424
LOCATION:East Butler YMCA 4&5 Field #2 Yellow
BEGIN:VALARM
TRIGGER:-P2H
ACTION:DISPLAY
DESCRIPTION:#10 Caroline Kren  vs #14 Baumann &Terrell 
END:VALARM
END:VEVENT
BEGIN:VEVENT
UID:eastbutler-67431@ygametime.com
DTSTAMP:20161001T150000Z
DTSTART;TZID=America/New_York:20161001T110000
DURATION:PT0H60M0S
SUMMARY:#6 Nunley & Tara Shultz vs #10 Caroline Kren 
DESCRIPTION:Coed 4 & 5 | Soccer\nEAST BUTLER COUNTY YMCA\n
URL;VALUE=URI:https://ygametime.com/branch/eastbutler/sports/2016-fall-soccer/2789/?utm_medium=calendar&utm_source=team_cal&utm_content=league_url#game-67431
LOCATION:East Butler YMCA 4&5 Field #2 Yellow
BEGIN:VALARM
TRIGGER:-P2H
ACTION:DISPLAY
DESCRIPTION:#6 Nunley & Tara Shultz vs #10 Caroline Kren 
END:VALARM
END:VEVENT
BEGIN:VEVENT
UID:eastbutler-67438@ygametime.com
DTSTAMP:20161008T150000Z
DTSTART;TZID=America/New_York:20161008T110000
DURATION:PT0H60M0S
SUMMARY:#10 Caroline Kren  vs #4 Desi Molina & Matt Kollstedt
DESCRIPTION:Coed 4 & 5 | Soccer\nEAST BUTLER COUNTY YMCA\n
URL;VALUE=URI:https://ygametime.com/branch/eastbutler/sports/2016-fall-soccer/2789/?utm_medium=calendar&utm_source=team_cal&utm_content=league_url#game-67438
LOCATION:East Butler YMCA 4&5 Field #2 Yellow
BEGIN:VALARM
TRIGGER:-P2H
ACTION:DISPLAY
DESCRIPTION:#10 Caroline Kren  vs #4 Desi Molina & Matt Kollstedt
END:VALARM
END:VEVENT
BEGIN:VEVENT
UID:eastbutler-67445@ygametime.com
DTSTAMP:20161015T150000Z
DTSTART;TZID=America/New_York:20161015T110000
DURATION:PT0H60M0S
SUMMARY:#2 Bruce Esteves & Jodi Fritsch vs #10 Caroline Kren 
DESCRIPTION:Coed 4 & 5 | Soccer\nEAST BUTLER COUNTY YMCA\n
URL;VALUE=URI:https://ygametime.com/branch/eastbutler/sports/2016-fall-soccer/2789/?utm_medium=calendar&utm_source=team_cal&utm_content=league_url#game-67445
LOCATION:East Butler YMCA 4&5 Field #2 Yellow
BEGIN:VALARM
TRIGGER:-P2H
ACTION:DISPLAY
DESCRIPTION:#2 Bruce Esteves & Jodi Fritsch vs #10 Caroline Kren 
END:VALARM
END:VEVENT
BEGIN:VEVENT
UID:eastbutler-67398@ygametime.com
DTSTAMP:20161022T130000Z
DTSTART;TZID=America/New_York:20161022T090000
DURATION:PT0H60M0S
SUMMARY:#10 Caroline Kren  vs #8 Mark Leach & Joe Schrock 
DESCRIPTION:Coed 4 & 5 | Soccer\nEAST BUTLER COUNTY YMCA\n
URL;VALUE=URI:https://ygametime.com/branch/eastbutler/sports/2016-fall-soccer/2789/?utm_medium=calendar&utm_source=team_cal&utm_content=league_url#game-67398
LOCATION:East Butler YMCA 4&5 Field #1 Pink
BEGIN:VALARM
TRIGGER:-P2H
ACTION:DISPLAY
DESCRIPTION:#10 Caroline Kren  vs #8 Mark Leach & Joe Schrock 
END:VALARM
END:VEVENT
END:VCALENDAR

