BEGIN:VCALENDAR
VERSION:2.0
PRODID:-//YGAMETIME.com//YGT iCal Creator//EN
METHOD:PUBLISH
X-PUBLISHED-TTL:PT6H
REFRESH-INTERVAL;VALUE=DURATION:PT6H
CALSCALE:GREGORIAN
X-WR-CALNAME:YGAMETIME CALENDAR
BEGIN:VTIMEZONE
TZID:America/New_York
X-LIC-LOCATION:America/New_York
BEGIN:DAYLIGHT
TZOFFSETFROM:-0500
TZOFFSETTO:-0400
TZNAME:EDT
DTSTART:19700308T020000
RRULE:FREQ=YEARLY;BYMONTH=3;BYDAY=2SU
END:DAYLIGHT
BEGIN:STANDARD
TZOFFSETFROM:-0400
TZOFFSETTO:-0500
TZNAME:EST
DTSTART:19701101T020000
RRULE:FREQ=YEARLY;BYMONTH=11;BYDAY=1SU
END:STANDARD
END:VTIMEZONE
BEGIN:VEVENT
UID:eastbutler-67360@ygametime.com
DTSTAMP:20160827T140000Z
DTSTART;TZID=America/New_York:20160827T100000
DURATION:PT0H60M0S
SUMMARY:#6 Perschke & Hensley vs #2 John Hall
DESCRIPTION:Coed 3 | Soccer\nEAST BUTLER COUNTY YMCA\n
URL;VALUE=URI:https://ygametime.com/branch/eastbutler/sports/2016-fall-soccer/2788/?utm_medium=calendar&utm_source=team_cal&utm_content=league_url#game-67360
LOCATION:Itty Bitty Field Purple 
BEGIN:VALARM
TRIGGER:-P2H
ACTION:DISPLAY
DESCRIPTION:#6 Perschke & Hensley vs #2 John Hall
END:VALARM
END:VEVENT
BEGIN:VEVENT
UID:eastbutler-67368@ygametime.com
DTSTAMP:20160910T140000Z
DTSTART;TZID=America/New_York:20160910T100000
DURATION:PT0H60M0S
SUMMARY:#3 Erin Gajewski vs #2 John Hall
DESCRIPTION:Coed 3 | Soccer\nEAST BUTLER COUNTY YMCA\n
URL;VALUE=URI:https://ygametime.com/branch/eastbutler/sports/2016-fall-soccer/2788/?utm_medium=calendar&utm_source=team_cal&utm_content=league_url#game-67368
LOCATION:Itty Bitty Field Purple 
BEGIN:VALARM
TRIGGER:-P2H
ACTION:DISPLAY
DESCRIPTION:#3 Erin Gajewski vs #2 John Hall
END:VALARM
END:VEVENT
BEGIN:VEVENT
UID:eastbutler-67371@ygametime.com
DTSTAMP:20160917T130000Z
DTSTART;TZID=America/New_York:20160917T090000
DURATION:PT0H60M0S
SUMMARY:#2 John Hall vs #5 Mike Baker & Ivy McDaniels
DESCRIPTION:Coed 3 | Soccer\nEAST BUTLER COUNTY YMCA\n
URL;VALUE=URI:https://ygametime.com/branch/eastbutler/sports/2016-fall-soccer/2788/?utm_medium=calendar&utm_source=team_cal&utm_content=league_url#game-67371
LOCATION:Itty Bitty Field Purple 
BEGIN:VALARM
TRIGGER:-P2H
ACTION:DISPLAY
DESCRIPTION:#2 John Hall vs #5 Mike Baker & Ivy McDaniels
END:VALARM
END:VEVENT
BEGIN:VEVENT
UID:eastbutler-67377@ygametime.com
DTSTAMP:20160924T150000Z
DTSTART;TZID=America/New_York:20160924T110000
DURATION:PT0H60M0S
SUMMARY:#7 Hosmer  vs #2 John Hall
DESCRIPTION:Coed 3 | Soccer\nEAST BUTLER COUNTY YMCA\n
URL;VALUE=URI:https://ygametime.com/branch/eastbutler/sports/2016-fall-soccer/2788/?utm_medium=calendar&utm_source=team_cal&utm_content=league_url#game-67377
LOCATION:Itty Bitty Field Purple 
BEGIN:VALARM
TRIGGER:-P2H
ACTION:DISPLAY
DESCRIPTION:#7 Hosmer  vs #2 John Hall
END:VALARM
END:VEVENT
BEGIN:VEVENT
UID:eastbutler-67379@ygametime.com
DTSTAMP:20161001T130000Z
DTSTART;TZID=America/New_York:20161001T090000
DURATION:PT0H60M0S
SUMMARY:#2 John Hall vs # 4 Matt Mink 
DESCRIPTION:Coed 3 | Soccer\nEAST BUTLER COUNTY YMCA\n
URL;VALUE=URI:https://ygametime.com/branch/eastbutler/sports/2016-fall-soccer/2788/?utm_medium=calendar&utm_source=team_cal&utm_content=league_url#game-67379
LOCATION:Itty Bitty Field Purple 
BEGIN:VALARM
TRIGGER:-P2H
ACTION:DISPLAY
DESCRIPTION:#2 John Hall vs # 4 Matt Mink 
END:VALARM
END:VEVENT
BEGIN:VEVENT
UID:eastbutler-67385@ygametime.com
DTSTAMP:20161008T150000Z
DTSTART;TZID=America/New_York:20161008T110000
DURATION:PT0H60M0S
SUMMARY:#2 John Hall vs #1 Mike Myers 
DESCRIPTION:Coed 3 | Soccer\nEAST BUTLER COUNTY YMCA\n
URL;VALUE=URI:https://ygametime.com/branch/eastbutler/sports/2016-fall-soccer/2788/?utm_medium=calendar&utm_source=team_cal&utm_content=league_url#game-67385
LOCATION:Itty Bitty Field Purple 
BEGIN:VALARM
TRIGGER:-P2H
ACTION:DISPLAY
DESCRIPTION:#2 John Hall vs #1 Mike Myers 
END:VALARM
END:VEVENT
BEGIN:VEVENT
UID:eastbutler-67389@ygametime.com
DTSTAMP:20161015T150000Z
DTSTART;TZID=America/New_York:20161015T110000
DURATION:PT0H60M0S
SUMMARY:#6 Perschke & Hensley vs #2 John Hall
DESCRIPTION:Coed 3 | Soccer\nEAST BUTLER COUNTY YMCA\n
URL;VALUE=URI:https://ygametime.com/branch/eastbutler/sports/2016-fall-soccer/2788/?utm_medium=calendar&utm_source=team_cal&utm_content=league_url#game-67389
LOCATION:Itty Bitty Field Purple 
BEGIN:VALARM
TRIGGER:-P2H
ACTION:DISPLAY
DESCRIPTION:#6 Perschke & Hensley vs #2 John Hall
END:VALARM
END:VEVENT
BEGIN:VEVENT
UID:eastbutler-67364@ygametime.com
DTSTAMP:20161022T140000Z
DTSTART;TZID=America/New_York:20161022T100000
DURATION:PT0H60M0S
SUMMARY:#2 John Hall vs #8 Falconer 
DESCRIPTION:Coed 3 | Soccer\nEAST BUTLER COUNTY YMCA\n
URL;VALUE=URI:https://ygametime.com/branch/eastbutler/sports/2016-fall-soccer/2788/?utm_medium=calendar&utm_source=team_cal&utm_content=league_url#game-67364
LOCATION:Itty Bitty Field Purple 
BEGIN:VALARM
TRIGGER:-P2H
ACTION:DISPLAY
DESCRIPTION:#2 John Hall vs #8 Falconer 
END:VALARM
END:VEVENT
END:VCALENDAR

