BEGIN:VCALENDAR
VERSION:2.0
PRODID:-//YGAMETIME.com//YGT iCal Creator//EN
METHOD:PUBLISH
X-PUBLISHED-TTL:PT6H
REFRESH-INTERVAL;VALUE=DURATION:PT6H
CALSCALE:GREGORIAN
X-WR-CALNAME:YGAMETIME CALENDAR
BEGIN:VTIMEZONE
TZID:America/New_York
X-LIC-LOCATION:America/New_York
BEGIN:DAYLIGHT
TZOFFSETFROM:-0500
TZOFFSETTO:-0400
TZNAME:EDT
DTSTART:19700308T020000
RRULE:FREQ=YEARLY;BYMONTH=3;BYDAY=2SU
END:DAYLIGHT
BEGIN:STANDARD
TZOFFSETFROM:-0400
TZOFFSETTO:-0500
TZNAME:EST
DTSTART:19701101T020000
RRULE:FREQ=YEARLY;BYMONTH=11;BYDAY=1SU
END:STANDARD
END:VTIMEZONE
BEGIN:VEVENT
UID:eastbutler-67359@ygametime.com
DTSTAMP:20160827T130000Z
DTSTART;TZID=America/New_York:20160827T090000
DURATION:PT0H60M0S
SUMMARY:#5 Mike Baker & Ivy McDaniels vs #1 Mike Myers 
DESCRIPTION:Coed 3 | Soccer\nEAST BUTLER COUNTY YMCA\n
URL;VALUE=URI:https://ygametime.com/branch/eastbutler/sports/2016-fall-soccer/2788/?utm_medium=calendar&utm_source=team_cal&utm_content=league_url#game-67359
LOCATION:Itty Bitty Field Purple 
BEGIN:VALARM
TRIGGER:-P2H
ACTION:DISPLAY
DESCRIPTION:#5 Mike Baker & Ivy McDaniels vs #1 Mike Myers 
END:VALARM
END:VEVENT
BEGIN:VEVENT
UID:eastbutler-67367@ygametime.com
DTSTAMP:20160910T130000Z
DTSTART;TZID=America/New_York:20160910T090000
DURATION:PT0H60M0S
SUMMARY:#5 Mike Baker & Ivy McDaniels vs # 4 Matt Mink 
DESCRIPTION:Coed 3 | Soccer\nEAST BUTLER COUNTY YMCA\n
URL;VALUE=URI:https://ygametime.com/branch/eastbutler/sports/2016-fall-soccer/2788/?utm_medium=calendar&utm_source=team_cal&utm_content=league_url#game-67367
LOCATION:Itty Bitty Field Purple 
BEGIN:VALARM
TRIGGER:-P2H
ACTION:DISPLAY
DESCRIPTION:#5 Mike Baker & Ivy McDaniels vs # 4 Matt Mink 
END:VALARM
END:VEVENT
BEGIN:VEVENT
UID:eastbutler-67371@ygametime.com
DTSTAMP:20160917T130000Z
DTSTART;TZID=America/New_York:20160917T090000
DURATION:PT0H60M0S
SUMMARY:#2 John Hall vs #5 Mike Baker & Ivy McDaniels
DESCRIPTION:Coed 3 | Soccer\nEAST BUTLER COUNTY YMCA\n
URL;VALUE=URI:https://ygametime.com/branch/eastbutler/sports/2016-fall-soccer/2788/?utm_medium=calendar&utm_source=team_cal&utm_content=league_url#game-67371
LOCATION:Itty Bitty Field Purple 
BEGIN:VALARM
TRIGGER:-P2H
ACTION:DISPLAY
DESCRIPTION:#2 John Hall vs #5 Mike Baker & Ivy McDaniels
END:VALARM
END:VEVENT
BEGIN:VEVENT
UID:eastbutler-67378@ygametime.com
DTSTAMP:20160924T160000Z
DTSTART;TZID=America/New_York:20160924T120000
DURATION:PT0H60M0S
SUMMARY:#5 Mike Baker & Ivy McDaniels vs #6 Perschke & Hensley
DESCRIPTION:Coed 3 | Soccer\nEAST BUTLER COUNTY YMCA\n
URL;VALUE=URI:https://ygametime.com/branch/eastbutler/sports/2016-fall-soccer/2788/?utm_medium=calendar&utm_source=team_cal&utm_content=league_url#game-67378
LOCATION:Itty Bitty Field Purple 
BEGIN:VALARM
TRIGGER:-P2H
ACTION:DISPLAY
DESCRIPTION:#5 Mike Baker & Ivy McDaniels vs #6 Perschke & Hensley
END:VALARM
END:VEVENT
BEGIN:VEVENT
UID:eastbutler-67380@ygametime.com
DTSTAMP:20161001T140000Z
DTSTART;TZID=America/New_York:20161001T100000
DURATION:PT0H60M0S
SUMMARY:#8 Falconer  vs #5 Mike Baker & Ivy McDaniels
DESCRIPTION:Coed 3 | Soccer\nEAST BUTLER COUNTY YMCA\n
URL;VALUE=URI:https://ygametime.com/branch/eastbutler/sports/2016-fall-soccer/2788/?utm_medium=calendar&utm_source=team_cal&utm_content=league_url#game-67380
LOCATION:Itty Bitty Field Purple 
BEGIN:VALARM
TRIGGER:-P2H
ACTION:DISPLAY
DESCRIPTION:#8 Falconer  vs #5 Mike Baker & Ivy McDaniels
END:VALARM
END:VEVENT
BEGIN:VEVENT
UID:eastbutler-67386@ygametime.com
DTSTAMP:20161008T160000Z
DTSTART;TZID=America/New_York:20161008T120000
DURATION:PT0H60M0S
SUMMARY:#5 Mike Baker & Ivy McDaniels vs #3 Erin Gajewski
DESCRIPTION:Coed 3 | Soccer\nEAST BUTLER COUNTY YMCA\n
URL;VALUE=URI:https://ygametime.com/branch/eastbutler/sports/2016-fall-soccer/2788/?utm_medium=calendar&utm_source=team_cal&utm_content=league_url#game-67386
LOCATION:Itty Bitty Field Purple 
BEGIN:VALARM
TRIGGER:-P2H
ACTION:DISPLAY
DESCRIPTION:#5 Mike Baker & Ivy McDaniels vs #3 Erin Gajewski
END:VALARM
END:VEVENT
BEGIN:VEVENT
UID:eastbutler-67388@ygametime.com
DTSTAMP:20161015T140000Z
DTSTART;TZID=America/New_York:20161015T100000
DURATION:PT0H60M0S
SUMMARY:#5 Mike Baker & Ivy McDaniels vs #1 Mike Myers 
DESCRIPTION:Coed 3 | Soccer\nEAST BUTLER COUNTY YMCA\n
URL;VALUE=URI:https://ygametime.com/branch/eastbutler/sports/2016-fall-soccer/2788/?utm_medium=calendar&utm_source=team_cal&utm_content=league_url#game-67388
LOCATION:Itty Bitty Field Purple 
BEGIN:VALARM
TRIGGER:-P2H
ACTION:DISPLAY
DESCRIPTION:#5 Mike Baker & Ivy McDaniels vs #1 Mike Myers 
END:VALARM
END:VEVENT
BEGIN:VEVENT
UID:eastbutler-67363@ygametime.com
DTSTAMP:20161022T130000Z
DTSTART;TZID=America/New_York:20161022T090000
DURATION:PT0H60M0S
SUMMARY:#7 Hosmer  vs #5 Mike Baker & Ivy McDaniels
DESCRIPTION:Coed 3 | Soccer\nEAST BUTLER COUNTY YMCA\n
URL;VALUE=URI:https://ygametime.com/branch/eastbutler/sports/2016-fall-soccer/2788/?utm_medium=calendar&utm_source=team_cal&utm_content=league_url#game-67363
LOCATION:Itty Bitty Field Purple 
BEGIN:VALARM
TRIGGER:-P2H
ACTION:DISPLAY
DESCRIPTION:#7 Hosmer  vs #5 Mike Baker & Ivy McDaniels
END:VALARM
END:VEVENT
END:VCALENDAR

