BEGIN:VCALENDAR
VERSION:2.0
PRODID:-//YGAMETIME.com//YGT iCal Creator//EN
METHOD:PUBLISH
X-PUBLISHED-TTL:PT6H
REFRESH-INTERVAL;VALUE=DURATION:PT6H
CALSCALE:GREGORIAN
X-WR-CALNAME:YGAMETIME CALENDAR
BEGIN:VTIMEZONE
TZID:America/New_York
X-LIC-LOCATION:America/New_York
BEGIN:DAYLIGHT
TZOFFSETFROM:-0500
TZOFFSETTO:-0400
TZNAME:EDT
DTSTART:19700308T020000
RRULE:FREQ=YEARLY;BYMONTH=3;BYDAY=2SU
END:DAYLIGHT
BEGIN:STANDARD
TZOFFSETFROM:-0400
TZOFFSETTO:-0500
TZNAME:EST
DTSTART:19701101T020000
RRULE:FREQ=YEARLY;BYMONTH=11;BYDAY=1SU
END:STANDARD
END:VTIMEZONE
BEGIN:VEVENT
UID:eastbutler-67362@ygametime.com
DTSTAMP:20160827T160000Z
DTSTART;TZID=America/New_York:20160827T120000
DURATION:PT0H60M0S
SUMMARY:#8 Falconer  vs # 4 Matt Mink 
DESCRIPTION:Coed 3 | Soccer\nEAST BUTLER COUNTY YMCA\n
URL;VALUE=URI:https://ygametime.com/branch/eastbutler/sports/2016-fall-soccer/2788/?utm_medium=calendar&utm_source=team_cal&utm_content=league_url#game-67362
LOCATION:Itty Bitty Field Purple 
BEGIN:VALARM
TRIGGER:-P2H
ACTION:DISPLAY
DESCRIPTION:#8 Falconer  vs # 4 Matt Mink 
END:VALARM
END:VEVENT
BEGIN:VEVENT
UID:eastbutler-67370@ygametime.com
DTSTAMP:20160910T160000Z
DTSTART;TZID=America/New_York:20160910T120000
DURATION:PT0H60M0S
SUMMARY:#8 Falconer  vs #6 Perschke & Hensley
DESCRIPTION:Coed 3 | Soccer\nEAST BUTLER COUNTY YMCA\n
URL;VALUE=URI:https://ygametime.com/branch/eastbutler/sports/2016-fall-soccer/2788/?utm_medium=calendar&utm_source=team_cal&utm_content=league_url#game-67370
LOCATION:Itty Bitty Field Purple 
BEGIN:VALARM
TRIGGER:-P2H
ACTION:DISPLAY
DESCRIPTION:#8 Falconer  vs #6 Perschke & Hensley
END:VALARM
END:VEVENT
BEGIN:VEVENT
UID:eastbutler-67372@ygametime.com
DTSTAMP:20160917T140000Z
DTSTART;TZID=America/New_York:20160917T100000
DURATION:PT0H60M0S
SUMMARY:#1 Mike Myers  vs #8 Falconer 
DESCRIPTION:Coed 3 | Soccer\nEAST BUTLER COUNTY YMCA\n
URL;VALUE=URI:https://ygametime.com/branch/eastbutler/sports/2016-fall-soccer/2788/?utm_medium=calendar&utm_source=team_cal&utm_content=league_url#game-67372
LOCATION:Itty Bitty Field Purple 
BEGIN:VALARM
TRIGGER:-P2H
ACTION:DISPLAY
DESCRIPTION:#1 Mike Myers  vs #8 Falconer 
END:VALARM
END:VEVENT
BEGIN:VEVENT
UID:eastbutler-67376@ygametime.com
DTSTAMP:20160924T140000Z
DTSTART;TZID=America/New_York:20160924T100000
DURATION:PT0H60M0S
SUMMARY:#3 Erin Gajewski vs #8 Falconer 
DESCRIPTION:Coed 3 | Soccer\nEAST BUTLER COUNTY YMCA\n
URL;VALUE=URI:https://ygametime.com/branch/eastbutler/sports/2016-fall-soccer/2788/?utm_medium=calendar&utm_source=team_cal&utm_content=league_url#game-67376
LOCATION:Itty Bitty Field Purple 
BEGIN:VALARM
TRIGGER:-P2H
ACTION:DISPLAY
DESCRIPTION:#3 Erin Gajewski vs #8 Falconer 
END:VALARM
END:VEVENT
BEGIN:VEVENT
UID:eastbutler-67380@ygametime.com
DTSTAMP:20161001T140000Z
DTSTART;TZID=America/New_York:20161001T100000
DURATION:PT0H60M0S
SUMMARY:#8 Falconer  vs #5 Mike Baker & Ivy McDaniels
DESCRIPTION:Coed 3 | Soccer\nEAST BUTLER COUNTY YMCA\n
URL;VALUE=URI:https://ygametime.com/branch/eastbutler/sports/2016-fall-soccer/2788/?utm_medium=calendar&utm_source=team_cal&utm_content=league_url#game-67380
LOCATION:Itty Bitty Field Purple 
BEGIN:VALARM
TRIGGER:-P2H
ACTION:DISPLAY
DESCRIPTION:#8 Falconer  vs #5 Mike Baker & Ivy McDaniels
END:VALARM
END:VEVENT
BEGIN:VEVENT
UID:eastbutler-67384@ygametime.com
DTSTAMP:20161008T140000Z
DTSTART;TZID=America/New_York:20161008T100000
DURATION:PT0H60M0S
SUMMARY:#7 Hosmer  vs #8 Falconer 
DESCRIPTION:Coed 3 | Soccer\nEAST BUTLER COUNTY YMCA\n
URL;VALUE=URI:https://ygametime.com/branch/eastbutler/sports/2016-fall-soccer/2788/?utm_medium=calendar&utm_source=team_cal&utm_content=league_url#game-67384
LOCATION:Itty Bitty Field Purple 
BEGIN:VALARM
TRIGGER:-P2H
ACTION:DISPLAY
DESCRIPTION:#7 Hosmer  vs #8 Falconer 
END:VALARM
END:VEVENT
BEGIN:VEVENT
UID:eastbutler-67387@ygametime.com
DTSTAMP:20161015T130000Z
DTSTART;TZID=America/New_York:20161015T090000
DURATION:PT0H60M0S
SUMMARY:#8 Falconer  vs # 4 Matt Mink 
DESCRIPTION:Coed 3 | Soccer\nEAST BUTLER COUNTY YMCA\n
URL;VALUE=URI:https://ygametime.com/branch/eastbutler/sports/2016-fall-soccer/2788/?utm_medium=calendar&utm_source=team_cal&utm_content=league_url#game-67387
LOCATION:Itty Bitty Field Purple 
BEGIN:VALARM
TRIGGER:-P2H
ACTION:DISPLAY
DESCRIPTION:#8 Falconer  vs # 4 Matt Mink 
END:VALARM
END:VEVENT
BEGIN:VEVENT
UID:eastbutler-67364@ygametime.com
DTSTAMP:20161022T140000Z
DTSTART;TZID=America/New_York:20161022T100000
DURATION:PT0H60M0S
SUMMARY:#2 John Hall vs #8 Falconer 
DESCRIPTION:Coed 3 | Soccer\nEAST BUTLER COUNTY YMCA\n
URL;VALUE=URI:https://ygametime.com/branch/eastbutler/sports/2016-fall-soccer/2788/?utm_medium=calendar&utm_source=team_cal&utm_content=league_url#game-67364
LOCATION:Itty Bitty Field Purple 
BEGIN:VALARM
TRIGGER:-P2H
ACTION:DISPLAY
DESCRIPTION:#2 John Hall vs #8 Falconer 
END:VALARM
END:VEVENT
END:VCALENDAR

