BEGIN:VCALENDAR
VERSION:2.0
PRODID:-//YGAMETIME.com//YGT iCal Creator//EN
METHOD:PUBLISH
X-PUBLISHED-TTL:PT6H
REFRESH-INTERVAL;VALUE=DURATION:PT6H
CALSCALE:GREGORIAN
X-WR-CALNAME:YGAMETIME CALENDAR
BEGIN:VTIMEZONE
TZID:America/New_York
X-LIC-LOCATION:America/New_York
BEGIN:DAYLIGHT
TZOFFSETFROM:-0500
TZOFFSETTO:-0400
TZNAME:EDT
DTSTART:19700308T020000
RRULE:FREQ=YEARLY;BYMONTH=3;BYDAY=2SU
END:DAYLIGHT
BEGIN:STANDARD
TZOFFSETFROM:-0400
TZOFFSETTO:-0500
TZNAME:EST
DTSTART:19701101T020000
RRULE:FREQ=YEARLY;BYMONTH=11;BYDAY=1SU
END:STANDARD
END:VTIMEZONE
BEGIN:VEVENT
UID:fairfield-11352@ygametime.com
DTSTAMP:20150530T143000Z
DTSTART;TZID=America/New_York:20150530T103000
DURATION:PT0H90M0S
SUMMARY:White Sox vs Indians
DESCRIPTION:Machine Pitch | Baseball\nFAIRFIELD FAMILY YMCA\n
URL;VALUE=URI:https://ygametime.com/branch/fairfield/sports/2015-summer-baseball/512/?utm_medium=calendar&utm_source=team_cal&utm_content=league_url#game-11352
LOCATION:Fairfield Middle School Field
BEGIN:VALARM
TRIGGER:-P2H
ACTION:DISPLAY
DESCRIPTION:White Sox vs Indians
END:VALARM
END:VEVENT
BEGIN:VEVENT
UID:fairfield-11360@ygametime.com
DTSTAMP:20150606T130000Z
DTSTART;TZID=America/New_York:20150606T090000
DURATION:PT0H90M0S
SUMMARY:White Sox vs Red Sox
DESCRIPTION:Machine Pitch | Baseball\nFAIRFIELD FAMILY YMCA\n
URL;VALUE=URI:https://ygametime.com/branch/fairfield/sports/2015-summer-baseball/512/?utm_medium=calendar&utm_source=team_cal&utm_content=league_url#game-11360
LOCATION:Fairfield Middle School Field
BEGIN:VALARM
TRIGGER:-P2H
ACTION:DISPLAY
DESCRIPTION:White Sox vs Red Sox
END:VALARM
END:VEVENT
BEGIN:VEVENT
UID:fairfield-11375@ygametime.com
DTSTAMP:20150610T223000Z
DTSTART;TZID=America/New_York:20150610T183000
DURATION:PT0H0M0S
SUMMARY:Giants vs White Sox
DESCRIPTION:Machine Pitch | Baseball\nFAIRFIELD FAMILY YMCA\n
URL;VALUE=URI:https://ygametime.com/branch/fairfield/sports/2015-summer-baseball/512/?utm_medium=calendar&utm_source=team_cal&utm_content=league_url#game-11375
LOCATION:Hamilton Freshman Softball Field
BEGIN:VALARM
TRIGGER:-P2H
ACTION:DISPLAY
DESCRIPTION:Giants vs White Sox
END:VALARM
END:VEVENT
BEGIN:VEVENT
UID:fairfield-11376@ygametime.com
DTSTAMP:20150617T223000Z
DTSTART;TZID=America/New_York:20150617T183000
DURATION:PT0H0M0S
SUMMARY:White Sox vs Blue Jays
DESCRIPTION:Machine Pitch | Baseball\nFAIRFIELD FAMILY YMCA\n
URL;VALUE=URI:https://ygametime.com/branch/fairfield/sports/2015-summer-baseball/512/?utm_medium=calendar&utm_source=team_cal&utm_content=league_url#game-11376
LOCATION:Hamilton Freshman Softball Field
BEGIN:VALARM
TRIGGER:-P2H
ACTION:DISPLAY
DESCRIPTION:White Sox vs Blue Jays
END:VALARM
END:VEVENT
BEGIN:VEVENT
UID:fairfield-11363@ygametime.com
DTSTAMP:20150627T130000Z
DTSTART;TZID=America/New_York:20150627T090000
DURATION:PT0H90M0S
SUMMARY:Giants vs White Sox
DESCRIPTION:Machine Pitch | Baseball\nFAIRFIELD FAMILY YMCA\n
URL;VALUE=URI:https://ygametime.com/branch/fairfield/sports/2015-summer-baseball/512/?utm_medium=calendar&utm_source=team_cal&utm_content=league_url#game-11363
LOCATION:Fairfield Middle School Field
BEGIN:VALARM
TRIGGER:-P2H
ACTION:DISPLAY
DESCRIPTION:Giants vs White Sox
END:VALARM
END:VEVENT
BEGIN:VEVENT
UID:fairfield-11378@ygametime.com
DTSTAMP:20150708T223000Z
DTSTART;TZID=America/New_York:20150708T183000
DURATION:PT0H0M0S
SUMMARY:White Sox vs Blue Jays
DESCRIPTION:Machine Pitch | Baseball\nFAIRFIELD FAMILY YMCA\n
URL;VALUE=URI:https://ygametime.com/branch/fairfield/sports/2015-summer-baseball/512/?utm_medium=calendar&utm_source=team_cal&utm_content=league_url#game-11378
LOCATION:Hamilton Freshman Softball Field
BEGIN:VALARM
TRIGGER:-P2H
ACTION:DISPLAY
DESCRIPTION:White Sox vs Blue Jays
END:VALARM
END:VEVENT
BEGIN:VEVENT
UID:fairfield-11367@ygametime.com
DTSTAMP:20150711T143000Z
DTSTART;TZID=America/New_York:20150711T103000
DURATION:PT0H90M0S
SUMMARY:White Sox vs Indians
DESCRIPTION:Machine Pitch | Baseball\nFAIRFIELD FAMILY YMCA\n
URL;VALUE=URI:https://ygametime.com/branch/fairfield/sports/2015-summer-baseball/512/?utm_medium=calendar&utm_source=team_cal&utm_content=league_url#game-11367
LOCATION:Fairfield Middle School Field
BEGIN:VALARM
TRIGGER:-P2H
ACTION:DISPLAY
DESCRIPTION:White Sox vs Indians
END:VALARM
END:VEVENT
BEGIN:VEVENT
UID:fairfield-11369@ygametime.com
DTSTAMP:20150718T130000Z
DTSTART;TZID=America/New_York:20150718T090000
DURATION:PT0H90M0S
SUMMARY:White Sox vs Red Sox
DESCRIPTION:Machine Pitch | Baseball\nFAIRFIELD FAMILY YMCA\n
URL;VALUE=URI:https://ygametime.com/branch/fairfield/sports/2015-summer-baseball/512/?utm_medium=calendar&utm_source=team_cal&utm_content=league_url#game-11369
LOCATION:Fairfield Middle School Field
BEGIN:VALARM
TRIGGER:-P2H
ACTION:DISPLAY
DESCRIPTION:White Sox vs Red Sox
END:VALARM
END:VEVENT
BEGIN:VEVENT
UID:fairfield-11380@ygametime.com
DTSTAMP:20150722T223000Z
DTSTART;TZID=America/New_York:20150722T183000
DURATION:PT0H0M0S
SUMMARY:Giants vs White Sox
DESCRIPTION:Machine Pitch | Baseball\nFAIRFIELD FAMILY YMCA\n
URL;VALUE=URI:https://ygametime.com/branch/fairfield/sports/2015-summer-baseball/512/?utm_medium=calendar&utm_source=team_cal&utm_content=league_url#game-11380
LOCATION:Hamilton Freshman Softball Field
BEGIN:VALARM
TRIGGER:-P2H
ACTION:DISPLAY
DESCRIPTION:Giants vs White Sox
END:VALARM
END:VEVENT
BEGIN:VEVENT
UID:fairfield-11381@ygametime.com
DTSTAMP:20150729T223000Z
DTSTART;TZID=America/New_York:20150729T183000
DURATION:PT0H0M0S
SUMMARY:White Sox vs Red Sox
DESCRIPTION:Machine Pitch | Baseball\nFAIRFIELD FAMILY YMCA\n
URL;VALUE=URI:https://ygametime.com/branch/fairfield/sports/2015-summer-baseball/512/?utm_medium=calendar&utm_source=team_cal&utm_content=league_url#game-11381
LOCATION:Hamilton Freshman Softball Field
BEGIN:VALARM
TRIGGER:-P2H
ACTION:DISPLAY
DESCRIPTION:White Sox vs Red Sox
END:VALARM
END:VEVENT
END:VCALENDAR

