BEGIN:VCALENDAR
VERSION:2.0
PRODID:-//YGAMETIME.com//YGT iCal Creator//EN
METHOD:PUBLISH
X-PUBLISHED-TTL:PT6H
REFRESH-INTERVAL;VALUE=DURATION:PT6H
CALSCALE:GREGORIAN
X-WR-CALNAME:YGAMETIME CALENDAR
BEGIN:VTIMEZONE
TZID:America/New_York
X-LIC-LOCATION:America/New_York
BEGIN:DAYLIGHT
TZOFFSETFROM:-0500
TZOFFSETTO:-0400
TZNAME:EDT
DTSTART:19700308T020000
RRULE:FREQ=YEARLY;BYMONTH=3;BYDAY=2SU
END:DAYLIGHT
BEGIN:STANDARD
TZOFFSETFROM:-0400
TZOFFSETTO:-0500
TZNAME:EST
DTSTART:19701101T020000
RRULE:FREQ=YEARLY;BYMONTH=11;BYDAY=1SU
END:STANDARD
END:VTIMEZONE
BEGIN:VEVENT
UID:fairfield-11351@ygametime.com
DTSTAMP:20150530T130000Z
DTSTART;TZID=America/New_York:20150530T090000
DURATION:PT0H90M0S
SUMMARY:Giants vs Blue Jays
DESCRIPTION:Machine Pitch | Baseball\nFAIRFIELD FAMILY YMCA\n
URL;VALUE=URI:https://ygametime.com/branch/fairfield/sports/2015-summer-baseball/512/?utm_medium=calendar&utm_source=team_cal&utm_content=league_url#game-11351
LOCATION:Fairfield Middle School Field
BEGIN:VALARM
TRIGGER:-P2H
ACTION:DISPLAY
DESCRIPTION:Giants vs Blue Jays
END:VALARM
END:VEVENT
BEGIN:VEVENT
UID:fairfield-11361@ygametime.com
DTSTAMP:20150606T143000Z
DTSTART;TZID=America/New_York:20150606T103000
DURATION:PT0H90M0S
SUMMARY:Blue Jays vs Indians
DESCRIPTION:Machine Pitch | Baseball\nFAIRFIELD FAMILY YMCA\n
URL;VALUE=URI:https://ygametime.com/branch/fairfield/sports/2015-summer-baseball/512/?utm_medium=calendar&utm_source=team_cal&utm_content=league_url#game-11361
LOCATION:Fairfield Middle School Field
BEGIN:VALARM
TRIGGER:-P2H
ACTION:DISPLAY
DESCRIPTION:Blue Jays vs Indians
END:VALARM
END:VEVENT
BEGIN:VEVENT
UID:fairfield-11354@ygametime.com
DTSTAMP:20150613T130000Z
DTSTART;TZID=America/New_York:20150613T090000
DURATION:PT0H90M0S
SUMMARY:Blue Jays vs Red Sox
DESCRIPTION:Machine Pitch | Baseball\nFAIRFIELD FAMILY YMCA\n
URL;VALUE=URI:https://ygametime.com/branch/fairfield/sports/2015-summer-baseball/512/?utm_medium=calendar&utm_source=team_cal&utm_content=league_url#game-11354
LOCATION:Fairfield Middle School Field
BEGIN:VALARM
TRIGGER:-P2H
ACTION:DISPLAY
DESCRIPTION:Blue Jays vs Red Sox
END:VALARM
END:VEVENT
BEGIN:VEVENT
UID:fairfield-11376@ygametime.com
DTSTAMP:20150617T223000Z
DTSTART;TZID=America/New_York:20150617T183000
DURATION:PT0H0M0S
SUMMARY:White Sox vs Blue Jays
DESCRIPTION:Machine Pitch | Baseball\nFAIRFIELD FAMILY YMCA\n
URL;VALUE=URI:https://ygametime.com/branch/fairfield/sports/2015-summer-baseball/512/?utm_medium=calendar&utm_source=team_cal&utm_content=league_url#game-11376
LOCATION:Hamilton Freshman Softball Field
BEGIN:VALARM
TRIGGER:-P2H
ACTION:DISPLAY
DESCRIPTION:White Sox vs Blue Jays
END:VALARM
END:VEVENT
BEGIN:VEVENT
UID:fairfield-11358@ygametime.com
DTSTAMP:20150620T143000Z
DTSTART;TZID=America/New_York:20150620T103000
DURATION:PT0H90M0S
SUMMARY:Blue Jays vs Indians
DESCRIPTION:Machine Pitch | Baseball\nFAIRFIELD FAMILY YMCA\n
URL;VALUE=URI:https://ygametime.com/branch/fairfield/sports/2015-summer-baseball/512/?utm_medium=calendar&utm_source=team_cal&utm_content=league_url#game-11358
LOCATION:Fairfield Middle School Field
BEGIN:VALARM
TRIGGER:-P2H
ACTION:DISPLAY
DESCRIPTION:Blue Jays vs Indians
END:VALARM
END:VEVENT
BEGIN:VEVENT
UID:fairfield-11377@ygametime.com
DTSTAMP:20150624T223000Z
DTSTART;TZID=America/New_York:20150624T183000
DURATION:PT0H0M0S
SUMMARY:Blue Jays vs Red Sox
DESCRIPTION:Machine Pitch | Baseball\nFAIRFIELD FAMILY YMCA\n
URL;VALUE=URI:https://ygametime.com/branch/fairfield/sports/2015-summer-baseball/512/?utm_medium=calendar&utm_source=team_cal&utm_content=league_url#game-11377
LOCATION:Hamilton Freshman Softball Field
BEGIN:VALARM
TRIGGER:-P2H
ACTION:DISPLAY
DESCRIPTION:Blue Jays vs Red Sox
END:VALARM
END:VEVENT
BEGIN:VEVENT
UID:fairfield-11378@ygametime.com
DTSTAMP:20150708T223000Z
DTSTART;TZID=America/New_York:20150708T183000
DURATION:PT0H0M0S
SUMMARY:White Sox vs Blue Jays
DESCRIPTION:Machine Pitch | Baseball\nFAIRFIELD FAMILY YMCA\n
URL;VALUE=URI:https://ygametime.com/branch/fairfield/sports/2015-summer-baseball/512/?utm_medium=calendar&utm_source=team_cal&utm_content=league_url#game-11378
LOCATION:Hamilton Freshman Softball Field
BEGIN:VALARM
TRIGGER:-P2H
ACTION:DISPLAY
DESCRIPTION:White Sox vs Blue Jays
END:VALARM
END:VEVENT
BEGIN:VEVENT
UID:fairfield-11370@ygametime.com
DTSTAMP:20150718T143000Z
DTSTART;TZID=America/New_York:20150718T103000
DURATION:PT0H90M0S
SUMMARY:Blue Jays vs Indians
DESCRIPTION:Machine Pitch | Baseball\nFAIRFIELD FAMILY YMCA\n
URL;VALUE=URI:https://ygametime.com/branch/fairfield/sports/2015-summer-baseball/512/?utm_medium=calendar&utm_source=team_cal&utm_content=league_url#game-11370
LOCATION:Fairfield Middle School Field
BEGIN:VALARM
TRIGGER:-P2H
ACTION:DISPLAY
DESCRIPTION:Blue Jays vs Indians
END:VALARM
END:VEVENT
BEGIN:VEVENT
UID:fairfield-11373@ygametime.com
DTSTAMP:20150725T143000Z
DTSTART;TZID=America/New_York:20150725T103000
DURATION:PT0H90M0S
SUMMARY:Giants vs Blue Jays
DESCRIPTION:Machine Pitch | Baseball\nFAIRFIELD FAMILY YMCA\n
URL;VALUE=URI:https://ygametime.com/branch/fairfield/sports/2015-summer-baseball/512/?utm_medium=calendar&utm_source=team_cal&utm_content=league_url#game-11373
LOCATION:Fairfield Middle School Field
BEGIN:VALARM
TRIGGER:-P2H
ACTION:DISPLAY
DESCRIPTION:Giants vs Blue Jays
END:VALARM
END:VEVENT
END:VCALENDAR

