BEGIN:VCALENDAR
VERSION:2.0
PRODID:-//YGAMETIME.com//YGT iCal Creator//EN
METHOD:PUBLISH
X-PUBLISHED-TTL:PT6H
REFRESH-INTERVAL;VALUE=DURATION:PT6H
CALSCALE:GREGORIAN
X-WR-CALNAME:YGAMETIME CALENDAR
BEGIN:VTIMEZONE
TZID:America/Chicago
X-LIC-LOCATION:America/Chicago
BEGIN:DAYLIGHT
TZOFFSETFROM:-0600
TZOFFSETTO:-0500
TZNAME:CDT
DTSTART:19700308T020000
RRULE:FREQ=YEARLY;BYMONTH=3;BYDAY=2SU
END:DAYLIGHT
BEGIN:STANDARD
TZOFFSETFROM:-0500
TZOFFSETTO:-0600
TZNAME:CST
DTSTART:19701101T020000
RRULE:FREQ=YEARLY;BYMONTH=11;BYDAY=1SU
END:STANDARD
END:VTIMEZONE
BEGIN:VEVENT
UID:fc-478699@ygametime.com
DTSTAMP:20240905T233000Z
DTSTART;TZID=America/Chicago:20240905T183000
DURATION:PT0H60M0S
SUMMARY:Broncos vs Ravens
DESCRIPTION:Fall 2024 | All Star Flag Football\nForest City YMCA\n
URL;VALUE=URI:https://ygametime.com/branch/fc/sports/2024-fall-all-star-flag-football/20880/?utm_medium=calendar&utm_source=team_cal&utm_content=league_url#game-478699
LOCATION:FC High School Field Central
BEGIN:VALARM
TRIGGER:-P2H
ACTION:DISPLAY
DESCRIPTION:Broncos vs Ravens
END:VALARM
END:VEVENT
BEGIN:VEVENT
UID:fc-478704@ygametime.com
DTSTAMP:20240912T233000Z
DTSTART;TZID=America/Chicago:20240912T183000
DURATION:PT0H60M0S
SUMMARY:Ravens vs Chiefs
DESCRIPTION:Fall 2024 | All Star Flag Football\nForest City YMCA\n
URL;VALUE=URI:https://ygametime.com/branch/fc/sports/2024-fall-all-star-flag-football/20880/?utm_medium=calendar&utm_source=team_cal&utm_content=league_url#game-478704
LOCATION:FC High School Field West
BEGIN:VALARM
TRIGGER:-P2H
ACTION:DISPLAY
DESCRIPTION:Ravens vs Chiefs
END:VALARM
END:VEVENT
BEGIN:VEVENT
UID:fc-478706@ygametime.com
DTSTAMP:20240919T233000Z
DTSTART;TZID=America/Chicago:20240919T183000
DURATION:PT0H60M0S
SUMMARY:Packers vs Ravens
DESCRIPTION:Fall 2024 | All Star Flag Football\nForest City YMCA\n
URL;VALUE=URI:https://ygametime.com/branch/fc/sports/2024-fall-all-star-flag-football/20880/?utm_medium=calendar&utm_source=team_cal&utm_content=league_url#game-478706
LOCATION:FC High School Field East
BEGIN:VALARM
TRIGGER:-P2H
ACTION:DISPLAY
DESCRIPTION:Packers vs Ravens
END:VALARM
END:VEVENT
BEGIN:VEVENT
UID:fc-478708@ygametime.com
DTSTAMP:20240926T233000Z
DTSTART;TZID=America/Chicago:20240926T183000
DURATION:PT0H60M0S
SUMMARY:Ravens vs Bears
DESCRIPTION:Fall 2024 | All Star Flag Football\nForest City YMCA\n
URL;VALUE=URI:https://ygametime.com/branch/fc/sports/2024-fall-all-star-flag-football/20880/?utm_medium=calendar&utm_source=team_cal&utm_content=league_url#game-478708
LOCATION:FC High School Field Central
BEGIN:VALARM
TRIGGER:-P2H
ACTION:DISPLAY
DESCRIPTION:Ravens vs Bears
END:VALARM
END:VEVENT
END:VCALENDAR

