BEGIN:VCALENDAR
VERSION:2.0
PRODID:-//YGAMETIME.com//YGT iCal Creator//EN
METHOD:PUBLISH
X-PUBLISHED-TTL:PT6H
REFRESH-INTERVAL;VALUE=DURATION:PT6H
CALSCALE:GREGORIAN
X-WR-CALNAME:YGAMETIME CALENDAR
BEGIN:VTIMEZONE
TZID:America/Chicago
X-LIC-LOCATION:America/Chicago
BEGIN:DAYLIGHT
TZOFFSETFROM:-0600
TZOFFSETTO:-0500
TZNAME:CDT
DTSTART:19700308T020000
RRULE:FREQ=YEARLY;BYMONTH=3;BYDAY=2SU
END:DAYLIGHT
BEGIN:STANDARD
TZOFFSETFROM:-0500
TZOFFSETTO:-0600
TZNAME:CST
DTSTART:19701101T020000
RRULE:FREQ=YEARLY;BYMONTH=11;BYDAY=1SU
END:STANDARD
END:VTIMEZONE
BEGIN:VEVENT
UID:fc-466088@ygametime.com
DTSTAMP:20240502T233000Z
DTSTART;TZID=America/Chicago:20240502T183000
DURATION:PT0H60M0S
SUMMARY:Team 5 vs Team 2
DESCRIPTION:4th Grade | NFL FLAG Football\nForest City YMCA\n
URL;VALUE=URI:https://ygametime.com/branch/fc/sports/2024-summer-nfl-flag-football/19895/?utm_medium=calendar&utm_source=team_cal&utm_content=league_url#game-466088
LOCATION:FC High School Field East
BEGIN:VALARM
TRIGGER:-P2H
ACTION:DISPLAY
DESCRIPTION:Team 5 vs Team 2
END:VALARM
END:VEVENT
BEGIN:VEVENT
UID:fc-466092@ygametime.com
DTSTAMP:20240509T233000Z
DTSTART;TZID=America/Chicago:20240509T183000
DURATION:PT0H60M0S
SUMMARY:Team 1 vs Team 5
DESCRIPTION:4th Grade | NFL FLAG Football\nForest City YMCA\n
URL;VALUE=URI:https://ygametime.com/branch/fc/sports/2024-summer-nfl-flag-football/19895/?utm_medium=calendar&utm_source=team_cal&utm_content=league_url#game-466092
LOCATION:FC High School Field West
BEGIN:VALARM
TRIGGER:-P2H
ACTION:DISPLAY
DESCRIPTION:Team 1 vs Team 5
END:VALARM
END:VEVENT
BEGIN:VEVENT
UID:fc-466095@ygametime.com
DTSTAMP:20240516T233000Z
DTSTART;TZID=America/Chicago:20240516T183000
DURATION:PT0H60M0S
SUMMARY:Team 3 vs Team 5
DESCRIPTION:4th Grade | NFL FLAG Football\nForest City YMCA\n
URL;VALUE=URI:https://ygametime.com/branch/fc/sports/2024-summer-nfl-flag-football/19895/?utm_medium=calendar&utm_source=team_cal&utm_content=league_url#game-466095
LOCATION:FC High School Field West
BEGIN:VALARM
TRIGGER:-P2H
ACTION:DISPLAY
DESCRIPTION:Team 3 vs Team 5
END:VALARM
END:VEVENT
BEGIN:VEVENT
UID:fc-466098@ygametime.com
DTSTAMP:20240523T233000Z
DTSTART;TZID=America/Chicago:20240523T183000
DURATION:PT0H60M0S
SUMMARY:Team 5 vs Team 4
DESCRIPTION:4th Grade | NFL FLAG Football\nForest City YMCA\n
URL;VALUE=URI:https://ygametime.com/branch/fc/sports/2024-summer-nfl-flag-football/19895/?utm_medium=calendar&utm_source=team_cal&utm_content=league_url#game-466098
LOCATION:FC High School Field West
BEGIN:VALARM
TRIGGER:-P2H
ACTION:DISPLAY
DESCRIPTION:Team 5 vs Team 4
END:VALARM
END:VEVENT
END:VCALENDAR

