BEGIN:VCALENDAR
VERSION:2.0
PRODID:-//YGAMETIME.com//YGT iCal Creator//EN
METHOD:PUBLISH
X-PUBLISHED-TTL:PT6H
REFRESH-INTERVAL;VALUE=DURATION:PT6H
CALSCALE:GREGORIAN
X-WR-CALNAME:YGAMETIME CALENDAR
BEGIN:VTIMEZONE
TZID:America/Chicago
X-LIC-LOCATION:America/Chicago
BEGIN:DAYLIGHT
TZOFFSETFROM:-0600
TZOFFSETTO:-0500
TZNAME:CDT
DTSTART:19700308T020000
RRULE:FREQ=YEARLY;BYMONTH=3;BYDAY=2SU
END:DAYLIGHT
BEGIN:STANDARD
TZOFFSETFROM:-0500
TZOFFSETTO:-0600
TZNAME:CST
DTSTART:19701101T020000
RRULE:FREQ=YEARLY;BYMONTH=11;BYDAY=1SU
END:STANDARD
END:VTIMEZONE
BEGIN:VEVENT
UID:frisco-262355@ygametime.com
DTSTAMP:20211204T180000Z
DTSTART;TZID=America/Chicago:20211204T120000
DURATION:PT0H60M0S
SUMMARY:Team Mayfield vs Comets (Cutler)
DESCRIPTION:1st/2nd Grade Basketball | Basketball\nFrisco Family YMCA\n
URL;VALUE=URI:https://ygametime.com/branch/frisco/sports/2021-winter-basketball/11299/?utm_medium=calendar&utm_source=team_cal&utm_content=league_url#game-262355
LOCATION:Pioneer Middle School Court #2
BEGIN:VALARM
TRIGGER:-P2H
ACTION:DISPLAY
DESCRIPTION:Team Mayfield vs Comets (Cutler)
END:VALARM
END:VEVENT
BEGIN:VEVENT
UID:frisco-262357@ygametime.com
DTSTAMP:20211211T190000Z
DTSTART;TZID=America/Chicago:20211211T130000
DURATION:PT0H60M0S
SUMMARY:Team Paredes vs Team Mayfield
DESCRIPTION:1st/2nd Grade Basketball | Basketball\nFrisco Family YMCA\n
URL;VALUE=URI:https://ygametime.com/branch/frisco/sports/2021-winter-basketball/11299/?utm_medium=calendar&utm_source=team_cal&utm_content=league_url#game-262357
LOCATION:Trent Middle School Court #2
BEGIN:VALARM
TRIGGER:-P2H
ACTION:DISPLAY
DESCRIPTION:Team Paredes vs Team Mayfield
END:VALARM
END:VEVENT
BEGIN:VEVENT
UID:frisco-262369@ygametime.com
DTSTAMP:20220108T190000Z
DTSTART;TZID=America/Chicago:20220108T130000
DURATION:PT0H60M0S
SUMMARY:Team Tomlin vs Team Mayfield
DESCRIPTION:1st/2nd Grade Basketball | Basketball\nFrisco Family YMCA\n
URL;VALUE=URI:https://ygametime.com/branch/frisco/sports/2021-winter-basketball/11299/?utm_medium=calendar&utm_source=team_cal&utm_content=league_url#game-262369
LOCATION:Pioneer Middle School Court #2
BEGIN:VALARM
TRIGGER:-P2H
ACTION:DISPLAY
DESCRIPTION:Team Tomlin vs Team Mayfield
END:VALARM
END:VEVENT
BEGIN:VEVENT
UID:frisco-262372@ygametime.com
DTSTAMP:20220115T190000Z
DTSTART;TZID=America/Chicago:20220115T130000
DURATION:PT0H60M0S
SUMMARY:Team Mayfield vs Wolf Pack (Skirha)
DESCRIPTION:1st/2nd Grade Basketball | Basketball\nFrisco Family YMCA\n
URL;VALUE=URI:https://ygametime.com/branch/frisco/sports/2021-winter-basketball/11299/?utm_medium=calendar&utm_source=team_cal&utm_content=league_url#game-262372
LOCATION:Pioneer Middle School Court #2
BEGIN:VALARM
TRIGGER:-P2H
ACTION:DISPLAY
DESCRIPTION:Team Mayfield vs Wolf Pack (Skirha)
END:VALARM
END:VEVENT
BEGIN:VEVENT
UID:frisco-262375@ygametime.com
DTSTAMP:20220122T190000Z
DTSTART;TZID=America/Chicago:20220122T130000
DURATION:PT0H60M0S
SUMMARY:Team Mayfield vs Comets (Cutler)
DESCRIPTION:1st/2nd Grade Basketball | Basketball\nFrisco Family YMCA\n
URL;VALUE=URI:https://ygametime.com/branch/frisco/sports/2021-winter-basketball/11299/?utm_medium=calendar&utm_source=team_cal&utm_content=league_url#game-262375
LOCATION:Pioneer Middle School Court #2
BEGIN:VALARM
TRIGGER:-P2H
ACTION:DISPLAY
DESCRIPTION:Team Mayfield vs Comets (Cutler)
END:VALARM
END:VEVENT
BEGIN:VEVENT
UID:frisco-262359@ygametime.com
DTSTAMP:20220129T190000Z
DTSTART;TZID=America/Chicago:20220129T130000
DURATION:PT0H60M0S
SUMMARY:Team Mayfield vs Team Henderson
DESCRIPTION:1st/2nd Grade Basketball | Basketball\nFrisco Family YMCA\n
URL;VALUE=URI:https://ygametime.com/branch/frisco/sports/2021-winter-basketball/11299/?utm_medium=calendar&utm_source=team_cal&utm_content=league_url#game-262359
LOCATION:Pioneer Middle School Court #1
BEGIN:VALARM
TRIGGER:-P2H
ACTION:DISPLAY
DESCRIPTION:Team Mayfield vs Team Henderson
END:VALARM
END:VEVENT
BEGIN:VEVENT
UID:frisco-262377@ygametime.com
DTSTAMP:20220212T190000Z
DTSTART;TZID=America/Chicago:20220212T130000
DURATION:PT0H60M0S
SUMMARY:Team Paredes vs Team Mayfield
DESCRIPTION:1st/2nd Grade Basketball | Basketball\nFrisco Family YMCA\n
URL;VALUE=URI:https://ygametime.com/branch/frisco/sports/2021-winter-basketball/11299/?utm_medium=calendar&utm_source=team_cal&utm_content=league_url#game-262377
LOCATION:Pioneer Middle School Court #1
BEGIN:VALARM
TRIGGER:-P2H
ACTION:DISPLAY
DESCRIPTION:Team Paredes vs Team Mayfield
END:VALARM
END:VEVENT
BEGIN:VEVENT
UID:frisco-262363@ygametime.com
DTSTAMP:20220219T190000Z
DTSTART;TZID=America/Chicago:20220219T130000
DURATION:PT0H60M0S
SUMMARY:1st/2nd Team 1 (Sloman/Nix) vs Team Mayfield
DESCRIPTION:1st/2nd Grade Basketball | Basketball\nFrisco Family YMCA\n
URL;VALUE=URI:https://ygametime.com/branch/frisco/sports/2021-winter-basketball/11299/?utm_medium=calendar&utm_source=team_cal&utm_content=league_url#game-262363
LOCATION:Pioneer Middle School Court #2
BEGIN:VALARM
TRIGGER:-P2H
ACTION:DISPLAY
DESCRIPTION:1st/2nd Team 1 (Sloman/Nix) vs Team Mayfield
END:VALARM
END:VEVENT
END:VCALENDAR

