BEGIN:VCALENDAR
VERSION:2.0
PRODID:-//YGAMETIME.com//YGT iCal Creator//EN
METHOD:PUBLISH
X-PUBLISHED-TTL:PT6H
REFRESH-INTERVAL;VALUE=DURATION:PT6H
CALSCALE:GREGORIAN
X-WR-CALNAME:YGAMETIME CALENDAR
BEGIN:VTIMEZONE
TZID:America/Chicago
X-LIC-LOCATION:America/Chicago
BEGIN:DAYLIGHT
TZOFFSETFROM:-0600
TZOFFSETTO:-0500
TZNAME:CDT
DTSTART:19700308T020000
RRULE:FREQ=YEARLY;BYMONTH=3;BYDAY=2SU
END:DAYLIGHT
BEGIN:STANDARD
TZOFFSETFROM:-0500
TZOFFSETTO:-0600
TZNAME:CST
DTSTART:19701101T020000
RRULE:FREQ=YEARLY;BYMONTH=11;BYDAY=1SU
END:STANDARD
END:VTIMEZONE
BEGIN:VEVENT
UID:frisco-262380@ygametime.com
DTSTAMP:20211204T210000Z
DTSTART;TZID=America/Chicago:20211204T150000
DURATION:PT0H60M0S
SUMMARY:Wolf Pack (Skirha) vs Team Tomlin
DESCRIPTION:1st/2nd Grade Basketball | Basketball\nFrisco Family YMCA\n
URL;VALUE=URI:https://ygametime.com/branch/frisco/sports/2021-winter-basketball/11299/?utm_medium=calendar&utm_source=team_cal&utm_content=league_url#game-262380
LOCATION:Pioneer Middle School Court #1
BEGIN:VALARM
TRIGGER:-P2H
ACTION:DISPLAY
DESCRIPTION:Wolf Pack (Skirha) vs Team Tomlin
END:VALARM
END:VEVENT
BEGIN:VEVENT
UID:frisco-262356@ygametime.com
DTSTAMP:20211211T190000Z
DTSTART;TZID=America/Chicago:20211211T130000
DURATION:PT0H60M0S
SUMMARY:Comets (Cutler) vs Wolf Pack (Skirha)
DESCRIPTION:1st/2nd Grade Basketball | Basketball\nFrisco Family YMCA\n
URL;VALUE=URI:https://ygametime.com/branch/frisco/sports/2021-winter-basketball/11299/?utm_medium=calendar&utm_source=team_cal&utm_content=league_url#game-262356
LOCATION:Trent Middle School Court #1 
BEGIN:VALARM
TRIGGER:-P2H
ACTION:DISPLAY
DESCRIPTION:Comets (Cutler) vs Wolf Pack (Skirha)
END:VALARM
END:VEVENT
BEGIN:VEVENT
UID:frisco-262372@ygametime.com
DTSTAMP:20220115T190000Z
DTSTART;TZID=America/Chicago:20220115T130000
DURATION:PT0H60M0S
SUMMARY:Team Mayfield vs Wolf Pack (Skirha)
DESCRIPTION:1st/2nd Grade Basketball | Basketball\nFrisco Family YMCA\n
URL;VALUE=URI:https://ygametime.com/branch/frisco/sports/2021-winter-basketball/11299/?utm_medium=calendar&utm_source=team_cal&utm_content=league_url#game-262372
LOCATION:Pioneer Middle School Court #2
BEGIN:VALARM
TRIGGER:-P2H
ACTION:DISPLAY
DESCRIPTION:Team Mayfield vs Wolf Pack (Skirha)
END:VALARM
END:VEVENT
BEGIN:VEVENT
UID:frisco-262376@ygametime.com
DTSTAMP:20220122T180000Z
DTSTART;TZID=America/Chicago:20220122T120000
DURATION:PT0H60M0S
SUMMARY:Wolf Pack (Skirha) vs Team Tomlin
DESCRIPTION:1st/2nd Grade Basketball | Basketball\nFrisco Family YMCA\n
URL;VALUE=URI:https://ygametime.com/branch/frisco/sports/2021-winter-basketball/11299/?utm_medium=calendar&utm_source=team_cal&utm_content=league_url#game-262376
LOCATION:Pioneer Middle School Court #2
BEGIN:VALARM
TRIGGER:-P2H
ACTION:DISPLAY
DESCRIPTION:Wolf Pack (Skirha) vs Team Tomlin
END:VALARM
END:VEVENT
BEGIN:VEVENT
UID:frisco-262361@ygametime.com
DTSTAMP:20220129T180000Z
DTSTART;TZID=America/Chicago:20220129T120000
DURATION:PT0H60M0S
SUMMARY:Wolf Pack (Skirha) vs Team Paredes
DESCRIPTION:1st/2nd Grade Basketball | Basketball\nFrisco Family YMCA\n
URL;VALUE=URI:https://ygametime.com/branch/frisco/sports/2021-winter-basketball/11299/?utm_medium=calendar&utm_source=team_cal&utm_content=league_url#game-262361
LOCATION:Pioneer Middle School Court #2
BEGIN:VALARM
TRIGGER:-P2H
ACTION:DISPLAY
DESCRIPTION:Wolf Pack (Skirha) vs Team Paredes
END:VALARM
END:VEVENT
BEGIN:VEVENT
UID:frisco-262366@ygametime.com
DTSTAMP:20220212T200000Z
DTSTART;TZID=America/Chicago:20220212T140000
DURATION:PT0H60M0S
SUMMARY:Wolf Pack (Skirha) vs 1st/2nd Team 1 (Sloman/Nix)
DESCRIPTION:1st/2nd Grade Basketball | Basketball\nFrisco Family YMCA\n
URL;VALUE=URI:https://ygametime.com/branch/frisco/sports/2021-winter-basketball/11299/?utm_medium=calendar&utm_source=team_cal&utm_content=league_url#game-262366
LOCATION:Pioneer Middle School Court #2
BEGIN:VALARM
TRIGGER:-P2H
ACTION:DISPLAY
DESCRIPTION:Wolf Pack (Skirha) vs 1st/2nd Team 1 (Sloman/Nix)
END:VALARM
END:VEVENT
BEGIN:VEVENT
UID:frisco-262364@ygametime.com
DTSTAMP:20220219T180000Z
DTSTART;TZID=America/Chicago:20220219T120000
DURATION:PT0H60M0S
SUMMARY:Team Henderson vs Wolf Pack (Skirha)
DESCRIPTION:1st/2nd Grade Basketball | Basketball\nFrisco Family YMCA\n
URL;VALUE=URI:https://ygametime.com/branch/frisco/sports/2021-winter-basketball/11299/?utm_medium=calendar&utm_source=team_cal&utm_content=league_url#game-262364
LOCATION:Pioneer Middle School Court #2
BEGIN:VALARM
TRIGGER:-P2H
ACTION:DISPLAY
DESCRIPTION:Team Henderson vs Wolf Pack (Skirha)
END:VALARM
END:VEVENT
END:VCALENDAR

