BEGIN:VCALENDAR
VERSION:2.0
PRODID:-//YGAMETIME.com//YGT iCal Creator//EN
METHOD:PUBLISH
X-PUBLISHED-TTL:PT6H
REFRESH-INTERVAL;VALUE=DURATION:PT6H
CALSCALE:GREGORIAN
X-WR-CALNAME:YGAMETIME CALENDAR
BEGIN:VTIMEZONE
TZID:America/Chicago
X-LIC-LOCATION:America/Chicago
BEGIN:DAYLIGHT
TZOFFSETFROM:-0600
TZOFFSETTO:-0500
TZNAME:CDT
DTSTART:19700308T020000
RRULE:FREQ=YEARLY;BYMONTH=3;BYDAY=2SU
END:DAYLIGHT
BEGIN:STANDARD
TZOFFSETFROM:-0500
TZOFFSETTO:-0600
TZNAME:CST
DTSTART:19701101T020000
RRULE:FREQ=YEARLY;BYMONTH=11;BYDAY=1SU
END:STANDARD
END:VTIMEZONE
BEGIN:VEVENT
UID:frisco-262511@ygametime.com
DTSTAMP:20211204T150000Z
DTSTART;TZID=America/Chicago:20211204T090000
DURATION:PT0H60M0S
SUMMARY:Mavericks (Reynolds/Mclane) vs Team Woodford
DESCRIPTION:3rd/4th Grade Basketball | Basketball\nFrisco Family YMCA\n
URL;VALUE=URI:https://ygametime.com/branch/frisco/sports/2021-winter-basketball/11298/?utm_medium=calendar&utm_source=team_cal&utm_content=league_url#game-262511
LOCATION:Cobb Middle School Court 2
BEGIN:VALARM
TRIGGER:-P2H
ACTION:DISPLAY
DESCRIPTION:Mavericks (Reynolds/Mclane) vs Team Woodford
END:VALARM
END:VEVENT
BEGIN:VEVENT
UID:frisco-262518@ygametime.com
DTSTAMP:20211211T150000Z
DTSTART;TZID=America/Chicago:20211211T090000
DURATION:PT0H60M0S
SUMMARY:Team Woodford vs Legends (Shelby/Chavis)
DESCRIPTION:3rd/4th Grade Basketball | Basketball\nFrisco Family YMCA\n
URL;VALUE=URI:https://ygametime.com/branch/frisco/sports/2021-winter-basketball/11298/?utm_medium=calendar&utm_source=team_cal&utm_content=league_url#game-262518
LOCATION:Cobb Middle School Court 2
BEGIN:VALARM
TRIGGER:-P2H
ACTION:DISPLAY
DESCRIPTION:Team Woodford vs Legends (Shelby/Chavis)
END:VALARM
END:VEVENT
BEGIN:VEVENT
UID:frisco-262545@ygametime.com
DTSTAMP:20220108T150000Z
DTSTART;TZID=America/Chicago:20220108T090000
DURATION:PT0H60M0S
SUMMARY:Team Woodford vs Lakers (Malpica)
DESCRIPTION:3rd/4th Grade Basketball | Basketball\nFrisco Family YMCA\n
URL;VALUE=URI:https://ygametime.com/branch/frisco/sports/2021-winter-basketball/11298/?utm_medium=calendar&utm_source=team_cal&utm_content=league_url#game-262545
LOCATION:Cobb Middle School Court 1
BEGIN:VALARM
TRIGGER:-P2H
ACTION:DISPLAY
DESCRIPTION:Team Woodford vs Lakers (Malpica)
END:VALARM
END:VEVENT
BEGIN:VEVENT
UID:frisco-262552@ygametime.com
DTSTAMP:20220115T150000Z
DTSTART;TZID=America/Chicago:20220115T090000
DURATION:PT0H60M0S
SUMMARY:Legends (Bernhardt) vs Team Woodford
DESCRIPTION:3rd/4th Grade Basketball | Basketball\nFrisco Family YMCA\n
URL;VALUE=URI:https://ygametime.com/branch/frisco/sports/2021-winter-basketball/11298/?utm_medium=calendar&utm_source=team_cal&utm_content=league_url#game-262552
LOCATION:Cobb Middle School Court 1
BEGIN:VALARM
TRIGGER:-P2H
ACTION:DISPLAY
DESCRIPTION:Legends (Bernhardt) vs Team Woodford
END:VALARM
END:VEVENT
BEGIN:VEVENT
UID:frisco-262565@ygametime.com
DTSTAMP:20220122T180000Z
DTSTART;TZID=America/Chicago:20220122T120000
DURATION:PT0H60M0S
SUMMARY:Team Woodford vs Team Cummings
DESCRIPTION:3rd/4th Grade Basketball | Basketball\nFrisco Family YMCA\n
URL;VALUE=URI:https://ygametime.com/branch/frisco/sports/2021-winter-basketball/11298/?utm_medium=calendar&utm_source=team_cal&utm_content=league_url#game-262565
LOCATION:Cobb Middle School Court 1
BEGIN:VALARM
TRIGGER:-P2H
ACTION:DISPLAY
DESCRIPTION:Team Woodford vs Team Cummings
END:VALARM
END:VEVENT
BEGIN:VEVENT
UID:frisco-262525@ygametime.com
DTSTAMP:20220129T150000Z
DTSTART;TZID=America/Chicago:20220129T090000
DURATION:PT0H60M0S
SUMMARY:McKinney Team vs Team Woodford
DESCRIPTION:3rd/4th Grade Basketball | Basketball\nFrisco Family YMCA\n
URL;VALUE=URI:https://ygametime.com/branch/frisco/sports/2021-winter-basketball/11298/?utm_medium=calendar&utm_source=team_cal&utm_content=league_url#game-262525
LOCATION:Cobb Middle School Court 2
BEGIN:VALARM
TRIGGER:-P2H
ACTION:DISPLAY
DESCRIPTION:McKinney Team vs Team Woodford
END:VALARM
END:VEVENT
BEGIN:VEVENT
UID:frisco-262538@ygametime.com
DTSTAMP:20220212T150000Z
DTSTART;TZID=America/Chicago:20220212T090000
DURATION:PT0H60M0S
SUMMARY:3rd/4th Team 1 vs Team Woodford
DESCRIPTION:3rd/4th Grade Basketball | Basketball\nFrisco Family YMCA\n
URL;VALUE=URI:https://ygametime.com/branch/frisco/sports/2021-winter-basketball/11298/?utm_medium=calendar&utm_source=team_cal&utm_content=league_url#game-262538
LOCATION:Cobb Middle School Court 1
BEGIN:VALARM
TRIGGER:-P2H
ACTION:DISPLAY
DESCRIPTION:3rd/4th Team 1 vs Team Woodford
END:VALARM
END:VEVENT
END:VCALENDAR

