BEGIN:VCALENDAR
VERSION:2.0
PRODID:-//YGAMETIME.com//YGT iCal Creator//EN
METHOD:PUBLISH
X-PUBLISHED-TTL:PT6H
REFRESH-INTERVAL;VALUE=DURATION:PT6H
CALSCALE:GREGORIAN
X-WR-CALNAME:YGAMETIME CALENDAR
BEGIN:VTIMEZONE
TZID:America/Chicago
X-LIC-LOCATION:America/Chicago
BEGIN:DAYLIGHT
TZOFFSETFROM:-0600
TZOFFSETTO:-0500
TZNAME:CDT
DTSTART:19700308T020000
RRULE:FREQ=YEARLY;BYMONTH=3;BYDAY=2SU
END:DAYLIGHT
BEGIN:STANDARD
TZOFFSETFROM:-0500
TZOFFSETTO:-0600
TZNAME:CST
DTSTART:19701101T020000
RRULE:FREQ=YEARLY;BYMONTH=11;BYDAY=1SU
END:STANDARD
END:VTIMEZONE
BEGIN:VEVENT
UID:frisco-262513@ygametime.com
DTSTAMP:20211204T160000Z
DTSTART;TZID=America/Chicago:20211204T100000
DURATION:PT0H60M0S
SUMMARY:Legends (Shelby/Chavis) vs Mini-MAVS (Jabour)
DESCRIPTION:3rd/4th Grade Basketball | Basketball\nFrisco Family YMCA\n
URL;VALUE=URI:https://ygametime.com/branch/frisco/sports/2021-winter-basketball/11298/?utm_medium=calendar&utm_source=team_cal&utm_content=league_url#game-262513
LOCATION:Cobb Middle School Court 2
BEGIN:VALARM
TRIGGER:-P2H
ACTION:DISPLAY
DESCRIPTION:Legends (Shelby/Chavis) vs Mini-MAVS (Jabour)
END:VALARM
END:VEVENT
BEGIN:VEVENT
UID:frisco-262520@ygametime.com
DTSTAMP:20211211T160000Z
DTSTART;TZID=America/Chicago:20211211T100000
DURATION:PT0H60M0S
SUMMARY:Mini-MAVS (Jabour) vs McKinney Team
DESCRIPTION:3rd/4th Grade Basketball | Basketball\nFrisco Family YMCA\n
URL;VALUE=URI:https://ygametime.com/branch/frisco/sports/2021-winter-basketball/11298/?utm_medium=calendar&utm_source=team_cal&utm_content=league_url#game-262520
LOCATION:Cobb Middle School Court 2
BEGIN:VALARM
TRIGGER:-P2H
ACTION:DISPLAY
DESCRIPTION:Mini-MAVS (Jabour) vs McKinney Team
END:VALARM
END:VEVENT
BEGIN:VEVENT
UID:frisco-262546@ygametime.com
DTSTAMP:20220108T150000Z
DTSTART;TZID=America/Chicago:20220108T090000
DURATION:PT0H60M0S
SUMMARY:Mini-MAVS (Jabour) vs Legends (Bernhardt)
DESCRIPTION:3rd/4th Grade Basketball | Basketball\nFrisco Family YMCA\n
URL;VALUE=URI:https://ygametime.com/branch/frisco/sports/2021-winter-basketball/11298/?utm_medium=calendar&utm_source=team_cal&utm_content=league_url#game-262546
LOCATION:Cobb Middle School Court 2
BEGIN:VALARM
TRIGGER:-P2H
ACTION:DISPLAY
DESCRIPTION:Mini-MAVS (Jabour) vs Legends (Bernhardt)
END:VALARM
END:VEVENT
BEGIN:VEVENT
UID:frisco-262558@ygametime.com
DTSTAMP:20220115T180000Z
DTSTART;TZID=America/Chicago:20220115T120000
DURATION:PT0H60M0S
SUMMARY:Team Cummings vs Mini-MAVS (Jabour)
DESCRIPTION:3rd/4th Grade Basketball | Basketball\nFrisco Family YMCA\n
URL;VALUE=URI:https://ygametime.com/branch/frisco/sports/2021-winter-basketball/11298/?utm_medium=calendar&utm_source=team_cal&utm_content=league_url#game-262558
LOCATION:Cobb Middle School Court 1
BEGIN:VALARM
TRIGGER:-P2H
ACTION:DISPLAY
DESCRIPTION:Team Cummings vs Mini-MAVS (Jabour)
END:VALARM
END:VEVENT
BEGIN:VEVENT
UID:frisco-262563@ygametime.com
DTSTAMP:20220122T170000Z
DTSTART;TZID=America/Chicago:20220122T110000
DURATION:PT0H60M0S
SUMMARY:Mini-MAVS (Jabour) vs Fast and Furious (3rd/4th Team 5)
DESCRIPTION:3rd/4th Grade Basketball | Basketball\nFrisco Family YMCA\n
URL;VALUE=URI:https://ygametime.com/branch/frisco/sports/2021-winter-basketball/11298/?utm_medium=calendar&utm_source=team_cal&utm_content=league_url#game-262563
LOCATION:Cobb Middle School Court 1
BEGIN:VALARM
TRIGGER:-P2H
ACTION:DISPLAY
DESCRIPTION:Mini-MAVS (Jabour) vs Fast and Furious (3rd/4th Team 5)
END:VALARM
END:VEVENT
BEGIN:VEVENT
UID:frisco-262533@ygametime.com
DTSTAMP:20220205T160000Z
DTSTART;TZID=America/Chicago:20220205T100000
DURATION:PT0H60M0S
SUMMARY:Mini-MAVS (Jabour) vs 3rd/4th Team 1
DESCRIPTION:3rd/4th Grade Basketball | Basketball\nFrisco Family YMCA\n
URL;VALUE=URI:https://ygametime.com/branch/frisco/sports/2021-winter-basketball/11298/?utm_medium=calendar&utm_source=team_cal&utm_content=league_url#game-262533
LOCATION:Cobb Middle School Court 1
BEGIN:VALARM
TRIGGER:-P2H
ACTION:DISPLAY
DESCRIPTION:Mini-MAVS (Jabour) vs 3rd/4th Team 1
END:VALARM
END:VEVENT
BEGIN:VEVENT
UID:frisco-262540@ygametime.com
DTSTAMP:20220212T160000Z
DTSTART;TZID=America/Chicago:20220212T100000
DURATION:PT0H60M0S
SUMMARY:Lakers (Malpica) vs Mini-MAVS (Jabour)
DESCRIPTION:3rd/4th Grade Basketball | Basketball\nFrisco Family YMCA\n
URL;VALUE=URI:https://ygametime.com/branch/frisco/sports/2021-winter-basketball/11298/?utm_medium=calendar&utm_source=team_cal&utm_content=league_url#game-262540
LOCATION:Cobb Middle School Court 1
BEGIN:VALARM
TRIGGER:-P2H
ACTION:DISPLAY
DESCRIPTION:Lakers (Malpica) vs Mini-MAVS (Jabour)
END:VALARM
END:VEVENT
BEGIN:VEVENT
UID:frisco-284476@ygametime.com
DTSTAMP:20220219T150000Z
DTSTART;TZID=America/Chicago:20220219T090000
DURATION:PT0H60M0S
SUMMARY:Legends (Bernhardt) vs Mini-MAVS (Jabour)
DESCRIPTION:3rd/4th Grade Basketball | Basketball\nFrisco Family YMCA\n
URL;VALUE=URI:https://ygametime.com/branch/frisco/sports/2021-winter-basketball/11298/?utm_medium=calendar&utm_source=team_cal&utm_content=league_url#game-284476
LOCATION:Cobb Middle School Court 2
BEGIN:VALARM
TRIGGER:-P2H
ACTION:DISPLAY
DESCRIPTION:Legends (Bernhardt) vs Mini-MAVS (Jabour)
END:VALARM
END:VEVENT
END:VCALENDAR

