BEGIN:VCALENDAR
VERSION:2.0
PRODID:-//YGAMETIME.com//YGT iCal Creator//EN
METHOD:PUBLISH
X-PUBLISHED-TTL:PT6H
REFRESH-INTERVAL;VALUE=DURATION:PT6H
CALSCALE:GREGORIAN
X-WR-CALNAME:YGAMETIME CALENDAR
BEGIN:VTIMEZONE
TZID:America/Chicago
X-LIC-LOCATION:America/Chicago
BEGIN:DAYLIGHT
TZOFFSETFROM:-0600
TZOFFSETTO:-0500
TZNAME:CDT
DTSTART:19700308T020000
RRULE:FREQ=YEARLY;BYMONTH=3;BYDAY=2SU
END:DAYLIGHT
BEGIN:STANDARD
TZOFFSETFROM:-0500
TZOFFSETTO:-0600
TZNAME:CST
DTSTART:19701101T020000
RRULE:FREQ=YEARLY;BYMONTH=11;BYDAY=1SU
END:STANDARD
END:VTIMEZONE
BEGIN:VEVENT
UID:frisco-262515@ygametime.com
DTSTAMP:20211204T170000Z
DTSTART;TZID=America/Chicago:20211204T110000
DURATION:PT0H60M0S
SUMMARY:McKinney Team vs Bledsoe Lions (Martin)
DESCRIPTION:3rd/4th Grade Basketball | Basketball\nFrisco Family YMCA\n
URL;VALUE=URI:https://ygametime.com/branch/frisco/sports/2021-winter-basketball/11298/?utm_medium=calendar&utm_source=team_cal&utm_content=league_url#game-262515
LOCATION:Cobb Middle School Court 2
BEGIN:VALARM
TRIGGER:-P2H
ACTION:DISPLAY
DESCRIPTION:McKinney Team vs Bledsoe Lions (Martin)
END:VALARM
END:VEVENT
BEGIN:VEVENT
UID:frisco-262549@ygametime.com
DTSTAMP:20220108T170000Z
DTSTART;TZID=America/Chicago:20220108T110000
DURATION:PT0H60M0S
SUMMARY:Bledsoe Lions (Martin) vs Team Cummings
DESCRIPTION:3rd/4th Grade Basketball | Basketball\nFrisco Family YMCA\n
URL;VALUE=URI:https://ygametime.com/branch/frisco/sports/2021-winter-basketball/11298/?utm_medium=calendar&utm_source=team_cal&utm_content=league_url#game-262549
LOCATION:Cobb Middle School Court 1
BEGIN:VALARM
TRIGGER:-P2H
ACTION:DISPLAY
DESCRIPTION:Bledsoe Lions (Martin) vs Team Cummings
END:VALARM
END:VEVENT
BEGIN:VEVENT
UID:frisco-262556@ygametime.com
DTSTAMP:20220115T170000Z
DTSTART;TZID=America/Chicago:20220115T110000
DURATION:PT0H60M0S
SUMMARY:Fast and Furious (3rd/4th Team 5) vs Bledsoe Lions (Martin)
DESCRIPTION:3rd/4th Grade Basketball | Basketball\nFrisco Family YMCA\n
URL;VALUE=URI:https://ygametime.com/branch/frisco/sports/2021-winter-basketball/11298/?utm_medium=calendar&utm_source=team_cal&utm_content=league_url#game-262556
LOCATION:Cobb Middle School Court 1
BEGIN:VALARM
TRIGGER:-P2H
ACTION:DISPLAY
DESCRIPTION:Fast and Furious (3rd/4th Team 5) vs Bledsoe Lions (Martin)
END:VALARM
END:VEVENT
BEGIN:VEVENT
UID:frisco-262561@ygametime.com
DTSTAMP:20220122T160000Z
DTSTART;TZID=America/Chicago:20220122T100000
DURATION:PT0H60M0S
SUMMARY:Bledsoe Lions (Martin) vs Warriors (3rd/4th Team 7)
DESCRIPTION:3rd/4th Grade Basketball | Basketball\nFrisco Family YMCA\n
URL;VALUE=URI:https://ygametime.com/branch/frisco/sports/2021-winter-basketball/11298/?utm_medium=calendar&utm_source=team_cal&utm_content=league_url#game-262561
LOCATION:Cobb Middle School Court 1
BEGIN:VALARM
TRIGGER:-P2H
ACTION:DISPLAY
DESCRIPTION:Bledsoe Lions (Martin) vs Warriors (3rd/4th Team 7)
END:VALARM
END:VEVENT
BEGIN:VEVENT
UID:frisco-262528@ygametime.com
DTSTAMP:20220129T170000Z
DTSTART;TZID=America/Chicago:20220129T110000
DURATION:PT0H60M0S
SUMMARY:3rd/4th Team 1 vs Bledsoe Lions (Martin)
DESCRIPTION:3rd/4th Grade Basketball | Basketball\nFrisco Family YMCA\n
URL;VALUE=URI:https://ygametime.com/branch/frisco/sports/2021-winter-basketball/11298/?utm_medium=calendar&utm_source=team_cal&utm_content=league_url#game-262528
LOCATION:Cobb Middle School Court 1
BEGIN:VALARM
TRIGGER:-P2H
ACTION:DISPLAY
DESCRIPTION:3rd/4th Team 1 vs Bledsoe Lions (Martin)
END:VALARM
END:VEVENT
BEGIN:VEVENT
UID:frisco-262534@ygametime.com
DTSTAMP:20220205T160000Z
DTSTART;TZID=America/Chicago:20220205T100000
DURATION:PT0H60M0S
SUMMARY:Bledsoe Lions (Martin) vs Lakers (Malpica)
DESCRIPTION:3rd/4th Grade Basketball | Basketball\nFrisco Family YMCA\n
URL;VALUE=URI:https://ygametime.com/branch/frisco/sports/2021-winter-basketball/11298/?utm_medium=calendar&utm_source=team_cal&utm_content=league_url#game-262534
LOCATION:Cobb Middle School Court 2
BEGIN:VALARM
TRIGGER:-P2H
ACTION:DISPLAY
DESCRIPTION:Bledsoe Lions (Martin) vs Lakers (Malpica)
END:VALARM
END:VEVENT
BEGIN:VEVENT
UID:frisco-262539@ygametime.com
DTSTAMP:20220212T150000Z
DTSTART;TZID=America/Chicago:20220212T090000
DURATION:PT0H60M0S
SUMMARY:Legends (Bernhardt) vs Bledsoe Lions (Martin)
DESCRIPTION:3rd/4th Grade Basketball | Basketball\nFrisco Family YMCA\n
URL;VALUE=URI:https://ygametime.com/branch/frisco/sports/2021-winter-basketball/11298/?utm_medium=calendar&utm_source=team_cal&utm_content=league_url#game-262539
LOCATION:Cobb Middle School Court 2
BEGIN:VALARM
TRIGGER:-P2H
ACTION:DISPLAY
DESCRIPTION:Legends (Bernhardt) vs Bledsoe Lions (Martin)
END:VALARM
END:VEVENT
BEGIN:VEVENT
UID:frisco-284475@ygametime.com
DTSTAMP:20220219T150000Z
DTSTART;TZID=America/Chicago:20220219T090000
DURATION:PT0H60M0S
SUMMARY:Bledsoe Lions (Martin) vs Lakers (Malpica)
DESCRIPTION:3rd/4th Grade Basketball | Basketball\nFrisco Family YMCA\n
URL;VALUE=URI:https://ygametime.com/branch/frisco/sports/2021-winter-basketball/11298/?utm_medium=calendar&utm_source=team_cal&utm_content=league_url#game-284475
LOCATION:Cobb Middle School Court 1
BEGIN:VALARM
TRIGGER:-P2H
ACTION:DISPLAY
DESCRIPTION:Bledsoe Lions (Martin) vs Lakers (Malpica)
END:VALARM
END:VEVENT
END:VCALENDAR

