BEGIN:VCALENDAR
VERSION:2.0
PRODID:-//YGAMETIME.com//YGT iCal Creator//EN
METHOD:PUBLISH
X-PUBLISHED-TTL:PT6H
REFRESH-INTERVAL;VALUE=DURATION:PT6H
CALSCALE:GREGORIAN
X-WR-CALNAME:YGAMETIME CALENDAR
BEGIN:VTIMEZONE
TZID:America/Chicago
X-LIC-LOCATION:America/Chicago
BEGIN:DAYLIGHT
TZOFFSETFROM:-0600
TZOFFSETTO:-0500
TZNAME:CDT
DTSTART:19700308T020000
RRULE:FREQ=YEARLY;BYMONTH=3;BYDAY=2SU
END:DAYLIGHT
BEGIN:STANDARD
TZOFFSETFROM:-0500
TZOFFSETTO:-0600
TZNAME:CST
DTSTART:19701101T020000
RRULE:FREQ=YEARLY;BYMONTH=11;BYDAY=1SU
END:STANDARD
END:VTIMEZONE
BEGIN:VEVENT
UID:frisco-262566@ygametime.com
DTSTAMP:20211204T190000Z
DTSTART;TZID=America/Chicago:20211204T130000
DURATION:PT0H60M0S
SUMMARY:Team Stewart/Hunt vs Team Childress
DESCRIPTION:5th/6th Grade Basketball | Basketball\nFrisco Family YMCA\n
URL;VALUE=URI:https://ygametime.com/branch/frisco/sports/2021-winter-basketball/11297/?utm_medium=calendar&utm_source=team_cal&utm_content=league_url#game-262566
LOCATION:Cobb Middle School Court 1
BEGIN:VALARM
TRIGGER:-P2H
ACTION:DISPLAY
DESCRIPTION:Team Stewart/Hunt vs Team Childress
END:VALARM
END:VEVENT
BEGIN:VEVENT
UID:frisco-262571@ygametime.com
DTSTAMP:20211211T190000Z
DTSTART;TZID=America/Chicago:20211211T130000
DURATION:PT0H60M0S
SUMMARY:Team Childress vs Team Rouse
DESCRIPTION:5th/6th Grade Basketball | Basketball\nFrisco Family YMCA\n
URL;VALUE=URI:https://ygametime.com/branch/frisco/sports/2021-winter-basketball/11297/?utm_medium=calendar&utm_source=team_cal&utm_content=league_url#game-262571
LOCATION:Cobb Middle School Court 1
BEGIN:VALARM
TRIGGER:-P2H
ACTION:DISPLAY
DESCRIPTION:Team Childress vs Team Rouse
END:VALARM
END:VEVENT
BEGIN:VEVENT
UID:frisco-262582@ygametime.com
DTSTAMP:20220108T190000Z
DTSTART;TZID=America/Chicago:20220108T130000
DURATION:PT0H60M0S
SUMMARY:Team Childress vs Texas Tigers (Camacho)
DESCRIPTION:5th/6th Grade Basketball | Basketball\nFrisco Family YMCA\n
URL;VALUE=URI:https://ygametime.com/branch/frisco/sports/2021-winter-basketball/11297/?utm_medium=calendar&utm_source=team_cal&utm_content=league_url#game-262582
LOCATION:Cobb Middle School Court 2
BEGIN:VALARM
TRIGGER:-P2H
ACTION:DISPLAY
DESCRIPTION:Team Childress vs Texas Tigers (Camacho)
END:VALARM
END:VEVENT
BEGIN:VEVENT
UID:frisco-262584@ygametime.com
DTSTAMP:20220115T190000Z
DTSTART;TZID=America/Chicago:20220115T130000
DURATION:PT0H60M0S
SUMMARY:5th/6th Team 2 vs Team Childress
DESCRIPTION:5th/6th Grade Basketball | Basketball\nFrisco Family YMCA\n
URL;VALUE=URI:https://ygametime.com/branch/frisco/sports/2021-winter-basketball/11297/?utm_medium=calendar&utm_source=team_cal&utm_content=league_url#game-262584
LOCATION:Cobb Middle School Court 1
BEGIN:VALARM
TRIGGER:-P2H
ACTION:DISPLAY
DESCRIPTION:5th/6th Team 2 vs Team Childress
END:VALARM
END:VEVENT
BEGIN:VEVENT
UID:frisco-262589@ygametime.com
DTSTAMP:20220122T180000Z
DTSTART;TZID=America/Chicago:20220122T120000
DURATION:PT0H60M0S
SUMMARY:Team Stewart/Hunt vs Team Childress
DESCRIPTION:5th/6th Grade Basketball | Basketball\nFrisco Family YMCA\n
URL;VALUE=URI:https://ygametime.com/branch/frisco/sports/2021-winter-basketball/11297/?utm_medium=calendar&utm_source=team_cal&utm_content=league_url#game-262589
LOCATION:Cobb Middle School Court 2
BEGIN:VALARM
TRIGGER:-P2H
ACTION:DISPLAY
DESCRIPTION:Team Stewart/Hunt vs Team Childress
END:VALARM
END:VEVENT
BEGIN:VEVENT
UID:frisco-262573@ygametime.com
DTSTAMP:20220129T190000Z
DTSTART;TZID=America/Chicago:20220129T130000
DURATION:PT0H60M0S
SUMMARY:Lions (James) vs Team Childress
DESCRIPTION:5th/6th Grade Basketball | Basketball\nFrisco Family YMCA\n
URL;VALUE=URI:https://ygametime.com/branch/frisco/sports/2021-winter-basketball/11297/?utm_medium=calendar&utm_source=team_cal&utm_content=league_url#game-262573
LOCATION:Cobb Middle School Court 2
BEGIN:VALARM
TRIGGER:-P2H
ACTION:DISPLAY
DESCRIPTION:Lions (James) vs Team Childress
END:VALARM
END:VEVENT
BEGIN:VEVENT
UID:frisco-262578@ygametime.com
DTSTAMP:20220212T190000Z
DTSTART;TZID=America/Chicago:20220212T130000
DURATION:PT0H60M0S
SUMMARY:Team Childress vs Team Hirner
DESCRIPTION:5th/6th Grade Basketball | Basketball\nFrisco Family YMCA\n
URL;VALUE=URI:https://ygametime.com/branch/frisco/sports/2021-winter-basketball/11297/?utm_medium=calendar&utm_source=team_cal&utm_content=league_url#game-262578
LOCATION:Cobb Middle School Court 1
BEGIN:VALARM
TRIGGER:-P2H
ACTION:DISPLAY
DESCRIPTION:Team Childress vs Team Hirner
END:VALARM
END:VEVENT
BEGIN:VEVENT
UID:frisco-284487@ygametime.com
DTSTAMP:20220219T190000Z
DTSTART;TZID=America/Chicago:20220219T130000
DURATION:PT0H60M0S
SUMMARY:Team Willis vs Team Childress
DESCRIPTION:5th/6th Grade Basketball | Basketball\nFrisco Family YMCA\n
URL;VALUE=URI:https://ygametime.com/branch/frisco/sports/2021-winter-basketball/11297/?utm_medium=calendar&utm_source=team_cal&utm_content=league_url#game-284487
LOCATION:Cobb Middle School Court 2
BEGIN:VALARM
TRIGGER:-P2H
ACTION:DISPLAY
DESCRIPTION:Team Willis vs Team Childress
END:VALARM
END:VEVENT
END:VCALENDAR

