BEGIN:VCALENDAR
VERSION:2.0
PRODID:-//YGAMETIME.com//YGT iCal Creator//EN
METHOD:PUBLISH
X-PUBLISHED-TTL:PT6H
REFRESH-INTERVAL;VALUE=DURATION:PT6H
CALSCALE:GREGORIAN
X-WR-CALNAME:YGAMETIME CALENDAR
BEGIN:VTIMEZONE
TZID:America/Chicago
X-LIC-LOCATION:America/Chicago
BEGIN:DAYLIGHT
TZOFFSETFROM:-0600
TZOFFSETTO:-0500
TZNAME:CDT
DTSTART:19700308T020000
RRULE:FREQ=YEARLY;BYMONTH=3;BYDAY=2SU
END:DAYLIGHT
BEGIN:STANDARD
TZOFFSETFROM:-0500
TZOFFSETTO:-0600
TZNAME:CST
DTSTART:19701101T020000
RRULE:FREQ=YEARLY;BYMONTH=11;BYDAY=1SU
END:STANDARD
END:VTIMEZONE
BEGIN:VEVENT
UID:frisco-262568@ygametime.com
DTSTAMP:20211204T180000Z
DTSTART;TZID=America/Chicago:20211204T120000
DURATION:PT0H60M0S
SUMMARY:Texas Tigers (Camacho) vs Lions (James)
DESCRIPTION:5th/6th Grade Basketball | Basketball\nFrisco Family YMCA\n
URL;VALUE=URI:https://ygametime.com/branch/frisco/sports/2021-winter-basketball/11297/?utm_medium=calendar&utm_source=team_cal&utm_content=league_url#game-262568
LOCATION:Cobb Middle School Court 2
BEGIN:VALARM
TRIGGER:-P2H
ACTION:DISPLAY
DESCRIPTION:Texas Tigers (Camacho) vs Lions (James)
END:VALARM
END:VEVENT
BEGIN:VEVENT
UID:frisco-262570@ygametime.com
DTSTAMP:20211211T190000Z
DTSTART;TZID=America/Chicago:20211211T130000
DURATION:PT0H60M0S
SUMMARY:Team Hirner vs Texas Tigers (Camacho)
DESCRIPTION:5th/6th Grade Basketball | Basketball\nFrisco Family YMCA\n
URL;VALUE=URI:https://ygametime.com/branch/frisco/sports/2021-winter-basketball/11297/?utm_medium=calendar&utm_source=team_cal&utm_content=league_url#game-262570
LOCATION:Cobb Middle School Court 2
BEGIN:VALARM
TRIGGER:-P2H
ACTION:DISPLAY
DESCRIPTION:Team Hirner vs Texas Tigers (Camacho)
END:VALARM
END:VEVENT
BEGIN:VEVENT
UID:frisco-262582@ygametime.com
DTSTAMP:20220108T190000Z
DTSTART;TZID=America/Chicago:20220108T130000
DURATION:PT0H60M0S
SUMMARY:Team Childress vs Texas Tigers (Camacho)
DESCRIPTION:5th/6th Grade Basketball | Basketball\nFrisco Family YMCA\n
URL;VALUE=URI:https://ygametime.com/branch/frisco/sports/2021-winter-basketball/11297/?utm_medium=calendar&utm_source=team_cal&utm_content=league_url#game-262582
LOCATION:Cobb Middle School Court 2
BEGIN:VALARM
TRIGGER:-P2H
ACTION:DISPLAY
DESCRIPTION:Team Childress vs Texas Tigers (Camacho)
END:VALARM
END:VEVENT
BEGIN:VEVENT
UID:frisco-262585@ygametime.com
DTSTAMP:20220115T190000Z
DTSTART;TZID=America/Chicago:20220115T130000
DURATION:PT0H60M0S
SUMMARY:Texas Tigers (Camacho) vs Team Stewart/Hunt
DESCRIPTION:5th/6th Grade Basketball | Basketball\nFrisco Family YMCA\n
URL;VALUE=URI:https://ygametime.com/branch/frisco/sports/2021-winter-basketball/11297/?utm_medium=calendar&utm_source=team_cal&utm_content=league_url#game-262585
LOCATION:Cobb Middle School Court 2
BEGIN:VALARM
TRIGGER:-P2H
ACTION:DISPLAY
DESCRIPTION:Texas Tigers (Camacho) vs Team Stewart/Hunt
END:VALARM
END:VEVENT
BEGIN:VEVENT
UID:frisco-262588@ygametime.com
DTSTAMP:20220122T190000Z
DTSTART;TZID=America/Chicago:20220122T130000
DURATION:PT0H60M0S
SUMMARY:Texas Tigers (Camacho) vs Lions (James)
DESCRIPTION:5th/6th Grade Basketball | Basketball\nFrisco Family YMCA\n
URL;VALUE=URI:https://ygametime.com/branch/frisco/sports/2021-winter-basketball/11297/?utm_medium=calendar&utm_source=team_cal&utm_content=league_url#game-262588
LOCATION:Cobb Middle School Court 2
BEGIN:VALARM
TRIGGER:-P2H
ACTION:DISPLAY
DESCRIPTION:Texas Tigers (Camacho) vs Lions (James)
END:VALARM
END:VEVENT
BEGIN:VEVENT
UID:frisco-262602@ygametime.com
DTSTAMP:20220129T210000Z
DTSTART;TZID=America/Chicago:20220129T150000
DURATION:PT0H60M0S
SUMMARY:Texas Tigers (Camacho) vs 5th/6th Team 2
DESCRIPTION:5th/6th Grade Basketball | Basketball\nFrisco Family YMCA\n
URL;VALUE=URI:https://ygametime.com/branch/frisco/sports/2021-winter-basketball/11297/?utm_medium=calendar&utm_source=team_cal&utm_content=league_url#game-262602
LOCATION:Cobb Middle School Court 1
BEGIN:VALARM
TRIGGER:-P2H
ACTION:DISPLAY
DESCRIPTION:Texas Tigers (Camacho) vs 5th/6th Team 2
END:VALARM
END:VEVENT
BEGIN:VEVENT
UID:frisco-262605@ygametime.com
DTSTAMP:20220205T210000Z
DTSTART;TZID=America/Chicago:20220205T150000
DURATION:PT0H60M0S
SUMMARY:Team Rouse vs Texas Tigers (Camacho)
DESCRIPTION:5th/6th Grade Basketball | Basketball\nFrisco Family YMCA\n
URL;VALUE=URI:https://ygametime.com/branch/frisco/sports/2021-winter-basketball/11297/?utm_medium=calendar&utm_source=team_cal&utm_content=league_url#game-262605
LOCATION:Cobb Middle School Court 1
BEGIN:VALARM
TRIGGER:-P2H
ACTION:DISPLAY
DESCRIPTION:Team Rouse vs Texas Tigers (Camacho)
END:VALARM
END:VEVENT
BEGIN:VEVENT
UID:frisco-262590@ygametime.com
DTSTAMP:20220212T200000Z
DTSTART;TZID=America/Chicago:20220212T140000
DURATION:PT0H60M0S
SUMMARY:Team Hirner vs Texas Tigers (Camacho)
DESCRIPTION:5th/6th Grade Basketball | Basketball\nFrisco Family YMCA\n
URL;VALUE=URI:https://ygametime.com/branch/frisco/sports/2021-winter-basketball/11297/?utm_medium=calendar&utm_source=team_cal&utm_content=league_url#game-262590
LOCATION:Cobb Middle School Court 1
BEGIN:VALARM
TRIGGER:-P2H
ACTION:DISPLAY
DESCRIPTION:Team Hirner vs Texas Tigers (Camacho)
END:VALARM
END:VEVENT
BEGIN:VEVENT
UID:frisco-284490@ygametime.com
DTSTAMP:20220219T210000Z
DTSTART;TZID=America/Chicago:20220219T150000
DURATION:PT0H60M0S
SUMMARY:Team Rouse vs Texas Tigers (Camacho)
DESCRIPTION:5th/6th Grade Basketball | Basketball\nFrisco Family YMCA\n
URL;VALUE=URI:https://ygametime.com/branch/frisco/sports/2021-winter-basketball/11297/?utm_medium=calendar&utm_source=team_cal&utm_content=league_url#game-284490
LOCATION:Cobb Middle School Court 1
BEGIN:VALARM
TRIGGER:-P2H
ACTION:DISPLAY
DESCRIPTION:Team Rouse vs Texas Tigers (Camacho)
END:VALARM
END:VEVENT
END:VCALENDAR

