BEGIN:VCALENDAR
VERSION:2.0
PRODID:-//YGAMETIME.com//YGT iCal Creator//EN
METHOD:PUBLISH
X-PUBLISHED-TTL:PT6H
REFRESH-INTERVAL;VALUE=DURATION:PT6H
CALSCALE:GREGORIAN
X-WR-CALNAME:YGAMETIME CALENDAR
BEGIN:VTIMEZONE
TZID:America/Chicago
X-LIC-LOCATION:America/Chicago
BEGIN:DAYLIGHT
TZOFFSETFROM:-0600
TZOFFSETTO:-0500
TZNAME:CDT
DTSTART:19700308T020000
RRULE:FREQ=YEARLY;BYMONTH=3;BYDAY=2SU
END:DAYLIGHT
BEGIN:STANDARD
TZOFFSETFROM:-0500
TZOFFSETTO:-0600
TZNAME:CST
DTSTART:19701101T020000
RRULE:FREQ=YEARLY;BYMONTH=11;BYDAY=1SU
END:STANDARD
END:VTIMEZONE
BEGIN:VEVENT
UID:frisco-262566@ygametime.com
DTSTAMP:20211204T190000Z
DTSTART;TZID=America/Chicago:20211204T130000
DURATION:PT0H60M0S
SUMMARY:Team Stewart/Hunt vs Team Childress
DESCRIPTION:5th/6th Grade Basketball | Basketball\nFrisco Family YMCA\n
URL;VALUE=URI:https://ygametime.com/branch/frisco/sports/2021-winter-basketball/11297/?utm_medium=calendar&utm_source=team_cal&utm_content=league_url#game-262566
LOCATION:Cobb Middle School Court 1
BEGIN:VALARM
TRIGGER:-P2H
ACTION:DISPLAY
DESCRIPTION:Team Stewart/Hunt vs Team Childress
END:VALARM
END:VEVENT
BEGIN:VEVENT
UID:frisco-262569@ygametime.com
DTSTAMP:20211211T180000Z
DTSTART;TZID=America/Chicago:20211211T120000
DURATION:PT0H60M0S
SUMMARY:Lions (James) vs Team Stewart/Hunt
DESCRIPTION:5th/6th Grade Basketball | Basketball\nFrisco Family YMCA\n
URL;VALUE=URI:https://ygametime.com/branch/frisco/sports/2021-winter-basketball/11297/?utm_medium=calendar&utm_source=team_cal&utm_content=league_url#game-262569
LOCATION:Cobb Middle School Court 2
BEGIN:VALARM
TRIGGER:-P2H
ACTION:DISPLAY
DESCRIPTION:Lions (James) vs Team Stewart/Hunt
END:VALARM
END:VEVENT
BEGIN:VEVENT
UID:frisco-262585@ygametime.com
DTSTAMP:20220115T190000Z
DTSTART;TZID=America/Chicago:20220115T130000
DURATION:PT0H60M0S
SUMMARY:Texas Tigers (Camacho) vs Team Stewart/Hunt
DESCRIPTION:5th/6th Grade Basketball | Basketball\nFrisco Family YMCA\n
URL;VALUE=URI:https://ygametime.com/branch/frisco/sports/2021-winter-basketball/11297/?utm_medium=calendar&utm_source=team_cal&utm_content=league_url#game-262585
LOCATION:Cobb Middle School Court 2
BEGIN:VALARM
TRIGGER:-P2H
ACTION:DISPLAY
DESCRIPTION:Texas Tigers (Camacho) vs Team Stewart/Hunt
END:VALARM
END:VEVENT
BEGIN:VEVENT
UID:frisco-262589@ygametime.com
DTSTAMP:20220122T180000Z
DTSTART;TZID=America/Chicago:20220122T120000
DURATION:PT0H60M0S
SUMMARY:Team Stewart/Hunt vs Team Childress
DESCRIPTION:5th/6th Grade Basketball | Basketball\nFrisco Family YMCA\n
URL;VALUE=URI:https://ygametime.com/branch/frisco/sports/2021-winter-basketball/11297/?utm_medium=calendar&utm_source=team_cal&utm_content=league_url#game-262589
LOCATION:Cobb Middle School Court 2
BEGIN:VALARM
TRIGGER:-P2H
ACTION:DISPLAY
DESCRIPTION:Team Stewart/Hunt vs Team Childress
END:VALARM
END:VEVENT
BEGIN:VEVENT
UID:frisco-262574@ygametime.com
DTSTAMP:20220129T180000Z
DTSTART;TZID=America/Chicago:20220129T120000
DURATION:PT0H60M0S
SUMMARY:Team Stewart/Hunt vs Team Hirner
DESCRIPTION:5th/6th Grade Basketball | Basketball\nFrisco Family YMCA\n
URL;VALUE=URI:https://ygametime.com/branch/frisco/sports/2021-winter-basketball/11297/?utm_medium=calendar&utm_source=team_cal&utm_content=league_url#game-262574
LOCATION:Cobb Middle School Court 2
BEGIN:VALARM
TRIGGER:-P2H
ACTION:DISPLAY
DESCRIPTION:Team Stewart/Hunt vs Team Hirner
END:VALARM
END:VEVENT
BEGIN:VEVENT
UID:frisco-262603@ygametime.com
DTSTAMP:20220205T200000Z
DTSTART;TZID=America/Chicago:20220205T140000
DURATION:PT0H60M0S
SUMMARY:5th/6th Team 2 vs Team Stewart/Hunt
DESCRIPTION:5th/6th Grade Basketball | Basketball\nFrisco Family YMCA\n
URL;VALUE=URI:https://ygametime.com/branch/frisco/sports/2021-winter-basketball/11297/?utm_medium=calendar&utm_source=team_cal&utm_content=league_url#game-262603
LOCATION:Cobb Middle School Court 1
BEGIN:VALARM
TRIGGER:-P2H
ACTION:DISPLAY
DESCRIPTION:5th/6th Team 2 vs Team Stewart/Hunt
END:VALARM
END:VEVENT
BEGIN:VEVENT
UID:frisco-262579@ygametime.com
DTSTAMP:20220212T190000Z
DTSTART;TZID=America/Chicago:20220212T130000
DURATION:PT0H60M0S
SUMMARY:Team Stewart/Hunt vs Team Rouse
DESCRIPTION:5th/6th Grade Basketball | Basketball\nFrisco Family YMCA\n
URL;VALUE=URI:https://ygametime.com/branch/frisco/sports/2021-winter-basketball/11297/?utm_medium=calendar&utm_source=team_cal&utm_content=league_url#game-262579
LOCATION:Cobb Middle School Court 2
BEGIN:VALARM
TRIGGER:-P2H
ACTION:DISPLAY
DESCRIPTION:Team Stewart/Hunt vs Team Rouse
END:VALARM
END:VEVENT
BEGIN:VEVENT
UID:frisco-284488@ygametime.com
DTSTAMP:20220219T200000Z
DTSTART;TZID=America/Chicago:20220219T140000
DURATION:PT0H60M0S
SUMMARY:5th/6th Team 2 vs Team Stewart/Hunt
DESCRIPTION:5th/6th Grade Basketball | Basketball\nFrisco Family YMCA\n
URL;VALUE=URI:https://ygametime.com/branch/frisco/sports/2021-winter-basketball/11297/?utm_medium=calendar&utm_source=team_cal&utm_content=league_url#game-284488
LOCATION:Cobb Middle School Court 1
BEGIN:VALARM
TRIGGER:-P2H
ACTION:DISPLAY
DESCRIPTION:5th/6th Team 2 vs Team Stewart/Hunt
END:VALARM
END:VEVENT
END:VCALENDAR

