BEGIN:VCALENDAR
VERSION:2.0
PRODID:-//YGAMETIME.com//YGT iCal Creator//EN
METHOD:PUBLISH
X-PUBLISHED-TTL:PT6H
REFRESH-INTERVAL;VALUE=DURATION:PT6H
CALSCALE:GREGORIAN
X-WR-CALNAME:YGAMETIME CALENDAR
BEGIN:VTIMEZONE
TZID:America/Chicago
X-LIC-LOCATION:America/Chicago
BEGIN:DAYLIGHT
TZOFFSETFROM:-0600
TZOFFSETTO:-0500
TZNAME:CDT
DTSTART:19700308T020000
RRULE:FREQ=YEARLY;BYMONTH=3;BYDAY=2SU
END:DAYLIGHT
BEGIN:STANDARD
TZOFFSETFROM:-0500
TZOFFSETTO:-0600
TZNAME:CST
DTSTART:19701101T020000
RRULE:FREQ=YEARLY;BYMONTH=11;BYDAY=1SU
END:STANDARD
END:VTIMEZONE
BEGIN:VEVENT
UID:frisco-262592@ygametime.com
DTSTAMP:20211204T200000Z
DTSTART;TZID=America/Chicago:20211204T140000
DURATION:PT0H60M0S
SUMMARY:Team Phangnivong vs Team Willis
DESCRIPTION:5th/6th Grade Basketball | Basketball\nFrisco Family YMCA\n
URL;VALUE=URI:https://ygametime.com/branch/frisco/sports/2021-winter-basketball/11297/?utm_medium=calendar&utm_source=team_cal&utm_content=league_url#game-262592
LOCATION:Cobb Middle School Court 2
BEGIN:VALARM
TRIGGER:-P2H
ACTION:DISPLAY
DESCRIPTION:Team Phangnivong vs Team Willis
END:VALARM
END:VEVENT
BEGIN:VEVENT
UID:frisco-262595@ygametime.com
DTSTAMP:20211211T200000Z
DTSTART;TZID=America/Chicago:20211211T140000
DURATION:PT0H60M0S
SUMMARY:Team Willis vs Team Sambitan
DESCRIPTION:5th/6th Grade Basketball | Basketball\nFrisco Family YMCA\n
URL;VALUE=URI:https://ygametime.com/branch/frisco/sports/2021-winter-basketball/11297/?utm_medium=calendar&utm_source=team_cal&utm_content=league_url#game-262595
LOCATION:Cobb Middle School Court 2
BEGIN:VALARM
TRIGGER:-P2H
ACTION:DISPLAY
DESCRIPTION:Team Willis vs Team Sambitan
END:VALARM
END:VEVENT
BEGIN:VEVENT
UID:frisco-262581@ygametime.com
DTSTAMP:20220108T190000Z
DTSTART;TZID=America/Chicago:20220108T130000
DURATION:PT0H60M0S
SUMMARY:Team Phangnivong vs Team Willis
DESCRIPTION:5th/6th Grade Basketball | Basketball\nFrisco Family YMCA\n
URL;VALUE=URI:https://ygametime.com/branch/frisco/sports/2021-winter-basketball/11297/?utm_medium=calendar&utm_source=team_cal&utm_content=league_url#game-262581
LOCATION:Cobb Middle School Court 1
BEGIN:VALARM
TRIGGER:-P2H
ACTION:DISPLAY
DESCRIPTION:Team Phangnivong vs Team Willis
END:VALARM
END:VEVENT
BEGIN:VEVENT
UID:frisco-262611@ygametime.com
DTSTAMP:20220115T210000Z
DTSTART;TZID=America/Chicago:20220115T150000
DURATION:PT0H60M0S
SUMMARY:Team Willis vs Team Sambitan
DESCRIPTION:5th/6th Grade Basketball | Basketball\nFrisco Family YMCA\n
URL;VALUE=URI:https://ygametime.com/branch/frisco/sports/2021-winter-basketball/11297/?utm_medium=calendar&utm_source=team_cal&utm_content=league_url#game-262611
LOCATION:Cobb Middle School Court 1
BEGIN:VALARM
TRIGGER:-P2H
ACTION:DISPLAY
DESCRIPTION:Team Willis vs Team Sambitan
END:VALARM
END:VEVENT
BEGIN:VEVENT
UID:frisco-262597@ygametime.com
DTSTAMP:20220122T200000Z
DTSTART;TZID=America/Chicago:20220122T140000
DURATION:PT0H60M0S
SUMMARY:Team Ary vs Team Willis
DESCRIPTION:5th/6th Grade Basketball | Basketball\nFrisco Family YMCA\n
URL;VALUE=URI:https://ygametime.com/branch/frisco/sports/2021-winter-basketball/11297/?utm_medium=calendar&utm_source=team_cal&utm_content=league_url#game-262597
LOCATION:Cobb Middle School Court 1
BEGIN:VALARM
TRIGGER:-P2H
ACTION:DISPLAY
DESCRIPTION:Team Ary vs Team Willis
END:VALARM
END:VEVENT
BEGIN:VEVENT
UID:frisco-262601@ygametime.com
DTSTAMP:20220129T200000Z
DTSTART;TZID=America/Chicago:20220129T140000
DURATION:PT0H60M0S
SUMMARY:Team Willis vs Phantoms (Reynolds/Mckinney)
DESCRIPTION:5th/6th Grade Basketball | Basketball\nFrisco Family YMCA\n
URL;VALUE=URI:https://ygametime.com/branch/frisco/sports/2021-winter-basketball/11297/?utm_medium=calendar&utm_source=team_cal&utm_content=league_url#game-262601
LOCATION:Cobb Middle School Court 2
BEGIN:VALARM
TRIGGER:-P2H
ACTION:DISPLAY
DESCRIPTION:Team Willis vs Phantoms (Reynolds/Mckinney)
END:VALARM
END:VEVENT
BEGIN:VEVENT
UID:frisco-262576@ygametime.com
DTSTAMP:20220205T190000Z
DTSTART;TZID=America/Chicago:20220205T130000
DURATION:PT0H60M0S
SUMMARY:Team Willis vs Team Hood
DESCRIPTION:5th/6th Grade Basketball | Basketball\nFrisco Family YMCA\n
URL;VALUE=URI:https://ygametime.com/branch/frisco/sports/2021-winter-basketball/11297/?utm_medium=calendar&utm_source=team_cal&utm_content=league_url#game-262576
LOCATION:Cobb Middle School Court 2
BEGIN:VALARM
TRIGGER:-P2H
ACTION:DISPLAY
DESCRIPTION:Team Willis vs Team Hood
END:VALARM
END:VEVENT
BEGIN:VEVENT
UID:frisco-284487@ygametime.com
DTSTAMP:20220219T190000Z
DTSTART;TZID=America/Chicago:20220219T130000
DURATION:PT0H60M0S
SUMMARY:Team Willis vs Team Childress
DESCRIPTION:5th/6th Grade Basketball | Basketball\nFrisco Family YMCA\n
URL;VALUE=URI:https://ygametime.com/branch/frisco/sports/2021-winter-basketball/11297/?utm_medium=calendar&utm_source=team_cal&utm_content=league_url#game-284487
LOCATION:Cobb Middle School Court 2
BEGIN:VALARM
TRIGGER:-P2H
ACTION:DISPLAY
DESCRIPTION:Team Willis vs Team Childress
END:VALARM
END:VEVENT
END:VCALENDAR

