BEGIN:VCALENDAR
VERSION:2.0
PRODID:-//YGAMETIME.com//YGT iCal Creator//EN
METHOD:PUBLISH
X-PUBLISHED-TTL:PT6H
REFRESH-INTERVAL;VALUE=DURATION:PT6H
CALSCALE:GREGORIAN
X-WR-CALNAME:YGAMETIME CALENDAR
BEGIN:VTIMEZONE
TZID:America/Chicago
X-LIC-LOCATION:America/Chicago
BEGIN:DAYLIGHT
TZOFFSETFROM:-0600
TZOFFSETTO:-0500
TZNAME:CDT
DTSTART:19700308T020000
RRULE:FREQ=YEARLY;BYMONTH=3;BYDAY=2SU
END:DAYLIGHT
BEGIN:STANDARD
TZOFFSETFROM:-0500
TZOFFSETTO:-0600
TZNAME:CST
DTSTART:19701101T020000
RRULE:FREQ=YEARLY;BYMONTH=11;BYDAY=1SU
END:STANDARD
END:VTIMEZONE
BEGIN:VEVENT
UID:frisco-261077@ygametime.com
DTSTAMP:20211204T150000Z
DTSTART;TZID=America/Chicago:20211204T090000
DURATION:PT0H60M0S
SUMMARY:Bulls (Pass/Stevenson) vs Galaxy (Kurji)
DESCRIPTION:PreK3/PreK4 Basketball | Basketball\nFrisco Family YMCA\n
URL;VALUE=URI:https://ygametime.com/branch/frisco/sports/2021-winter-basketball/11301/?utm_medium=calendar&utm_source=team_cal&utm_content=league_url#game-261077
LOCATION:Pioneer Middle School Court #2
BEGIN:VALARM
TRIGGER:-P2H
ACTION:DISPLAY
DESCRIPTION:Bulls (Pass/Stevenson) vs Galaxy (Kurji)
END:VALARM
END:VEVENT
BEGIN:VEVENT
UID:frisco-261093@ygametime.com
DTSTAMP:20220108T160000Z
DTSTART;TZID=America/Chicago:20220108T100000
DURATION:PT0H60M0S
SUMMARY:Galaxy (Kurji) vs Team Jackson
DESCRIPTION:PreK3/PreK4 Basketball | Basketball\nFrisco Family YMCA\n
URL;VALUE=URI:https://ygametime.com/branch/frisco/sports/2021-winter-basketball/11301/?utm_medium=calendar&utm_source=team_cal&utm_content=league_url#game-261093
LOCATION:Pioneer Middle School Court #1
BEGIN:VALARM
TRIGGER:-P2H
ACTION:DISPLAY
DESCRIPTION:Galaxy (Kurji) vs Team Jackson
END:VALARM
END:VEVENT
BEGIN:VEVENT
UID:frisco-261094@ygametime.com
DTSTAMP:20220115T150000Z
DTSTART;TZID=America/Chicago:20220115T090000
DURATION:PT0H60M0S
SUMMARY:Galaxy (Kurji) vs Thunderlizards (Howard)
DESCRIPTION:PreK3/PreK4 Basketball | Basketball\nFrisco Family YMCA\n
URL;VALUE=URI:https://ygametime.com/branch/frisco/sports/2021-winter-basketball/11301/?utm_medium=calendar&utm_source=team_cal&utm_content=league_url#game-261094
LOCATION:Pioneer Middle School Court #1
BEGIN:VALARM
TRIGGER:-P2H
ACTION:DISPLAY
DESCRIPTION:Galaxy (Kurji) vs Thunderlizards (Howard)
END:VALARM
END:VEVENT
BEGIN:VEVENT
UID:frisco-261097@ygametime.com
DTSTAMP:20220122T150000Z
DTSTART;TZID=America/Chicago:20220122T090000
DURATION:PT0H60M0S
SUMMARY:Bulls (Pass/Stevenson) vs Galaxy (Kurji)
DESCRIPTION:PreK3/PreK4 Basketball | Basketball\nFrisco Family YMCA\n
URL;VALUE=URI:https://ygametime.com/branch/frisco/sports/2021-winter-basketball/11301/?utm_medium=calendar&utm_source=team_cal&utm_content=league_url#game-261097
LOCATION:Pioneer Middle School Court #1
BEGIN:VALARM
TRIGGER:-P2H
ACTION:DISPLAY
DESCRIPTION:Bulls (Pass/Stevenson) vs Galaxy (Kurji)
END:VALARM
END:VEVENT
BEGIN:VEVENT
UID:frisco-261082@ygametime.com
DTSTAMP:20220129T150000Z
DTSTART;TZID=America/Chicago:20220129T090000
DURATION:PT0H60M0S
SUMMARY:Fireballs (Bright) vs Galaxy (Kurji)
DESCRIPTION:PreK3/PreK4 Basketball | Basketball\nFrisco Family YMCA\n
URL;VALUE=URI:https://ygametime.com/branch/frisco/sports/2021-winter-basketball/11301/?utm_medium=calendar&utm_source=team_cal&utm_content=league_url#game-261082
LOCATION:Pioneer Middle School Court #1
BEGIN:VALARM
TRIGGER:-P2H
ACTION:DISPLAY
DESCRIPTION:Fireballs (Bright) vs Galaxy (Kurji)
END:VALARM
END:VEVENT
BEGIN:VEVENT
UID:frisco-261088@ygametime.com
DTSTAMP:20220212T160000Z
DTSTART;TZID=America/Chicago:20220212T100000
DURATION:PT0H60M0S
SUMMARY:Chiefs (Akers/Ricks) vs Galaxy (Kurji)
DESCRIPTION:PreK3/PreK4 Basketball | Basketball\nFrisco Family YMCA\n
URL;VALUE=URI:https://ygametime.com/branch/frisco/sports/2021-winter-basketball/11301/?utm_medium=calendar&utm_source=team_cal&utm_content=league_url#game-261088
LOCATION:Pioneer Middle School Court #2
BEGIN:VALARM
TRIGGER:-P2H
ACTION:DISPLAY
DESCRIPTION:Chiefs (Akers/Ricks) vs Galaxy (Kurji)
END:VALARM
END:VEVENT
BEGIN:VEVENT
UID:frisco-261087@ygametime.com
DTSTAMP:20220219T160000Z
DTSTART;TZID=America/Chicago:20220219T100000
DURATION:PT0H60M0S
SUMMARY:Galaxy (Kurji) vs PK3/PK4 Team 2 (Robinson)
DESCRIPTION:PreK3/PreK4 Basketball | Basketball\nFrisco Family YMCA\n
URL;VALUE=URI:https://ygametime.com/branch/frisco/sports/2021-winter-basketball/11301/?utm_medium=calendar&utm_source=team_cal&utm_content=league_url#game-261087
LOCATION:Pioneer Middle School Court #1
BEGIN:VALARM
TRIGGER:-P2H
ACTION:DISPLAY
DESCRIPTION:Galaxy (Kurji) vs PK3/PK4 Team 2 (Robinson)
END:VALARM
END:VEVENT
END:VCALENDAR

