BEGIN:VCALENDAR
VERSION:2.0
PRODID:-//YGAMETIME.com//YGT iCal Creator//EN
METHOD:PUBLISH
X-PUBLISHED-TTL:PT6H
REFRESH-INTERVAL;VALUE=DURATION:PT6H
CALSCALE:GREGORIAN
X-WR-CALNAME:YGAMETIME CALENDAR
BEGIN:VTIMEZONE
TZID:America/Chicago
X-LIC-LOCATION:America/Chicago
BEGIN:DAYLIGHT
TZOFFSETFROM:-0600
TZOFFSETTO:-0500
TZNAME:CDT
DTSTART:19700308T020000
RRULE:FREQ=YEARLY;BYMONTH=3;BYDAY=2SU
END:DAYLIGHT
BEGIN:STANDARD
TZOFFSETFROM:-0500
TZOFFSETTO:-0600
TZNAME:CST
DTSTART:19701101T020000
RRULE:FREQ=YEARLY;BYMONTH=11;BYDAY=1SU
END:STANDARD
END:VTIMEZONE
BEGIN:VEVENT
UID:frisco-261162@ygametime.com
DTSTAMP:20211204T160000Z
DTSTART;TZID=America/Chicago:20211204T100000
DURATION:PT0H60M0S
SUMMARY:PK5/Kinder Team 4 (Ford) vs Mavericks (Morani)
DESCRIPTION:PreK5/Kinder Basketball | Basketball\nFrisco Family YMCA\n
URL;VALUE=URI:https://ygametime.com/branch/frisco/sports/2021-winter-basketball/11300/?utm_medium=calendar&utm_source=team_cal&utm_content=league_url#game-261162
LOCATION:Pioneer Middle School Court #2
BEGIN:VALARM
TRIGGER:-P2H
ACTION:DISPLAY
DESCRIPTION:PK5/Kinder Team 4 (Ford) vs Mavericks (Morani)
END:VALARM
END:VEVENT
BEGIN:VEVENT
UID:frisco-261165@ygametime.com
DTSTAMP:20211211T180000Z
DTSTART;TZID=America/Chicago:20211211T120000
DURATION:PT0H60M0S
SUMMARY:Mavericks (Morani) vs Team Beckman
DESCRIPTION:PreK5/Kinder Basketball | Basketball\nFrisco Family YMCA\n
URL;VALUE=URI:https://ygametime.com/branch/frisco/sports/2021-winter-basketball/11300/?utm_medium=calendar&utm_source=team_cal&utm_content=league_url#game-261165
LOCATION:Trent Middle School Court #1 
BEGIN:VALARM
TRIGGER:-P2H
ACTION:DISPLAY
DESCRIPTION:Mavericks (Morani) vs Team Beckman
END:VALARM
END:VEVENT
BEGIN:VEVENT
UID:frisco-261185@ygametime.com
DTSTAMP:20220115T170000Z
DTSTART;TZID=America/Chicago:20220115T110000
DURATION:PT0H60M0S
SUMMARY:Mavericks (Morani) vs Team Sellari
DESCRIPTION:PreK5/Kinder Basketball | Basketball\nFrisco Family YMCA\n
URL;VALUE=URI:https://ygametime.com/branch/frisco/sports/2021-winter-basketball/11300/?utm_medium=calendar&utm_source=team_cal&utm_content=league_url#game-261185
LOCATION:Pioneer Middle School Court #1
BEGIN:VALARM
TRIGGER:-P2H
ACTION:DISPLAY
DESCRIPTION:Mavericks (Morani) vs Team Sellari
END:VALARM
END:VEVENT
BEGIN:VEVENT
UID:frisco-261189@ygametime.com
DTSTAMP:20220122T170000Z
DTSTART;TZID=America/Chicago:20220122T110000
DURATION:PT0H60M0S
SUMMARY:Team Karas vs Mavericks (Morani)
DESCRIPTION:PreK5/Kinder Basketball | Basketball\nFrisco Family YMCA\n
URL;VALUE=URI:https://ygametime.com/branch/frisco/sports/2021-winter-basketball/11300/?utm_medium=calendar&utm_source=team_cal&utm_content=league_url#game-261189
LOCATION:Pioneer Middle School Court #1
BEGIN:VALARM
TRIGGER:-P2H
ACTION:DISPLAY
DESCRIPTION:Team Karas vs Mavericks (Morani)
END:VALARM
END:VEVENT
BEGIN:VEVENT
UID:frisco-261168@ygametime.com
DTSTAMP:20220129T170000Z
DTSTART;TZID=America/Chicago:20220129T110000
DURATION:PT0H60M0S
SUMMARY:Team Beckman vs Mavericks (Morani)
DESCRIPTION:PreK5/Kinder Basketball | Basketball\nFrisco Family YMCA\n
URL;VALUE=URI:https://ygametime.com/branch/frisco/sports/2021-winter-basketball/11300/?utm_medium=calendar&utm_source=team_cal&utm_content=league_url#game-261168
LOCATION:Pioneer Middle School Court #2
BEGIN:VALARM
TRIGGER:-P2H
ACTION:DISPLAY
DESCRIPTION:Team Beckman vs Mavericks (Morani)
END:VALARM
END:VEVENT
BEGIN:VEVENT
UID:frisco-261176@ygametime.com
DTSTAMP:20220212T170000Z
DTSTART;TZID=America/Chicago:20220212T110000
DURATION:PT0H60M0S
SUMMARY:PK5/K Team 3 (Delheim) vs Mavericks (Morani)
DESCRIPTION:PreK5/Kinder Basketball | Basketball\nFrisco Family YMCA\n
URL;VALUE=URI:https://ygametime.com/branch/frisco/sports/2021-winter-basketball/11300/?utm_medium=calendar&utm_source=team_cal&utm_content=league_url#game-261176
LOCATION:Pioneer Middle School Court #1
BEGIN:VALARM
TRIGGER:-P2H
ACTION:DISPLAY
DESCRIPTION:PK5/K Team 3 (Delheim) vs Mavericks (Morani)
END:VALARM
END:VEVENT
BEGIN:VEVENT
UID:frisco-261174@ygametime.com
DTSTAMP:20220219T180000Z
DTSTART;TZID=America/Chicago:20220219T120000
DURATION:PT0H60M0S
SUMMARY:Mavericks (Morani) vs Mavericks (Moore)
DESCRIPTION:PreK5/Kinder Basketball | Basketball\nFrisco Family YMCA\n
URL;VALUE=URI:https://ygametime.com/branch/frisco/sports/2021-winter-basketball/11300/?utm_medium=calendar&utm_source=team_cal&utm_content=league_url#game-261174
LOCATION:Pioneer Middle School Court #1
BEGIN:VALARM
TRIGGER:-P2H
ACTION:DISPLAY
DESCRIPTION:Mavericks (Morani) vs Mavericks (Moore)
END:VALARM
END:VEVENT
END:VCALENDAR

