BEGIN:VCALENDAR
VERSION:2.0
PRODID:-//YGAMETIME.com//YGT iCal Creator//EN
METHOD:PUBLISH
X-PUBLISHED-TTL:PT6H
REFRESH-INTERVAL;VALUE=DURATION:PT6H
CALSCALE:GREGORIAN
X-WR-CALNAME:YGAMETIME CALENDAR
BEGIN:VTIMEZONE
TZID:America/Chicago
X-LIC-LOCATION:America/Chicago
BEGIN:DAYLIGHT
TZOFFSETFROM:-0600
TZOFFSETTO:-0500
TZNAME:CDT
DTSTART:19700308T020000
RRULE:FREQ=YEARLY;BYMONTH=3;BYDAY=2SU
END:DAYLIGHT
BEGIN:STANDARD
TZOFFSETFROM:-0500
TZOFFSETTO:-0600
TZNAME:CST
DTSTART:19701101T020000
RRULE:FREQ=YEARLY;BYMONTH=11;BYDAY=1SU
END:STANDARD
END:VTIMEZONE
BEGIN:VEVENT
UID:frisco-261161@ygametime.com
DTSTAMP:20211204T180000Z
DTSTART;TZID=America/Chicago:20211204T120000
DURATION:PT0H60M0S
SUMMARY:Team Ross vs PK5/K Team 3 (Delheim)
DESCRIPTION:PreK5/Kinder Basketball | Basketball\nFrisco Family YMCA\n
URL;VALUE=URI:https://ygametime.com/branch/frisco/sports/2021-winter-basketball/11300/?utm_medium=calendar&utm_source=team_cal&utm_content=league_url#game-261161
LOCATION:Pioneer Middle School Court #1
BEGIN:VALARM
TRIGGER:-P2H
ACTION:DISPLAY
DESCRIPTION:Team Ross vs PK5/K Team 3 (Delheim)
END:VALARM
END:VEVENT
BEGIN:VEVENT
UID:frisco-261163@ygametime.com
DTSTAMP:20211211T170000Z
DTSTART;TZID=America/Chicago:20211211T110000
DURATION:PT0H60M0S
SUMMARY:PK5/K Team 3 (Delheim) vs Mavericks (Moore)
DESCRIPTION:PreK5/Kinder Basketball | Basketball\nFrisco Family YMCA\n
URL;VALUE=URI:https://ygametime.com/branch/frisco/sports/2021-winter-basketball/11300/?utm_medium=calendar&utm_source=team_cal&utm_content=league_url#game-261163
LOCATION:Trent Middle School Court #1 
BEGIN:VALARM
TRIGGER:-P2H
ACTION:DISPLAY
DESCRIPTION:PK5/K Team 3 (Delheim) vs Mavericks (Moore)
END:VALARM
END:VEVENT
BEGIN:VEVENT
UID:frisco-261180@ygametime.com
DTSTAMP:20220108T170000Z
DTSTART;TZID=America/Chicago:20220108T110000
DURATION:PT0H60M0S
SUMMARY:Team Karas vs PK5/K Team 3 (Delheim)
DESCRIPTION:PreK5/Kinder Basketball | Basketball\nFrisco Family YMCA\n
URL;VALUE=URI:https://ygametime.com/branch/frisco/sports/2021-winter-basketball/11300/?utm_medium=calendar&utm_source=team_cal&utm_content=league_url#game-261180
LOCATION:Pioneer Middle School Court #2
BEGIN:VALARM
TRIGGER:-P2H
ACTION:DISPLAY
DESCRIPTION:Team Karas vs PK5/K Team 3 (Delheim)
END:VALARM
END:VEVENT
BEGIN:VEVENT
UID:frisco-261184@ygametime.com
DTSTAMP:20220115T170000Z
DTSTART;TZID=America/Chicago:20220115T110000
DURATION:PT0H60M0S
SUMMARY:PK5/K Team 3 (Delheim) vs PK5/K Team 2 (Haese)
DESCRIPTION:PreK5/Kinder Basketball | Basketball\nFrisco Family YMCA\n
URL;VALUE=URI:https://ygametime.com/branch/frisco/sports/2021-winter-basketball/11300/?utm_medium=calendar&utm_source=team_cal&utm_content=league_url#game-261184
LOCATION:Pioneer Middle School Court #2
BEGIN:VALARM
TRIGGER:-P2H
ACTION:DISPLAY
DESCRIPTION:PK5/K Team 3 (Delheim) vs PK5/K Team 2 (Haese)
END:VALARM
END:VEVENT
BEGIN:VEVENT
UID:frisco-261187@ygametime.com
DTSTAMP:20220122T160000Z
DTSTART;TZID=America/Chicago:20220122T100000
DURATION:PT0H60M0S
SUMMARY:PK5/Kinder Team 4 (Ford) vs PK5/K Team 3 (Delheim)
DESCRIPTION:PreK5/Kinder Basketball | Basketball\nFrisco Family YMCA\n
URL;VALUE=URI:https://ygametime.com/branch/frisco/sports/2021-winter-basketball/11300/?utm_medium=calendar&utm_source=team_cal&utm_content=league_url#game-261187
LOCATION:Pioneer Middle School Court #2
BEGIN:VALARM
TRIGGER:-P2H
ACTION:DISPLAY
DESCRIPTION:PK5/Kinder Team 4 (Ford) vs PK5/K Team 3 (Delheim)
END:VALARM
END:VEVENT
BEGIN:VEVENT
UID:frisco-261169@ygametime.com
DTSTAMP:20220129T170000Z
DTSTART;TZID=America/Chicago:20220129T110000
DURATION:PT0H60M0S
SUMMARY:PK5/K Team 3 (Delheim) vs Team Sellari
DESCRIPTION:PreK5/Kinder Basketball | Basketball\nFrisco Family YMCA\n
URL;VALUE=URI:https://ygametime.com/branch/frisco/sports/2021-winter-basketball/11300/?utm_medium=calendar&utm_source=team_cal&utm_content=league_url#game-261169
LOCATION:Pioneer Middle School Court #1
BEGIN:VALARM
TRIGGER:-P2H
ACTION:DISPLAY
DESCRIPTION:PK5/K Team 3 (Delheim) vs Team Sellari
END:VALARM
END:VEVENT
BEGIN:VEVENT
UID:frisco-261176@ygametime.com
DTSTAMP:20220212T170000Z
DTSTART;TZID=America/Chicago:20220212T110000
DURATION:PT0H60M0S
SUMMARY:PK5/K Team 3 (Delheim) vs Mavericks (Morani)
DESCRIPTION:PreK5/Kinder Basketball | Basketball\nFrisco Family YMCA\n
URL;VALUE=URI:https://ygametime.com/branch/frisco/sports/2021-winter-basketball/11300/?utm_medium=calendar&utm_source=team_cal&utm_content=league_url#game-261176
LOCATION:Pioneer Middle School Court #1
BEGIN:VALARM
TRIGGER:-P2H
ACTION:DISPLAY
DESCRIPTION:PK5/K Team 3 (Delheim) vs Mavericks (Morani)
END:VALARM
END:VEVENT
END:VCALENDAR

