BEGIN:VCALENDAR
VERSION:2.0
PRODID:-//YGAMETIME.com//YGT iCal Creator//EN
METHOD:PUBLISH
X-PUBLISHED-TTL:PT6H
REFRESH-INTERVAL;VALUE=DURATION:PT6H
CALSCALE:GREGORIAN
X-WR-CALNAME:YGAMETIME CALENDAR
BEGIN:VTIMEZONE
TZID:America/Chicago
X-LIC-LOCATION:America/Chicago
BEGIN:DAYLIGHT
TZOFFSETFROM:-0600
TZOFFSETTO:-0500
TZNAME:CDT
DTSTART:19700308T020000
RRULE:FREQ=YEARLY;BYMONTH=3;BYDAY=2SU
END:DAYLIGHT
BEGIN:STANDARD
TZOFFSETFROM:-0500
TZOFFSETTO:-0600
TZNAME:CST
DTSTART:19701101T020000
RRULE:FREQ=YEARLY;BYMONTH=11;BYDAY=1SU
END:STANDARD
END:VTIMEZONE
BEGIN:VEVENT
UID:frisco-262378@ygametime.com
DTSTAMP:20211204T200000Z
DTSTART;TZID=America/Chicago:20211204T140000
DURATION:PT0H60M0S
SUMMARY:Mini-MAVS (Hill/Greco) vs Starwood (Young)
DESCRIPTION:1st/2nd Grade Basketball | Basketball\nFrisco Family YMCA\n
URL;VALUE=URI:https://ygametime.com/branch/frisco/sports/2021-winter-basketball/11299/?utm_medium=calendar&utm_source=team_cal&utm_content=league_url#game-262378
LOCATION:Pioneer Middle School Court #1
BEGIN:VALARM
TRIGGER:-P2H
ACTION:DISPLAY
DESCRIPTION:Mini-MAVS (Hill/Greco) vs Starwood (Young)
END:VALARM
END:VEVENT
BEGIN:VEVENT
UID:frisco-262382@ygametime.com
DTSTAMP:20211211T200000Z
DTSTART;TZID=America/Chicago:20211211T140000
DURATION:PT0H60M0S
SUMMARY:Tigers (Garcia) vs Mini-MAVS (Hill/Greco)
DESCRIPTION:1st/2nd Grade Basketball | Basketball\nFrisco Family YMCA\n
URL;VALUE=URI:https://ygametime.com/branch/frisco/sports/2021-winter-basketball/11299/?utm_medium=calendar&utm_source=team_cal&utm_content=league_url#game-262382
LOCATION:Trent Middle School Court #1 
BEGIN:VALARM
TRIGGER:-P2H
ACTION:DISPLAY
DESCRIPTION:Tigers (Garcia) vs Mini-MAVS (Hill/Greco)
END:VALARM
END:VEVENT
BEGIN:VEVENT
UID:frisco-262399@ygametime.com
DTSTAMP:20220108T200000Z
DTSTART;TZID=America/Chicago:20220108T140000
DURATION:PT0H60M0S
SUMMARY:McKinney Team vs Mini-MAVS (Hill/Greco)
DESCRIPTION:1st/2nd Grade Basketball | Basketball\nFrisco Family YMCA\n
URL;VALUE=URI:https://ygametime.com/branch/frisco/sports/2021-winter-basketball/11299/?utm_medium=calendar&utm_source=team_cal&utm_content=league_url#game-262399
LOCATION:Pioneer Middle School Court #2
BEGIN:VALARM
TRIGGER:-P2H
ACTION:DISPLAY
DESCRIPTION:McKinney Team vs Mini-MAVS (Hill/Greco)
END:VALARM
END:VEVENT
BEGIN:VEVENT
UID:frisco-262405@ygametime.com
DTSTAMP:20220115T210000Z
DTSTART;TZID=America/Chicago:20220115T150000
DURATION:PT0H60M0S
SUMMARY:Mini-MAVS (Hill/Greco) vs Scorpions II  (Derickson)
DESCRIPTION:1st/2nd Grade Basketball | Basketball\nFrisco Family YMCA\n
URL;VALUE=URI:https://ygametime.com/branch/frisco/sports/2021-winter-basketball/11299/?utm_medium=calendar&utm_source=team_cal&utm_content=league_url#game-262405
LOCATION:Pioneer Middle School Court #2
BEGIN:VALARM
TRIGGER:-P2H
ACTION:DISPLAY
DESCRIPTION:Mini-MAVS (Hill/Greco) vs Scorpions II  (Derickson)
END:VALARM
END:VEVENT
BEGIN:VEVENT
UID:frisco-262386@ygametime.com
DTSTAMP:20220122T200000Z
DTSTART;TZID=America/Chicago:20220122T140000
DURATION:PT0H60M0S
SUMMARY:Mini-MAVS (Hill/Greco) vs Team Wrightsil
DESCRIPTION:1st/2nd Grade Basketball | Basketball\nFrisco Family YMCA\n
URL;VALUE=URI:https://ygametime.com/branch/frisco/sports/2021-winter-basketball/11299/?utm_medium=calendar&utm_source=team_cal&utm_content=league_url#game-262386
LOCATION:Pioneer Middle School Court #1
BEGIN:VALARM
TRIGGER:-P2H
ACTION:DISPLAY
DESCRIPTION:Mini-MAVS (Hill/Greco) vs Team Wrightsil
END:VALARM
END:VEVENT
BEGIN:VEVENT
UID:frisco-262390@ygametime.com
DTSTAMP:20220129T200000Z
DTSTART;TZID=America/Chicago:20220129T140000
DURATION:PT0H60M0S
SUMMARY:Team Large vs Mini-MAVS (Hill/Greco)
DESCRIPTION:1st/2nd Grade Basketball | Basketball\nFrisco Family YMCA\n
URL;VALUE=URI:https://ygametime.com/branch/frisco/sports/2021-winter-basketball/11299/?utm_medium=calendar&utm_source=team_cal&utm_content=league_url#game-262390
LOCATION:Pioneer Middle School Court #1
BEGIN:VALARM
TRIGGER:-P2H
ACTION:DISPLAY
DESCRIPTION:Team Large vs Mini-MAVS (Hill/Greco)
END:VALARM
END:VEVENT
BEGIN:VEVENT
UID:frisco-262397@ygametime.com
DTSTAMP:20220219T210000Z
DTSTART;TZID=America/Chicago:20220219T150000
DURATION:PT0H60M0S
SUMMARY:Mini-MAVS (Hill/Greco) vs The Bears (Abeyta/Diamond)
DESCRIPTION:1st/2nd Grade Basketball | Basketball\nFrisco Family YMCA\n
URL;VALUE=URI:https://ygametime.com/branch/frisco/sports/2021-winter-basketball/11299/?utm_medium=calendar&utm_source=team_cal&utm_content=league_url#game-262397
LOCATION:Pioneer Middle School Court #2
BEGIN:VALARM
TRIGGER:-P2H
ACTION:DISPLAY
DESCRIPTION:Mini-MAVS (Hill/Greco) vs The Bears (Abeyta/Diamond)
END:VALARM
END:VEVENT
END:VCALENDAR

