BEGIN:VCALENDAR
VERSION:2.0
PRODID:-//YGAMETIME.com//YGT iCal Creator//EN
METHOD:PUBLISH
X-PUBLISHED-TTL:PT6H
REFRESH-INTERVAL;VALUE=DURATION:PT6H
CALSCALE:GREGORIAN
X-WR-CALNAME:YGAMETIME CALENDAR
BEGIN:VTIMEZONE
TZID:America/Chicago
X-LIC-LOCATION:America/Chicago
BEGIN:DAYLIGHT
TZOFFSETFROM:-0600
TZOFFSETTO:-0500
TZNAME:CDT
DTSTART:19700308T020000
RRULE:FREQ=YEARLY;BYMONTH=3;BYDAY=2SU
END:DAYLIGHT
BEGIN:STANDARD
TZOFFSETFROM:-0500
TZOFFSETTO:-0600
TZNAME:CST
DTSTART:19701101T020000
RRULE:FREQ=YEARLY;BYMONTH=11;BYDAY=1SU
END:STANDARD
END:VTIMEZONE
BEGIN:VEVENT
UID:frisco-262379@ygametime.com
DTSTAMP:20211204T200000Z
DTSTART;TZID=America/Chicago:20211204T140000
DURATION:PT0H60M0S
SUMMARY:The Bears (Abeyta/Diamond) vs Team Large
DESCRIPTION:1st/2nd Grade Basketball | Basketball\nFrisco Family YMCA\n
URL;VALUE=URI:https://ygametime.com/branch/frisco/sports/2021-winter-basketball/11299/?utm_medium=calendar&utm_source=team_cal&utm_content=league_url#game-262379
LOCATION:Pioneer Middle School Court #2
BEGIN:VALARM
TRIGGER:-P2H
ACTION:DISPLAY
DESCRIPTION:The Bears (Abeyta/Diamond) vs Team Large
END:VALARM
END:VEVENT
BEGIN:VEVENT
UID:frisco-262385@ygametime.com
DTSTAMP:20211211T210000Z
DTSTART;TZID=America/Chicago:20211211T150000
DURATION:PT0H60M0S
SUMMARY:Starwood (Young) vs The Bears (Abeyta/Diamond)
DESCRIPTION:1st/2nd Grade Basketball | Basketball\nFrisco Family YMCA\n
URL;VALUE=URI:https://ygametime.com/branch/frisco/sports/2021-winter-basketball/11299/?utm_medium=calendar&utm_source=team_cal&utm_content=league_url#game-262385
LOCATION:Trent Middle School Court #2
BEGIN:VALARM
TRIGGER:-P2H
ACTION:DISPLAY
DESCRIPTION:Starwood (Young) vs The Bears (Abeyta/Diamond)
END:VALARM
END:VEVENT
BEGIN:VEVENT
UID:frisco-262400@ygametime.com
DTSTAMP:20220108T210000Z
DTSTART;TZID=America/Chicago:20220108T150000
DURATION:PT0H60M0S
SUMMARY:The Bears (Abeyta/Diamond) vs Tigers (Garcia)
DESCRIPTION:1st/2nd Grade Basketball | Basketball\nFrisco Family YMCA\n
URL;VALUE=URI:https://ygametime.com/branch/frisco/sports/2021-winter-basketball/11299/?utm_medium=calendar&utm_source=team_cal&utm_content=league_url#game-262400
LOCATION:Pioneer Middle School Court #1
BEGIN:VALARM
TRIGGER:-P2H
ACTION:DISPLAY
DESCRIPTION:The Bears (Abeyta/Diamond) vs Tigers (Garcia)
END:VALARM
END:VEVENT
BEGIN:VEVENT
UID:frisco-262373@ygametime.com
DTSTAMP:20220115T180000Z
DTSTART;TZID=America/Chicago:20220115T120000
DURATION:PT0H60M0S
SUMMARY:The Bears (Abeyta/Diamond) vs 1st/2nd Team 1 (Sloman/Nix)
DESCRIPTION:1st/2nd Grade Basketball | Basketball\nFrisco Family YMCA\n
URL;VALUE=URI:https://ygametime.com/branch/frisco/sports/2021-winter-basketball/11299/?utm_medium=calendar&utm_source=team_cal&utm_content=league_url#game-262373
LOCATION:Pioneer Middle School Court #2
BEGIN:VALARM
TRIGGER:-P2H
ACTION:DISPLAY
DESCRIPTION:The Bears (Abeyta/Diamond) vs 1st/2nd Team 1 (Sloman/Nix)
END:VALARM
END:VEVENT
BEGIN:VEVENT
UID:frisco-262389@ygametime.com
DTSTAMP:20220122T210000Z
DTSTART;TZID=America/Chicago:20220122T150000
DURATION:PT0H60M0S
SUMMARY:McKinney Team vs The Bears (Abeyta/Diamond)
DESCRIPTION:1st/2nd Grade Basketball | Basketball\nFrisco Family YMCA\n
URL;VALUE=URI:https://ygametime.com/branch/frisco/sports/2021-winter-basketball/11299/?utm_medium=calendar&utm_source=team_cal&utm_content=league_url#game-262389
LOCATION:Pioneer Middle School Court #2
BEGIN:VALARM
TRIGGER:-P2H
ACTION:DISPLAY
DESCRIPTION:McKinney Team vs The Bears (Abeyta/Diamond)
END:VALARM
END:VEVENT
BEGIN:VEVENT
UID:frisco-262393@ygametime.com
DTSTAMP:20220129T210000Z
DTSTART;TZID=America/Chicago:20220129T150000
DURATION:PT0H60M0S
SUMMARY:The Bears (Abeyta/Diamond) vs Scorpions II  (Derickson)
DESCRIPTION:1st/2nd Grade Basketball | Basketball\nFrisco Family YMCA\n
URL;VALUE=URI:https://ygametime.com/branch/frisco/sports/2021-winter-basketball/11299/?utm_medium=calendar&utm_source=team_cal&utm_content=league_url#game-262393
LOCATION:Pioneer Middle School Court #2
BEGIN:VALARM
TRIGGER:-P2H
ACTION:DISPLAY
DESCRIPTION:The Bears (Abeyta/Diamond) vs Scorpions II  (Derickson)
END:VALARM
END:VEVENT
BEGIN:VEVENT
UID:frisco-262397@ygametime.com
DTSTAMP:20220219T210000Z
DTSTART;TZID=America/Chicago:20220219T150000
DURATION:PT0H60M0S
SUMMARY:Mini-MAVS (Hill/Greco) vs The Bears (Abeyta/Diamond)
DESCRIPTION:1st/2nd Grade Basketball | Basketball\nFrisco Family YMCA\n
URL;VALUE=URI:https://ygametime.com/branch/frisco/sports/2021-winter-basketball/11299/?utm_medium=calendar&utm_source=team_cal&utm_content=league_url#game-262397
LOCATION:Pioneer Middle School Court #2
BEGIN:VALARM
TRIGGER:-P2H
ACTION:DISPLAY
DESCRIPTION:Mini-MAVS (Hill/Greco) vs The Bears (Abeyta/Diamond)
END:VALARM
END:VEVENT
END:VCALENDAR

