BEGIN:VCALENDAR
VERSION:2.0
PRODID:-//YGAMETIME.com//YGT iCal Creator//EN
METHOD:PUBLISH
X-PUBLISHED-TTL:PT6H
REFRESH-INTERVAL;VALUE=DURATION:PT6H
CALSCALE:GREGORIAN
X-WR-CALNAME:YGAMETIME CALENDAR
BEGIN:VTIMEZONE
TZID:America/Chicago
X-LIC-LOCATION:America/Chicago
BEGIN:DAYLIGHT
TZOFFSETFROM:-0600
TZOFFSETTO:-0500
TZNAME:CDT
DTSTART:19700308T020000
RRULE:FREQ=YEARLY;BYMONTH=3;BYDAY=2SU
END:DAYLIGHT
BEGIN:STANDARD
TZOFFSETFROM:-0500
TZOFFSETTO:-0600
TZNAME:CST
DTSTART:19701101T020000
RRULE:FREQ=YEARLY;BYMONTH=11;BYDAY=1SU
END:STANDARD
END:VTIMEZONE
BEGIN:VEVENT
UID:frisco-262510@ygametime.com
DTSTAMP:20211204T150000Z
DTSTART;TZID=America/Chicago:20211204T090000
DURATION:PT0H60M0S
SUMMARY:Team Cummings vs Team Schneller
DESCRIPTION:3rd/4th Grade Basketball | Basketball\nFrisco Family YMCA\n
URL;VALUE=URI:https://ygametime.com/branch/frisco/sports/2021-winter-basketball/11298/?utm_medium=calendar&utm_source=team_cal&utm_content=league_url#game-262510
LOCATION:Cobb Middle School Court 1
BEGIN:VALARM
TRIGGER:-P2H
ACTION:DISPLAY
DESCRIPTION:Team Cummings vs Team Schneller
END:VALARM
END:VEVENT
BEGIN:VEVENT
UID:frisco-262517@ygametime.com
DTSTAMP:20211211T150000Z
DTSTART;TZID=America/Chicago:20211211T090000
DURATION:PT0H60M0S
SUMMARY:Fast and Furious (3rd/4th Team 5) vs Team Cummings
DESCRIPTION:3rd/4th Grade Basketball | Basketball\nFrisco Family YMCA\n
URL;VALUE=URI:https://ygametime.com/branch/frisco/sports/2021-winter-basketball/11298/?utm_medium=calendar&utm_source=team_cal&utm_content=league_url#game-262517
LOCATION:Cobb Middle School Court 1
BEGIN:VALARM
TRIGGER:-P2H
ACTION:DISPLAY
DESCRIPTION:Fast and Furious (3rd/4th Team 5) vs Team Cummings
END:VALARM
END:VEVENT
BEGIN:VEVENT
UID:frisco-262549@ygametime.com
DTSTAMP:20220108T170000Z
DTSTART;TZID=America/Chicago:20220108T110000
DURATION:PT0H60M0S
SUMMARY:Bledsoe Lions (Martin) vs Team Cummings
DESCRIPTION:3rd/4th Grade Basketball | Basketball\nFrisco Family YMCA\n
URL;VALUE=URI:https://ygametime.com/branch/frisco/sports/2021-winter-basketball/11298/?utm_medium=calendar&utm_source=team_cal&utm_content=league_url#game-262549
LOCATION:Cobb Middle School Court 1
BEGIN:VALARM
TRIGGER:-P2H
ACTION:DISPLAY
DESCRIPTION:Bledsoe Lions (Martin) vs Team Cummings
END:VALARM
END:VEVENT
BEGIN:VEVENT
UID:frisco-262558@ygametime.com
DTSTAMP:20220115T180000Z
DTSTART;TZID=America/Chicago:20220115T120000
DURATION:PT0H60M0S
SUMMARY:Team Cummings vs Mini-MAVS (Jabour)
DESCRIPTION:3rd/4th Grade Basketball | Basketball\nFrisco Family YMCA\n
URL;VALUE=URI:https://ygametime.com/branch/frisco/sports/2021-winter-basketball/11298/?utm_medium=calendar&utm_source=team_cal&utm_content=league_url#game-262558
LOCATION:Cobb Middle School Court 1
BEGIN:VALARM
TRIGGER:-P2H
ACTION:DISPLAY
DESCRIPTION:Team Cummings vs Mini-MAVS (Jabour)
END:VALARM
END:VEVENT
BEGIN:VEVENT
UID:frisco-262565@ygametime.com
DTSTAMP:20220122T180000Z
DTSTART;TZID=America/Chicago:20220122T120000
DURATION:PT0H60M0S
SUMMARY:Team Woodford vs Team Cummings
DESCRIPTION:3rd/4th Grade Basketball | Basketball\nFrisco Family YMCA\n
URL;VALUE=URI:https://ygametime.com/branch/frisco/sports/2021-winter-basketball/11298/?utm_medium=calendar&utm_source=team_cal&utm_content=league_url#game-262565
LOCATION:Cobb Middle School Court 1
BEGIN:VALARM
TRIGGER:-P2H
ACTION:DISPLAY
DESCRIPTION:Team Woodford vs Team Cummings
END:VALARM
END:VEVENT
BEGIN:VEVENT
UID:frisco-262524@ygametime.com
DTSTAMP:20220129T150000Z
DTSTART;TZID=America/Chicago:20220129T090000
DURATION:PT0H60M0S
SUMMARY:Team Cummings vs Warriors (3rd/4th Team 7)
DESCRIPTION:3rd/4th Grade Basketball | Basketball\nFrisco Family YMCA\n
URL;VALUE=URI:https://ygametime.com/branch/frisco/sports/2021-winter-basketball/11298/?utm_medium=calendar&utm_source=team_cal&utm_content=league_url#game-262524
LOCATION:Cobb Middle School Court 1
BEGIN:VALARM
TRIGGER:-P2H
ACTION:DISPLAY
DESCRIPTION:Team Cummings vs Warriors (3rd/4th Team 7)
END:VALARM
END:VEVENT
BEGIN:VEVENT
UID:frisco-262531@ygametime.com
DTSTAMP:20220205T150000Z
DTSTART;TZID=America/Chicago:20220205T090000
DURATION:PT0H60M0S
SUMMARY:Plano Team vs Team Cummings
DESCRIPTION:3rd/4th Grade Basketball | Basketball\nFrisco Family YMCA\n
URL;VALUE=URI:https://ygametime.com/branch/frisco/sports/2021-winter-basketball/11298/?utm_medium=calendar&utm_source=team_cal&utm_content=league_url#game-262531
LOCATION:Cobb Middle School Court 1
BEGIN:VALARM
TRIGGER:-P2H
ACTION:DISPLAY
DESCRIPTION:Plano Team vs Team Cummings
END:VALARM
END:VEVENT
BEGIN:VEVENT
UID:frisco-262544@ygametime.com
DTSTAMP:20220212T180000Z
DTSTART;TZID=America/Chicago:20220212T120000
DURATION:PT0H60M0S
SUMMARY:Team Cummings vs Bulls (Messerli)
DESCRIPTION:3rd/4th Grade Basketball | Basketball\nFrisco Family YMCA\n
URL;VALUE=URI:https://ygametime.com/branch/frisco/sports/2021-winter-basketball/11298/?utm_medium=calendar&utm_source=team_cal&utm_content=league_url#game-262544
LOCATION:Cobb Middle School Court 1
BEGIN:VALARM
TRIGGER:-P2H
ACTION:DISPLAY
DESCRIPTION:Team Cummings vs Bulls (Messerli)
END:VALARM
END:VEVENT
BEGIN:VEVENT
UID:frisco-284478@ygametime.com
DTSTAMP:20220219T160000Z
DTSTART;TZID=America/Chicago:20220219T100000
DURATION:PT0H60M0S
SUMMARY:Plano Team vs Team Cummings
DESCRIPTION:3rd/4th Grade Basketball | Basketball\nFrisco Family YMCA\n
URL;VALUE=URI:https://ygametime.com/branch/frisco/sports/2021-winter-basketball/11298/?utm_medium=calendar&utm_source=team_cal&utm_content=league_url#game-284478
LOCATION:Cobb Middle School Court 2
BEGIN:VALARM
TRIGGER:-P2H
ACTION:DISPLAY
DESCRIPTION:Plano Team vs Team Cummings
END:VALARM
END:VEVENT
END:VCALENDAR

