BEGIN:VCALENDAR
VERSION:2.0
PRODID:-//YGAMETIME.com//YGT iCal Creator//EN
METHOD:PUBLISH
X-PUBLISHED-TTL:PT6H
REFRESH-INTERVAL;VALUE=DURATION:PT6H
CALSCALE:GREGORIAN
X-WR-CALNAME:YGAMETIME CALENDAR
BEGIN:VTIMEZONE
TZID:America/Chicago
X-LIC-LOCATION:America/Chicago
BEGIN:DAYLIGHT
TZOFFSETFROM:-0600
TZOFFSETTO:-0500
TZNAME:CDT
DTSTART:19700308T020000
RRULE:FREQ=YEARLY;BYMONTH=3;BYDAY=2SU
END:DAYLIGHT
BEGIN:STANDARD
TZOFFSETFROM:-0500
TZOFFSETTO:-0600
TZNAME:CST
DTSTART:19701101T020000
RRULE:FREQ=YEARLY;BYMONTH=11;BYDAY=1SU
END:STANDARD
END:VTIMEZONE
BEGIN:VEVENT
UID:frisco-262514@ygametime.com
DTSTAMP:20211204T170000Z
DTSTART;TZID=America/Chicago:20211204T110000
DURATION:PT0H60M0S
SUMMARY:Lakers (Malpica) vs Warriors (3rd/4th Team 7)
DESCRIPTION:3rd/4th Grade Basketball | Basketball\nFrisco Family YMCA\n
URL;VALUE=URI:https://ygametime.com/branch/frisco/sports/2021-winter-basketball/11298/?utm_medium=calendar&utm_source=team_cal&utm_content=league_url#game-262514
LOCATION:Cobb Middle School Court 1
BEGIN:VALARM
TRIGGER:-P2H
ACTION:DISPLAY
DESCRIPTION:Lakers (Malpica) vs Warriors (3rd/4th Team 7)
END:VALARM
END:VEVENT
BEGIN:VEVENT
UID:frisco-262519@ygametime.com
DTSTAMP:20211211T160000Z
DTSTART;TZID=America/Chicago:20211211T100000
DURATION:PT0H60M0S
SUMMARY:Warriors (3rd/4th Team 7) vs Legends (Bernhardt)
DESCRIPTION:3rd/4th Grade Basketball | Basketball\nFrisco Family YMCA\n
URL;VALUE=URI:https://ygametime.com/branch/frisco/sports/2021-winter-basketball/11298/?utm_medium=calendar&utm_source=team_cal&utm_content=league_url#game-262519
LOCATION:Cobb Middle School Court 1
BEGIN:VALARM
TRIGGER:-P2H
ACTION:DISPLAY
DESCRIPTION:Warriors (3rd/4th Team 7) vs Legends (Bernhardt)
END:VALARM
END:VEVENT
BEGIN:VEVENT
UID:frisco-262548@ygametime.com
DTSTAMP:20220108T160000Z
DTSTART;TZID=America/Chicago:20220108T100000
DURATION:PT0H60M0S
SUMMARY:Plano Team vs Warriors (3rd/4th Team 7)
DESCRIPTION:3rd/4th Grade Basketball | Basketball\nFrisco Family YMCA\n
URL;VALUE=URI:https://ygametime.com/branch/frisco/sports/2021-winter-basketball/11298/?utm_medium=calendar&utm_source=team_cal&utm_content=league_url#game-262548
LOCATION:Cobb Middle School Court 2
BEGIN:VALARM
TRIGGER:-P2H
ACTION:DISPLAY
DESCRIPTION:Plano Team vs Warriors (3rd/4th Team 7)
END:VALARM
END:VEVENT
BEGIN:VEVENT
UID:frisco-262554@ygametime.com
DTSTAMP:20220115T160000Z
DTSTART;TZID=America/Chicago:20220115T100000
DURATION:PT0H60M0S
SUMMARY:Warriors (3rd/4th Team 7) vs Bulls (Messerli)
DESCRIPTION:3rd/4th Grade Basketball | Basketball\nFrisco Family YMCA\n
URL;VALUE=URI:https://ygametime.com/branch/frisco/sports/2021-winter-basketball/11298/?utm_medium=calendar&utm_source=team_cal&utm_content=league_url#game-262554
LOCATION:Cobb Middle School Court 1
BEGIN:VALARM
TRIGGER:-P2H
ACTION:DISPLAY
DESCRIPTION:Warriors (3rd/4th Team 7) vs Bulls (Messerli)
END:VALARM
END:VEVENT
BEGIN:VEVENT
UID:frisco-262561@ygametime.com
DTSTAMP:20220122T160000Z
DTSTART;TZID=America/Chicago:20220122T100000
DURATION:PT0H60M0S
SUMMARY:Bledsoe Lions (Martin) vs Warriors (3rd/4th Team 7)
DESCRIPTION:3rd/4th Grade Basketball | Basketball\nFrisco Family YMCA\n
URL;VALUE=URI:https://ygametime.com/branch/frisco/sports/2021-winter-basketball/11298/?utm_medium=calendar&utm_source=team_cal&utm_content=league_url#game-262561
LOCATION:Cobb Middle School Court 1
BEGIN:VALARM
TRIGGER:-P2H
ACTION:DISPLAY
DESCRIPTION:Bledsoe Lions (Martin) vs Warriors (3rd/4th Team 7)
END:VALARM
END:VEVENT
BEGIN:VEVENT
UID:frisco-262524@ygametime.com
DTSTAMP:20220129T150000Z
DTSTART;TZID=America/Chicago:20220129T090000
DURATION:PT0H60M0S
SUMMARY:Team Cummings vs Warriors (3rd/4th Team 7)
DESCRIPTION:3rd/4th Grade Basketball | Basketball\nFrisco Family YMCA\n
URL;VALUE=URI:https://ygametime.com/branch/frisco/sports/2021-winter-basketball/11298/?utm_medium=calendar&utm_source=team_cal&utm_content=league_url#game-262524
LOCATION:Cobb Middle School Court 1
BEGIN:VALARM
TRIGGER:-P2H
ACTION:DISPLAY
DESCRIPTION:Team Cummings vs Warriors (3rd/4th Team 7)
END:VALARM
END:VEVENT
BEGIN:VEVENT
UID:frisco-262536@ygametime.com
DTSTAMP:20220205T170000Z
DTSTART;TZID=America/Chicago:20220205T110000
DURATION:PT0H60M0S
SUMMARY:Warriors (3rd/4th Team 7) vs Fast and Furious (3rd/4th Team 5)
DESCRIPTION:3rd/4th Grade Basketball | Basketball\nFrisco Family YMCA\n
URL;VALUE=URI:https://ygametime.com/branch/frisco/sports/2021-winter-basketball/11298/?utm_medium=calendar&utm_source=team_cal&utm_content=league_url#game-262536
LOCATION:Cobb Middle School Court 2
BEGIN:VALARM
TRIGGER:-P2H
ACTION:DISPLAY
DESCRIPTION:Warriors (3rd/4th Team 7) vs Fast and Furious (3rd/4th Team 5)
END:VALARM
END:VEVENT
BEGIN:VEVENT
UID:frisco-262541@ygametime.com
DTSTAMP:20220212T160000Z
DTSTART;TZID=America/Chicago:20220212T100000
DURATION:PT0H60M0S
SUMMARY:Warriors (3rd/4th Team 7) vs Team Schneller
DESCRIPTION:3rd/4th Grade Basketball | Basketball\nFrisco Family YMCA\n
URL;VALUE=URI:https://ygametime.com/branch/frisco/sports/2021-winter-basketball/11298/?utm_medium=calendar&utm_source=team_cal&utm_content=league_url#game-262541
LOCATION:Cobb Middle School Court 2
BEGIN:VALARM
TRIGGER:-P2H
ACTION:DISPLAY
DESCRIPTION:Warriors (3rd/4th Team 7) vs Team Schneller
END:VALARM
END:VEVENT
BEGIN:VEVENT
UID:frisco-284480@ygametime.com
DTSTAMP:20220219T170000Z
DTSTART;TZID=America/Chicago:20220219T110000
DURATION:PT0H60M0S
SUMMARY:Warriors (3rd/4th Team 7) vs Fast and Furious (3rd/4th Team 5)
DESCRIPTION:3rd/4th Grade Basketball | Basketball\nFrisco Family YMCA\n
URL;VALUE=URI:https://ygametime.com/branch/frisco/sports/2021-winter-basketball/11298/?utm_medium=calendar&utm_source=team_cal&utm_content=league_url#game-284480
LOCATION:Cobb Middle School Court 2
BEGIN:VALARM
TRIGGER:-P2H
ACTION:DISPLAY
DESCRIPTION:Warriors (3rd/4th Team 7) vs Fast and Furious (3rd/4th Team 5)
END:VALARM
END:VEVENT
END:VCALENDAR

