BEGIN:VCALENDAR
VERSION:2.0
PRODID:-//YGAMETIME.com//YGT iCal Creator//EN
METHOD:PUBLISH
X-PUBLISHED-TTL:PT6H
REFRESH-INTERVAL;VALUE=DURATION:PT6H
CALSCALE:GREGORIAN
X-WR-CALNAME:YGAMETIME CALENDAR
BEGIN:VTIMEZONE
TZID:America/Chicago
X-LIC-LOCATION:America/Chicago
BEGIN:DAYLIGHT
TZOFFSETFROM:-0600
TZOFFSETTO:-0500
TZNAME:CDT
DTSTART:19700308T020000
RRULE:FREQ=YEARLY;BYMONTH=3;BYDAY=2SU
END:DAYLIGHT
BEGIN:STANDARD
TZOFFSETFROM:-0500
TZOFFSETTO:-0600
TZNAME:CST
DTSTART:19701101T020000
RRULE:FREQ=YEARLY;BYMONTH=11;BYDAY=1SU
END:STANDARD
END:VTIMEZONE
BEGIN:VEVENT
UID:frisco-262593@ygametime.com
DTSTAMP:20211204T210000Z
DTSTART;TZID=America/Chicago:20211204T150000
DURATION:PT0H60M0S
SUMMARY:Team Sambitan vs Phantoms (Reynolds/Mckinney)
DESCRIPTION:5th/6th Grade Basketball | Basketball\nFrisco Family YMCA\n
URL;VALUE=URI:https://ygametime.com/branch/frisco/sports/2021-winter-basketball/11297/?utm_medium=calendar&utm_source=team_cal&utm_content=league_url#game-262593
LOCATION:Cobb Middle School Court 1
BEGIN:VALARM
TRIGGER:-P2H
ACTION:DISPLAY
DESCRIPTION:Team Sambitan vs Phantoms (Reynolds/Mckinney)
END:VALARM
END:VEVENT
BEGIN:VEVENT
UID:frisco-262594@ygametime.com
DTSTAMP:20211211T200000Z
DTSTART;TZID=America/Chicago:20211211T140000
DURATION:PT0H60M0S
SUMMARY:Phantoms (Reynolds/Mckinney) vs Team Ary
DESCRIPTION:5th/6th Grade Basketball | Basketball\nFrisco Family YMCA\n
URL;VALUE=URI:https://ygametime.com/branch/frisco/sports/2021-winter-basketball/11297/?utm_medium=calendar&utm_source=team_cal&utm_content=league_url#game-262594
LOCATION:Cobb Middle School Court 1
BEGIN:VALARM
TRIGGER:-P2H
ACTION:DISPLAY
DESCRIPTION:Phantoms (Reynolds/Mckinney) vs Team Ary
END:VALARM
END:VEVENT
BEGIN:VEVENT
UID:frisco-262606@ygametime.com
DTSTAMP:20220108T200000Z
DTSTART;TZID=America/Chicago:20220108T140000
DURATION:PT0H60M0S
SUMMARY:Team Sambitan vs Phantoms (Reynolds/Mckinney)
DESCRIPTION:5th/6th Grade Basketball | Basketball\nFrisco Family YMCA\n
URL;VALUE=URI:https://ygametime.com/branch/frisco/sports/2021-winter-basketball/11297/?utm_medium=calendar&utm_source=team_cal&utm_content=league_url#game-262606
LOCATION:Cobb Middle School Court 1
BEGIN:VALARM
TRIGGER:-P2H
ACTION:DISPLAY
DESCRIPTION:Team Sambitan vs Phantoms (Reynolds/Mckinney)
END:VALARM
END:VEVENT
BEGIN:VEVENT
UID:frisco-262610@ygametime.com
DTSTAMP:20220115T200000Z
DTSTART;TZID=America/Chicago:20220115T140000
DURATION:PT0H60M0S
SUMMARY:Phantoms (Reynolds/Mckinney) vs Team Ary
DESCRIPTION:5th/6th Grade Basketball | Basketball\nFrisco Family YMCA\n
URL;VALUE=URI:https://ygametime.com/branch/frisco/sports/2021-winter-basketball/11297/?utm_medium=calendar&utm_source=team_cal&utm_content=league_url#game-262610
LOCATION:Cobb Middle School Court 2
BEGIN:VALARM
TRIGGER:-P2H
ACTION:DISPLAY
DESCRIPTION:Phantoms (Reynolds/Mckinney) vs Team Ary
END:VALARM
END:VEVENT
BEGIN:VEVENT
UID:frisco-262587@ygametime.com
DTSTAMP:20220122T190000Z
DTSTART;TZID=America/Chicago:20220122T130000
DURATION:PT0H60M0S
SUMMARY:Phantoms (Reynolds/Mckinney) vs Team Hood
DESCRIPTION:5th/6th Grade Basketball | Basketball\nFrisco Family YMCA\n
URL;VALUE=URI:https://ygametime.com/branch/frisco/sports/2021-winter-basketball/11297/?utm_medium=calendar&utm_source=team_cal&utm_content=league_url#game-262587
LOCATION:Cobb Middle School Court 1
BEGIN:VALARM
TRIGGER:-P2H
ACTION:DISPLAY
DESCRIPTION:Phantoms (Reynolds/Mckinney) vs Team Hood
END:VALARM
END:VEVENT
BEGIN:VEVENT
UID:frisco-262601@ygametime.com
DTSTAMP:20220129T200000Z
DTSTART;TZID=America/Chicago:20220129T140000
DURATION:PT0H60M0S
SUMMARY:Team Willis vs Phantoms (Reynolds/Mckinney)
DESCRIPTION:5th/6th Grade Basketball | Basketball\nFrisco Family YMCA\n
URL;VALUE=URI:https://ygametime.com/branch/frisco/sports/2021-winter-basketball/11297/?utm_medium=calendar&utm_source=team_cal&utm_content=league_url#game-262601
LOCATION:Cobb Middle School Court 2
BEGIN:VALARM
TRIGGER:-P2H
ACTION:DISPLAY
DESCRIPTION:Team Willis vs Phantoms (Reynolds/Mckinney)
END:VALARM
END:VEVENT
BEGIN:VEVENT
UID:frisco-262604@ygametime.com
DTSTAMP:20220205T200000Z
DTSTART;TZID=America/Chicago:20220205T140000
DURATION:PT0H60M0S
SUMMARY:Phantoms (Reynolds/Mckinney) vs Team Phangnivong
DESCRIPTION:5th/6th Grade Basketball | Basketball\nFrisco Family YMCA\n
URL;VALUE=URI:https://ygametime.com/branch/frisco/sports/2021-winter-basketball/11297/?utm_medium=calendar&utm_source=team_cal&utm_content=league_url#game-262604
LOCATION:Cobb Middle School Court 2
BEGIN:VALARM
TRIGGER:-P2H
ACTION:DISPLAY
DESCRIPTION:Phantoms (Reynolds/Mckinney) vs Team Phangnivong
END:VALARM
END:VEVENT
BEGIN:VEVENT
UID:frisco-284489@ygametime.com
DTSTAMP:20220219T200000Z
DTSTART;TZID=America/Chicago:20220219T140000
DURATION:PT0H60M0S
SUMMARY:Phantoms (Reynolds/Mckinney) vs Team Phangnivong
DESCRIPTION:5th/6th Grade Basketball | Basketball\nFrisco Family YMCA\n
URL;VALUE=URI:https://ygametime.com/branch/frisco/sports/2021-winter-basketball/11297/?utm_medium=calendar&utm_source=team_cal&utm_content=league_url#game-284489
LOCATION:Cobb Middle School Court 2
BEGIN:VALARM
TRIGGER:-P2H
ACTION:DISPLAY
DESCRIPTION:Phantoms (Reynolds/Mckinney) vs Team Phangnivong
END:VALARM
END:VEVENT
END:VCALENDAR

