BEGIN:VCALENDAR
VERSION:2.0
PRODID:-//YGAMETIME.com//YGT iCal Creator//EN
METHOD:PUBLISH
X-PUBLISHED-TTL:PT6H
REFRESH-INTERVAL;VALUE=DURATION:PT6H
CALSCALE:GREGORIAN
X-WR-CALNAME:YGAMETIME CALENDAR
BEGIN:VTIMEZONE
TZID:America/Chicago
X-LIC-LOCATION:America/Chicago
BEGIN:DAYLIGHT
TZOFFSETFROM:-0600
TZOFFSETTO:-0500
TZNAME:CDT
DTSTART:19700308T020000
RRULE:FREQ=YEARLY;BYMONTH=3;BYDAY=2SU
END:DAYLIGHT
BEGIN:STANDARD
TZOFFSETFROM:-0500
TZOFFSETTO:-0600
TZNAME:CST
DTSTART:19701101T020000
RRULE:FREQ=YEARLY;BYMONTH=11;BYDAY=1SU
END:STANDARD
END:VTIMEZONE
BEGIN:VEVENT
UID:frisco-262614@ygametime.com
DTSTAMP:20211204T210000Z
DTSTART;TZID=America/Chicago:20211204T150000
DURATION:PT0H60M0S
SUMMARY:Team Rouse vs Team Carlson
DESCRIPTION:7th/8th Grade Basketball | Basketball\nFrisco Family YMCA\n
URL;VALUE=URI:https://ygametime.com/branch/frisco/sports/2021-winter-basketball/11296/?utm_medium=calendar&utm_source=team_cal&utm_content=league_url#game-262614
LOCATION:Cobb Middle School Court 2
BEGIN:VALARM
TRIGGER:-P2H
ACTION:DISPLAY
DESCRIPTION:Team Rouse vs Team Carlson
END:VALARM
END:VEVENT
BEGIN:VEVENT
UID:frisco-262616@ygametime.com
DTSTAMP:20211211T220000Z
DTSTART;TZID=America/Chicago:20211211T160000
DURATION:PT0H60M0S
SUMMARY:Team Jinnah vs Team Rouse
DESCRIPTION:7th/8th Grade Basketball | Basketball\nFrisco Family YMCA\n
URL;VALUE=URI:https://ygametime.com/branch/frisco/sports/2021-winter-basketball/11296/?utm_medium=calendar&utm_source=team_cal&utm_content=league_url#game-262616
LOCATION:Cobb Middle School Court 2
BEGIN:VALARM
TRIGGER:-P2H
ACTION:DISPLAY
DESCRIPTION:Team Jinnah vs Team Rouse
END:VALARM
END:VEVENT
BEGIN:VEVENT
UID:frisco-262627@ygametime.com
DTSTAMP:20220108T220000Z
DTSTART;TZID=America/Chicago:20220108T160000
DURATION:PT0H60M0S
SUMMARY:Team Rouse vs Team Carlson
DESCRIPTION:7th/8th Grade Basketball | Basketball\nFrisco Family YMCA\n
URL;VALUE=URI:https://ygametime.com/branch/frisco/sports/2021-winter-basketball/11296/?utm_medium=calendar&utm_source=team_cal&utm_content=league_url#game-262627
LOCATION:Cobb Middle School Court 1
BEGIN:VALARM
TRIGGER:-P2H
ACTION:DISPLAY
DESCRIPTION:Team Rouse vs Team Carlson
END:VALARM
END:VEVENT
BEGIN:VEVENT
UID:frisco-262632@ygametime.com
DTSTAMP:20220115T210000Z
DTSTART;TZID=America/Chicago:20220115T150000
DURATION:PT0H60M0S
SUMMARY:Team Jinnah vs Team Rouse
DESCRIPTION:7th/8th Grade Basketball | Basketball\nFrisco Family YMCA\n
URL;VALUE=URI:https://ygametime.com/branch/frisco/sports/2021-winter-basketball/11296/?utm_medium=calendar&utm_source=team_cal&utm_content=league_url#game-262632
LOCATION:Cobb Middle School Court 2
BEGIN:VALARM
TRIGGER:-P2H
ACTION:DISPLAY
DESCRIPTION:Team Jinnah vs Team Rouse
END:VALARM
END:VEVENT
BEGIN:VEVENT
UID:frisco-262620@ygametime.com
DTSTAMP:20220122T210000Z
DTSTART;TZID=America/Chicago:20220122T150000
DURATION:PT0H60M0S
SUMMARY:Team Rouse vs Team Porter
DESCRIPTION:7th/8th Grade Basketball | Basketball\nFrisco Family YMCA\n
URL;VALUE=URI:https://ygametime.com/branch/frisco/sports/2021-winter-basketball/11296/?utm_medium=calendar&utm_source=team_cal&utm_content=league_url#game-262620
LOCATION:Cobb Middle School Court 2
BEGIN:VALARM
TRIGGER:-P2H
ACTION:DISPLAY
DESCRIPTION:Team Rouse vs Team Porter
END:VALARM
END:VEVENT
BEGIN:VEVENT
UID:frisco-262621@ygametime.com
DTSTAMP:20220129T220000Z
DTSTART;TZID=America/Chicago:20220129T160000
DURATION:PT0H60M0S
SUMMARY:Team Large vs Team Rouse
DESCRIPTION:7th/8th Grade Basketball | Basketball\nFrisco Family YMCA\n
URL;VALUE=URI:https://ygametime.com/branch/frisco/sports/2021-winter-basketball/11296/?utm_medium=calendar&utm_source=team_cal&utm_content=league_url#game-262621
LOCATION:Cobb Middle School Court 1
BEGIN:VALARM
TRIGGER:-P2H
ACTION:DISPLAY
DESCRIPTION:Team Large vs Team Rouse
END:VALARM
END:VEVENT
BEGIN:VEVENT
UID:frisco-262624@ygametime.com
DTSTAMP:20220205T220000Z
DTSTART;TZID=America/Chicago:20220205T160000
DURATION:PT0H60M0S
SUMMARY:Team Matos vs Team Rouse
DESCRIPTION:7th/8th Grade Basketball | Basketball\nFrisco Family YMCA\n
URL;VALUE=URI:https://ygametime.com/branch/frisco/sports/2021-winter-basketball/11296/?utm_medium=calendar&utm_source=team_cal&utm_content=league_url#game-262624
LOCATION:Cobb Middle School Court 1
BEGIN:VALARM
TRIGGER:-P2H
ACTION:DISPLAY
DESCRIPTION:Team Matos vs Team Rouse
END:VALARM
END:VEVENT
BEGIN:VEVENT
UID:frisco-284491@ygametime.com
DTSTAMP:20220212T220000Z
DTSTART;TZID=America/Chicago:20220212T160000
DURATION:PT0H60M0S
SUMMARY:Team Jinnah vs Team Rouse
DESCRIPTION:7th/8th Grade Basketball | Basketball\nFrisco Family YMCA\n
URL;VALUE=URI:https://ygametime.com/branch/frisco/sports/2021-winter-basketball/11296/?utm_medium=calendar&utm_source=team_cal&utm_content=league_url#game-284491
LOCATION:Cobb Middle School Court 2
BEGIN:VALARM
TRIGGER:-P2H
ACTION:DISPLAY
DESCRIPTION:Team Jinnah vs Team Rouse
END:VALARM
END:VEVENT
BEGIN:VEVENT
UID:frisco-284473@ygametime.com
DTSTAMP:20220219T220000Z
DTSTART;TZID=America/Chicago:20220219T160000
DURATION:PT0H60M0S
SUMMARY:Team Matos vs Team Rouse
DESCRIPTION:7th/8th Grade Basketball | Basketball\nFrisco Family YMCA\n
URL;VALUE=URI:https://ygametime.com/branch/frisco/sports/2021-winter-basketball/11296/?utm_medium=calendar&utm_source=team_cal&utm_content=league_url#game-284473
LOCATION:Cobb Middle School Court 1
BEGIN:VALARM
TRIGGER:-P2H
ACTION:DISPLAY
DESCRIPTION:Team Matos vs Team Rouse
END:VALARM
END:VEVENT
END:VCALENDAR

