BEGIN:VCALENDAR
VERSION:2.0
PRODID:-//YGAMETIME.com//YGT iCal Creator//EN
METHOD:PUBLISH
X-PUBLISHED-TTL:PT6H
REFRESH-INTERVAL;VALUE=DURATION:PT6H
CALSCALE:GREGORIAN
X-WR-CALNAME:YGAMETIME CALENDAR
BEGIN:VTIMEZONE
TZID:America/Chicago
X-LIC-LOCATION:America/Chicago
BEGIN:DAYLIGHT
TZOFFSETFROM:-0600
TZOFFSETTO:-0500
TZNAME:CDT
DTSTART:19700308T020000
RRULE:FREQ=YEARLY;BYMONTH=3;BYDAY=2SU
END:DAYLIGHT
BEGIN:STANDARD
TZOFFSETFROM:-0500
TZOFFSETTO:-0600
TZNAME:CST
DTSTART:19701101T020000
RRULE:FREQ=YEARLY;BYMONTH=11;BYDAY=1SU
END:STANDARD
END:VTIMEZONE
BEGIN:VEVENT
UID:frisco-262613@ygametime.com
DTSTAMP:20211204T220000Z
DTSTART;TZID=America/Chicago:20211204T160000
DURATION:PT0H60M0S
SUMMARY:Team Porter vs Team Jinnah
DESCRIPTION:7th/8th Grade Basketball | Basketball\nFrisco Family YMCA\n
URL;VALUE=URI:https://ygametime.com/branch/frisco/sports/2021-winter-basketball/11296/?utm_medium=calendar&utm_source=team_cal&utm_content=league_url#game-262613
LOCATION:Cobb Middle School Court 2
BEGIN:VALARM
TRIGGER:-P2H
ACTION:DISPLAY
DESCRIPTION:Team Porter vs Team Jinnah
END:VALARM
END:VEVENT
BEGIN:VEVENT
UID:frisco-262617@ygametime.com
DTSTAMP:20211211T210000Z
DTSTART;TZID=America/Chicago:20211211T150000
DURATION:PT0H60M0S
SUMMARY:Team Large vs Team Porter
DESCRIPTION:7th/8th Grade Basketball | Basketball\nFrisco Family YMCA\n
URL;VALUE=URI:https://ygametime.com/branch/frisco/sports/2021-winter-basketball/11296/?utm_medium=calendar&utm_source=team_cal&utm_content=league_url#game-262617
LOCATION:Cobb Middle School Court 2
BEGIN:VALARM
TRIGGER:-P2H
ACTION:DISPLAY
DESCRIPTION:Team Large vs Team Porter
END:VALARM
END:VEVENT
BEGIN:VEVENT
UID:frisco-262629@ygametime.com
DTSTAMP:20220108T210000Z
DTSTART;TZID=America/Chicago:20220108T150000
DURATION:PT0H60M0S
SUMMARY:Team Porter vs Team Jinnah
DESCRIPTION:7th/8th Grade Basketball | Basketball\nFrisco Family YMCA\n
URL;VALUE=URI:https://ygametime.com/branch/frisco/sports/2021-winter-basketball/11296/?utm_medium=calendar&utm_source=team_cal&utm_content=league_url#game-262629
LOCATION:Cobb Middle School Court 2
BEGIN:VALARM
TRIGGER:-P2H
ACTION:DISPLAY
DESCRIPTION:Team Porter vs Team Jinnah
END:VALARM
END:VEVENT
BEGIN:VEVENT
UID:frisco-262630@ygametime.com
DTSTAMP:20220115T220000Z
DTSTART;TZID=America/Chicago:20220115T160000
DURATION:PT0H60M0S
SUMMARY:Team Large vs Team Porter
DESCRIPTION:7th/8th Grade Basketball | Basketball\nFrisco Family YMCA\n
URL;VALUE=URI:https://ygametime.com/branch/frisco/sports/2021-winter-basketball/11296/?utm_medium=calendar&utm_source=team_cal&utm_content=league_url#game-262630
LOCATION:Cobb Middle School Court 1
BEGIN:VALARM
TRIGGER:-P2H
ACTION:DISPLAY
DESCRIPTION:Team Large vs Team Porter
END:VALARM
END:VEVENT
BEGIN:VEVENT
UID:frisco-262620@ygametime.com
DTSTAMP:20220122T210000Z
DTSTART;TZID=America/Chicago:20220122T150000
DURATION:PT0H60M0S
SUMMARY:Team Rouse vs Team Porter
DESCRIPTION:7th/8th Grade Basketball | Basketball\nFrisco Family YMCA\n
URL;VALUE=URI:https://ygametime.com/branch/frisco/sports/2021-winter-basketball/11296/?utm_medium=calendar&utm_source=team_cal&utm_content=league_url#game-262620
LOCATION:Cobb Middle School Court 2
BEGIN:VALARM
TRIGGER:-P2H
ACTION:DISPLAY
DESCRIPTION:Team Rouse vs Team Porter
END:VALARM
END:VEVENT
BEGIN:VEVENT
UID:frisco-262623@ygametime.com
DTSTAMP:20220129T210000Z
DTSTART;TZID=America/Chicago:20220129T150000
DURATION:PT0H60M0S
SUMMARY:Team Porter vs Team Matos
DESCRIPTION:7th/8th Grade Basketball | Basketball\nFrisco Family YMCA\n
URL;VALUE=URI:https://ygametime.com/branch/frisco/sports/2021-winter-basketball/11296/?utm_medium=calendar&utm_source=team_cal&utm_content=league_url#game-262623
LOCATION:Cobb Middle School Court 2
BEGIN:VALARM
TRIGGER:-P2H
ACTION:DISPLAY
DESCRIPTION:Team Porter vs Team Matos
END:VALARM
END:VEVENT
BEGIN:VEVENT
UID:frisco-262625@ygametime.com
DTSTAMP:20220205T210000Z
DTSTART;TZID=America/Chicago:20220205T150000
DURATION:PT0H60M0S
SUMMARY:Team Carlson vs Team Porter
DESCRIPTION:7th/8th Grade Basketball | Basketball\nFrisco Family YMCA\n
URL;VALUE=URI:https://ygametime.com/branch/frisco/sports/2021-winter-basketball/11296/?utm_medium=calendar&utm_source=team_cal&utm_content=league_url#game-262625
LOCATION:Cobb Middle School Court 2
BEGIN:VALARM
TRIGGER:-P2H
ACTION:DISPLAY
DESCRIPTION:Team Carlson vs Team Porter
END:VALARM
END:VEVENT
BEGIN:VEVENT
UID:frisco-284472@ygametime.com
DTSTAMP:20220219T210000Z
DTSTART;TZID=America/Chicago:20220219T150000
DURATION:PT0H60M0S
SUMMARY:Team Carlson vs Team Porter
DESCRIPTION:7th/8th Grade Basketball | Basketball\nFrisco Family YMCA\n
URL;VALUE=URI:https://ygametime.com/branch/frisco/sports/2021-winter-basketball/11296/?utm_medium=calendar&utm_source=team_cal&utm_content=league_url#game-284472
LOCATION:Cobb Middle School Court 2
BEGIN:VALARM
TRIGGER:-P2H
ACTION:DISPLAY
DESCRIPTION:Team Carlson vs Team Porter
END:VALARM
END:VEVENT
END:VCALENDAR

