BEGIN:VCALENDAR
VERSION:2.0
PRODID:-//YGAMETIME.com//YGT iCal Creator//EN
METHOD:PUBLISH
X-PUBLISHED-TTL:PT6H
REFRESH-INTERVAL;VALUE=DURATION:PT6H
CALSCALE:GREGORIAN
X-WR-CALNAME:YGAMETIME CALENDAR
BEGIN:VTIMEZONE
TZID:America/Chicago
X-LIC-LOCATION:America/Chicago
BEGIN:DAYLIGHT
TZOFFSETFROM:-0600
TZOFFSETTO:-0500
TZNAME:CDT
DTSTART:19700308T020000
RRULE:FREQ=YEARLY;BYMONTH=3;BYDAY=2SU
END:DAYLIGHT
BEGIN:STANDARD
TZOFFSETFROM:-0500
TZOFFSETTO:-0600
TZNAME:CST
DTSTART:19701101T020000
RRULE:FREQ=YEARLY;BYMONTH=11;BYDAY=1SU
END:STANDARD
END:VTIMEZONE
BEGIN:VEVENT
UID:frisco-261077@ygametime.com
DTSTAMP:20211204T150000Z
DTSTART;TZID=America/Chicago:20211204T090000
DURATION:PT0H60M0S
SUMMARY:Bulls (Pass/Stevenson) vs Galaxy (Kurji)
DESCRIPTION:PreK3/PreK4 Basketball | Basketball\nFrisco Family YMCA\n
URL;VALUE=URI:https://ygametime.com/branch/frisco/sports/2021-winter-basketball/11301/?utm_medium=calendar&utm_source=team_cal&utm_content=league_url#game-261077
LOCATION:Pioneer Middle School Court #2
BEGIN:VALARM
TRIGGER:-P2H
ACTION:DISPLAY
DESCRIPTION:Bulls (Pass/Stevenson) vs Galaxy (Kurji)
END:VALARM
END:VEVENT
BEGIN:VEVENT
UID:frisco-261081@ygametime.com
DTSTAMP:20211211T160000Z
DTSTART;TZID=America/Chicago:20211211T100000
DURATION:PT0H60M0S
SUMMARY:Thunderlizards (Howard) vs Bulls (Pass/Stevenson)
DESCRIPTION:PreK3/PreK4 Basketball | Basketball\nFrisco Family YMCA\n
URL;VALUE=URI:https://ygametime.com/branch/frisco/sports/2021-winter-basketball/11301/?utm_medium=calendar&utm_source=team_cal&utm_content=league_url#game-261081
LOCATION:Trent Middle School Court #1 
BEGIN:VALARM
TRIGGER:-P2H
ACTION:DISPLAY
DESCRIPTION:Thunderlizards (Howard) vs Bulls (Pass/Stevenson)
END:VALARM
END:VEVENT
BEGIN:VEVENT
UID:frisco-261091@ygametime.com
DTSTAMP:20220108T150000Z
DTSTART;TZID=America/Chicago:20220108T090000
DURATION:PT0H60M0S
SUMMARY:Bulls (Pass/Stevenson) vs Chiefs (Akers/Ricks)
DESCRIPTION:PreK3/PreK4 Basketball | Basketball\nFrisco Family YMCA\n
URL;VALUE=URI:https://ygametime.com/branch/frisco/sports/2021-winter-basketball/11301/?utm_medium=calendar&utm_source=team_cal&utm_content=league_url#game-261091
LOCATION:Pioneer Middle School Court #1
BEGIN:VALARM
TRIGGER:-P2H
ACTION:DISPLAY
DESCRIPTION:Bulls (Pass/Stevenson) vs Chiefs (Akers/Ricks)
END:VALARM
END:VEVENT
BEGIN:VEVENT
UID:frisco-261096@ygametime.com
DTSTAMP:20220115T160000Z
DTSTART;TZID=America/Chicago:20220115T100000
DURATION:PT0H60M0S
SUMMARY:Team Jackson vs Bulls (Pass/Stevenson)
DESCRIPTION:PreK3/PreK4 Basketball | Basketball\nFrisco Family YMCA\n
URL;VALUE=URI:https://ygametime.com/branch/frisco/sports/2021-winter-basketball/11301/?utm_medium=calendar&utm_source=team_cal&utm_content=league_url#game-261096
LOCATION:Pioneer Middle School Court #1
BEGIN:VALARM
TRIGGER:-P2H
ACTION:DISPLAY
DESCRIPTION:Team Jackson vs Bulls (Pass/Stevenson)
END:VALARM
END:VEVENT
BEGIN:VEVENT
UID:frisco-261097@ygametime.com
DTSTAMP:20220122T150000Z
DTSTART;TZID=America/Chicago:20220122T090000
DURATION:PT0H60M0S
SUMMARY:Bulls (Pass/Stevenson) vs Galaxy (Kurji)
DESCRIPTION:PreK3/PreK4 Basketball | Basketball\nFrisco Family YMCA\n
URL;VALUE=URI:https://ygametime.com/branch/frisco/sports/2021-winter-basketball/11301/?utm_medium=calendar&utm_source=team_cal&utm_content=league_url#game-261097
LOCATION:Pioneer Middle School Court #1
BEGIN:VALARM
TRIGGER:-P2H
ACTION:DISPLAY
DESCRIPTION:Bulls (Pass/Stevenson) vs Galaxy (Kurji)
END:VALARM
END:VEVENT
BEGIN:VEVENT
UID:frisco-261089@ygametime.com
DTSTAMP:20220212T150000Z
DTSTART;TZID=America/Chicago:20220212T090000
DURATION:PT0H60M0S
SUMMARY:PK3/PK4 Team 2 (Robinson) vs Bulls (Pass/Stevenson)
DESCRIPTION:PreK3/PreK4 Basketball | Basketball\nFrisco Family YMCA\n
URL;VALUE=URI:https://ygametime.com/branch/frisco/sports/2021-winter-basketball/11301/?utm_medium=calendar&utm_source=team_cal&utm_content=league_url#game-261089
LOCATION:Pioneer Middle School Court #2
BEGIN:VALARM
TRIGGER:-P2H
ACTION:DISPLAY
DESCRIPTION:PK3/PK4 Team 2 (Robinson) vs Bulls (Pass/Stevenson)
END:VALARM
END:VEVENT
BEGIN:VEVENT
UID:frisco-261086@ygametime.com
DTSTAMP:20220219T150000Z
DTSTART;TZID=America/Chicago:20220219T090000
DURATION:PT0H60M0S
SUMMARY:Bulls (Pass/Stevenson) vs Fireballs (Bright)
DESCRIPTION:PreK3/PreK4 Basketball | Basketball\nFrisco Family YMCA\n
URL;VALUE=URI:https://ygametime.com/branch/frisco/sports/2021-winter-basketball/11301/?utm_medium=calendar&utm_source=team_cal&utm_content=league_url#game-261086
LOCATION:Pioneer Middle School Court #2
BEGIN:VALARM
TRIGGER:-P2H
ACTION:DISPLAY
DESCRIPTION:Bulls (Pass/Stevenson) vs Fireballs (Bright)
END:VALARM
END:VEVENT
END:VCALENDAR

