BEGIN:VCALENDAR
VERSION:2.0
PRODID:-//YGAMETIME.com//YGT iCal Creator//EN
METHOD:PUBLISH
X-PUBLISHED-TTL:PT6H
REFRESH-INTERVAL;VALUE=DURATION:PT6H
CALSCALE:GREGORIAN
X-WR-CALNAME:YGAMETIME CALENDAR
BEGIN:VTIMEZONE
TZID:America/Chicago
X-LIC-LOCATION:America/Chicago
BEGIN:DAYLIGHT
TZOFFSETFROM:-0600
TZOFFSETTO:-0500
TZNAME:CDT
DTSTART:19700308T020000
RRULE:FREQ=YEARLY;BYMONTH=3;BYDAY=2SU
END:DAYLIGHT
BEGIN:STANDARD
TZOFFSETFROM:-0500
TZOFFSETTO:-0600
TZNAME:CST
DTSTART:19701101T020000
RRULE:FREQ=YEARLY;BYMONTH=11;BYDAY=1SU
END:STANDARD
END:VTIMEZONE
BEGIN:VEVENT
UID:frisco-286475@ygametime.com
DTSTAMP:20220312T153000Z
DTSTART;TZID=America/Chicago:20220312T093000
DURATION:PT0H60M0S
SUMMARY:Team 5  vs Team 11 
DESCRIPTION:PreK3/4 | Soccer\nFrisco Family YMCA\n
URL;VALUE=URI:https://ygametime.com/branch/frisco/sports/2022-spring-soccer/12437/?utm_medium=calendar&utm_source=team_cal&utm_content=league_url#game-286475
LOCATION:Pre K Field 1 
BEGIN:VALARM
TRIGGER:-P2H
ACTION:DISPLAY
DESCRIPTION:Team 5  vs Team 11 
END:VALARM
END:VEVENT
BEGIN:VEVENT
UID:frisco-286479@ygametime.com
DTSTAMP:20220319T133000Z
DTSTART;TZID=America/Chicago:20220319T083000
DURATION:PT0H60M0S
SUMMARY:Team 11  vs Team 3
DESCRIPTION:PreK3/4 | Soccer\nFrisco Family YMCA\n
URL;VALUE=URI:https://ygametime.com/branch/frisco/sports/2022-spring-soccer/12437/?utm_medium=calendar&utm_source=team_cal&utm_content=league_url#game-286479
LOCATION:Pre K field 3 
BEGIN:VALARM
TRIGGER:-P2H
ACTION:DISPLAY
DESCRIPTION:Team 11  vs Team 3
END:VALARM
END:VEVENT
BEGIN:VEVENT
UID:frisco-286483@ygametime.com
DTSTAMP:20220326T133000Z
DTSTART;TZID=America/Chicago:20220326T083000
DURATION:PT0H60M0S
SUMMARY:Team 7  vs Team 11 
DESCRIPTION:PreK3/4 | Soccer\nFrisco Family YMCA\n
URL;VALUE=URI:https://ygametime.com/branch/frisco/sports/2022-spring-soccer/12437/?utm_medium=calendar&utm_source=team_cal&utm_content=league_url#game-286483
LOCATION:Pre K Field 1 
BEGIN:VALARM
TRIGGER:-P2H
ACTION:DISPLAY
DESCRIPTION:Team 7  vs Team 11 
END:VALARM
END:VEVENT
BEGIN:VEVENT
UID:frisco-286493@ygametime.com
DTSTAMP:20220402T143000Z
DTSTART;TZID=America/Chicago:20220402T093000
DURATION:PT0H60M0S
SUMMARY:Team 11  vs Team 9
DESCRIPTION:PreK3/4 | Soccer\nFrisco Family YMCA\n
URL;VALUE=URI:https://ygametime.com/branch/frisco/sports/2022-spring-soccer/12437/?utm_medium=calendar&utm_source=team_cal&utm_content=league_url#game-286493
LOCATION:Pre K Field 1 
BEGIN:VALARM
TRIGGER:-P2H
ACTION:DISPLAY
DESCRIPTION:Team 11  vs Team 9
END:VALARM
END:VEVENT
BEGIN:VEVENT
UID:frisco-286497@ygametime.com
DTSTAMP:20220409T133000Z
DTSTART;TZID=America/Chicago:20220409T083000
DURATION:PT0H60M0S
SUMMARY:Team 11  vs Team 1
DESCRIPTION:PreK3/4 | Soccer\nFrisco Family YMCA\n
URL;VALUE=URI:https://ygametime.com/branch/frisco/sports/2022-spring-soccer/12437/?utm_medium=calendar&utm_source=team_cal&utm_content=league_url#game-286497
LOCATION:Pre K field 3 
BEGIN:VALARM
TRIGGER:-P2H
ACTION:DISPLAY
DESCRIPTION:Team 11  vs Team 1
END:VALARM
END:VEVENT
BEGIN:VEVENT
UID:frisco-286503@ygametime.com
DTSTAMP:20220416T133000Z
DTSTART;TZID=America/Chicago:20220416T083000
DURATION:PT0H60M0S
SUMMARY:Team 6 vs Team 11 
DESCRIPTION:PreK3/4 | Soccer\nFrisco Family YMCA\n
URL;VALUE=URI:https://ygametime.com/branch/frisco/sports/2022-spring-soccer/12437/?utm_medium=calendar&utm_source=team_cal&utm_content=league_url#game-286503
LOCATION:Pre K field 3 
BEGIN:VALARM
TRIGGER:-P2H
ACTION:DISPLAY
DESCRIPTION:Team 6 vs Team 11 
END:VALARM
END:VEVENT
END:VCALENDAR

