BEGIN:VCALENDAR
VERSION:2.0
PRODID:-//YGAMETIME.com//YGT iCal Creator//EN
METHOD:PUBLISH
X-PUBLISHED-TTL:PT6H
REFRESH-INTERVAL;VALUE=DURATION:PT6H
CALSCALE:GREGORIAN
X-WR-CALNAME:YGAMETIME CALENDAR
BEGIN:VTIMEZONE
TZID:America/Chicago
X-LIC-LOCATION:America/Chicago
BEGIN:DAYLIGHT
TZOFFSETFROM:-0600
TZOFFSETTO:-0500
TZNAME:CDT
DTSTART:19700308T020000
RRULE:FREQ=YEARLY;BYMONTH=3;BYDAY=2SU
END:DAYLIGHT
BEGIN:STANDARD
TZOFFSETFROM:-0500
TZOFFSETTO:-0600
TZNAME:CST
DTSTART:19701101T020000
RRULE:FREQ=YEARLY;BYMONTH=11;BYDAY=1SU
END:STANDARD
END:VTIMEZONE
BEGIN:VEVENT
UID:frisco-286476@ygametime.com
DTSTAMP:20220312T153000Z
DTSTART;TZID=America/Chicago:20220312T093000
DURATION:PT0H60M0S
SUMMARY:Team 12  vs Team 6
DESCRIPTION:PreK3/4 | Soccer\nFrisco Family YMCA\n
URL;VALUE=URI:https://ygametime.com/branch/frisco/sports/2022-spring-soccer/12437/?utm_medium=calendar&utm_source=team_cal&utm_content=league_url#game-286476
LOCATION:Pre k field 2 
BEGIN:VALARM
TRIGGER:-P2H
ACTION:DISPLAY
DESCRIPTION:Team 12  vs Team 6
END:VALARM
END:VEVENT
BEGIN:VEVENT
UID:frisco-286480@ygametime.com
DTSTAMP:20220319T133000Z
DTSTART;TZID=America/Chicago:20220319T083000
DURATION:PT0H60M0S
SUMMARY:Team 4 vs Team 12 
DESCRIPTION:PreK3/4 | Soccer\nFrisco Family YMCA\n
URL;VALUE=URI:https://ygametime.com/branch/frisco/sports/2022-spring-soccer/12437/?utm_medium=calendar&utm_source=team_cal&utm_content=league_url#game-286480
LOCATION:Pre k field 4 
BEGIN:VALARM
TRIGGER:-P2H
ACTION:DISPLAY
DESCRIPTION:Team 4 vs Team 12 
END:VALARM
END:VEVENT
BEGIN:VEVENT
UID:frisco-286484@ygametime.com
DTSTAMP:20220326T133000Z
DTSTART;TZID=America/Chicago:20220326T083000
DURATION:PT0H60M0S
SUMMARY:Team 12  vs Team 2
DESCRIPTION:PreK3/4 | Soccer\nFrisco Family YMCA\n
URL;VALUE=URI:https://ygametime.com/branch/frisco/sports/2022-spring-soccer/12437/?utm_medium=calendar&utm_source=team_cal&utm_content=league_url#game-286484
LOCATION:Pre k field 2 
BEGIN:VALARM
TRIGGER:-P2H
ACTION:DISPLAY
DESCRIPTION:Team 12  vs Team 2
END:VALARM
END:VEVENT
BEGIN:VEVENT
UID:frisco-286494@ygametime.com
DTSTAMP:20220402T143000Z
DTSTART;TZID=America/Chicago:20220402T093000
DURATION:PT0H60M0S
SUMMARY:Team 8  vs Team 12 
DESCRIPTION:PreK3/4 | Soccer\nFrisco Family YMCA\n
URL;VALUE=URI:https://ygametime.com/branch/frisco/sports/2022-spring-soccer/12437/?utm_medium=calendar&utm_source=team_cal&utm_content=league_url#game-286494
LOCATION:Pre k field 2 
BEGIN:VALARM
TRIGGER:-P2H
ACTION:DISPLAY
DESCRIPTION:Team 8  vs Team 12 
END:VALARM
END:VEVENT
BEGIN:VEVENT
UID:frisco-286498@ygametime.com
DTSTAMP:20220409T133000Z
DTSTART;TZID=America/Chicago:20220409T083000
DURATION:PT0H60M0S
SUMMARY:Team 12  vs Team 10 
DESCRIPTION:PreK3/4 | Soccer\nFrisco Family YMCA\n
URL;VALUE=URI:https://ygametime.com/branch/frisco/sports/2022-spring-soccer/12437/?utm_medium=calendar&utm_source=team_cal&utm_content=league_url#game-286498
LOCATION:Pre k field 4 
BEGIN:VALARM
TRIGGER:-P2H
ACTION:DISPLAY
DESCRIPTION:Team 12  vs Team 10 
END:VALARM
END:VEVENT
BEGIN:VEVENT
UID:frisco-286502@ygametime.com
DTSTAMP:20220416T133000Z
DTSTART;TZID=America/Chicago:20220416T083000
DURATION:PT0H60M0S
SUMMARY:Team 1 vs Team 12 
DESCRIPTION:PreK3/4 | Soccer\nFrisco Family YMCA\n
URL;VALUE=URI:https://ygametime.com/branch/frisco/sports/2022-spring-soccer/12437/?utm_medium=calendar&utm_source=team_cal&utm_content=league_url#game-286502
LOCATION:Pre k field 2 
BEGIN:VALARM
TRIGGER:-P2H
ACTION:DISPLAY
DESCRIPTION:Team 1 vs Team 12 
END:VALARM
END:VEVENT
END:VCALENDAR

