BEGIN:VCALENDAR
VERSION:2.0
PRODID:-//YGAMETIME.com//YGT iCal Creator//EN
METHOD:PUBLISH
X-PUBLISHED-TTL:PT6H
REFRESH-INTERVAL;VALUE=DURATION:PT6H
CALSCALE:GREGORIAN
X-WR-CALNAME:YGAMETIME CALENDAR
BEGIN:VTIMEZONE
TZID:America/Chicago
X-LIC-LOCATION:America/Chicago
BEGIN:DAYLIGHT
TZOFFSETFROM:-0600
TZOFFSETTO:-0500
TZNAME:CDT
DTSTART:19700308T020000
RRULE:FREQ=YEARLY;BYMONTH=3;BYDAY=2SU
END:DAYLIGHT
BEGIN:STANDARD
TZOFFSETFROM:-0500
TZOFFSETTO:-0600
TZNAME:CST
DTSTART:19701101T020000
RRULE:FREQ=YEARLY;BYMONTH=11;BYDAY=1SU
END:STANDARD
END:VTIMEZONE
BEGIN:VEVENT
UID:frisco-286561@ygametime.com
DTSTAMP:20220312T173000Z
DTSTART;TZID=America/Chicago:20220312T113000
DURATION:PT0H60M0S
SUMMARY:Team 13  vs Team 6
DESCRIPTION:PreK5/K | Soccer\nFrisco Family YMCA\n
URL;VALUE=URI:https://ygametime.com/branch/frisco/sports/2022-spring-soccer/12441/?utm_medium=calendar&utm_source=team_cal&utm_content=league_url#game-286561
LOCATION:Pre k field 2 
BEGIN:VALARM
TRIGGER:-P2H
ACTION:DISPLAY
DESCRIPTION:Team 13  vs Team 6
END:VALARM
END:VEVENT
BEGIN:VEVENT
UID:frisco-286566@ygametime.com
DTSTAMP:20220319T163000Z
DTSTART;TZID=America/Chicago:20220319T113000
DURATION:PT0H60M0S
SUMMARY:Team 6 vs Team 7 
DESCRIPTION:PreK5/K | Soccer\nFrisco Family YMCA\n
URL;VALUE=URI:https://ygametime.com/branch/frisco/sports/2022-spring-soccer/12441/?utm_medium=calendar&utm_source=team_cal&utm_content=league_url#game-286566
LOCATION:Pre K Field 1 
BEGIN:VALARM
TRIGGER:-P2H
ACTION:DISPLAY
DESCRIPTION:Team 6 vs Team 7 
END:VALARM
END:VEVENT
BEGIN:VEVENT
UID:frisco-286571@ygametime.com
DTSTAMP:20220326T153000Z
DTSTART;TZID=America/Chicago:20220326T103000
DURATION:PT0H60M0S
SUMMARY:Team 5  vs Team 6
DESCRIPTION:PreK5/K | Soccer\nFrisco Family YMCA\n
URL;VALUE=URI:https://ygametime.com/branch/frisco/sports/2022-spring-soccer/12441/?utm_medium=calendar&utm_source=team_cal&utm_content=league_url#game-286571
LOCATION:Pre k field 4 
BEGIN:VALARM
TRIGGER:-P2H
ACTION:DISPLAY
DESCRIPTION:Team 5  vs Team 6
END:VALARM
END:VEVENT
BEGIN:VEVENT
UID:frisco-286575@ygametime.com
DTSTAMP:20220402T153000Z
DTSTART;TZID=America/Chicago:20220402T103000
DURATION:PT0H60M0S
SUMMARY:Team 6 vs Team 3
DESCRIPTION:PreK5/K | Soccer\nFrisco Family YMCA\n
URL;VALUE=URI:https://ygametime.com/branch/frisco/sports/2022-spring-soccer/12441/?utm_medium=calendar&utm_source=team_cal&utm_content=league_url#game-286575
LOCATION:Pre k field 2 
BEGIN:VALARM
TRIGGER:-P2H
ACTION:DISPLAY
DESCRIPTION:Team 6 vs Team 3
END:VALARM
END:VEVENT
BEGIN:VEVENT
UID:frisco-286585@ygametime.com
DTSTAMP:20220409T163000Z
DTSTART;TZID=America/Chicago:20220409T113000
DURATION:PT0H60M0S
SUMMARY:Team 8  vs Team 6
DESCRIPTION:PreK5/K | Soccer\nFrisco Family YMCA\n
URL;VALUE=URI:https://ygametime.com/branch/frisco/sports/2022-spring-soccer/12441/?utm_medium=calendar&utm_source=team_cal&utm_content=league_url#game-286585
LOCATION:Pre k field 2 
BEGIN:VALARM
TRIGGER:-P2H
ACTION:DISPLAY
DESCRIPTION:Team 8  vs Team 6
END:VALARM
END:VEVENT
BEGIN:VEVENT
UID:frisco-286589@ygametime.com
DTSTAMP:20220416T153000Z
DTSTART;TZID=America/Chicago:20220416T103000
DURATION:PT0H60M0S
SUMMARY:Team 6 vs Team 10 
DESCRIPTION:PreK5/K | Soccer\nFrisco Family YMCA\n
URL;VALUE=URI:https://ygametime.com/branch/frisco/sports/2022-spring-soccer/12441/?utm_medium=calendar&utm_source=team_cal&utm_content=league_url#game-286589
LOCATION:Pre k field 4 
BEGIN:VALARM
TRIGGER:-P2H
ACTION:DISPLAY
DESCRIPTION:Team 6 vs Team 10 
END:VALARM
END:VEVENT
BEGIN:VEVENT
UID:frisco-286593@ygametime.com
DTSTAMP:20220423T153000Z
DTSTART;TZID=America/Chicago:20220423T103000
DURATION:PT0H60M0S
SUMMARY:Team 12  vs Team 6
DESCRIPTION:PreK5/K | Soccer\nFrisco Family YMCA\n
URL;VALUE=URI:https://ygametime.com/branch/frisco/sports/2022-spring-soccer/12441/?utm_medium=calendar&utm_source=team_cal&utm_content=league_url#game-286593
LOCATION:Pre k field 2 
BEGIN:VALARM
TRIGGER:-P2H
ACTION:DISPLAY
DESCRIPTION:Team 12  vs Team 6
END:VALARM
END:VEVENT
END:VCALENDAR

