BEGIN:VCALENDAR
VERSION:2.0
PRODID:-//YGAMETIME.com//YGT iCal Creator//EN
METHOD:PUBLISH
X-PUBLISHED-TTL:PT6H
REFRESH-INTERVAL;VALUE=DURATION:PT6H
CALSCALE:GREGORIAN
X-WR-CALNAME:YGAMETIME CALENDAR
BEGIN:VTIMEZONE
TZID:America/Chicago
X-LIC-LOCATION:America/Chicago
BEGIN:DAYLIGHT
TZOFFSETFROM:-0600
TZOFFSETTO:-0500
TZNAME:CDT
DTSTART:19700308T020000
RRULE:FREQ=YEARLY;BYMONTH=3;BYDAY=2SU
END:DAYLIGHT
BEGIN:STANDARD
TZOFFSETFROM:-0500
TZOFFSETTO:-0600
TZNAME:CST
DTSTART:19701101T020000
RRULE:FREQ=YEARLY;BYMONTH=11;BYDAY=1SU
END:STANDARD
END:VTIMEZONE
BEGIN:VEVENT
UID:frisco-286560@ygametime.com
DTSTAMP:20220312T173000Z
DTSTART;TZID=America/Chicago:20220312T113000
DURATION:PT0H60M0S
SUMMARY:Team 5  vs Team 12 
DESCRIPTION:PreK5/K | Soccer\nFrisco Family YMCA\n
URL;VALUE=URI:https://ygametime.com/branch/frisco/sports/2022-spring-soccer/12441/?utm_medium=calendar&utm_source=team_cal&utm_content=league_url#game-286560
LOCATION:Pre K Field 1 
BEGIN:VALARM
TRIGGER:-P2H
ACTION:DISPLAY
DESCRIPTION:Team 5  vs Team 12 
END:VALARM
END:VEVENT
BEGIN:VEVENT
UID:frisco-286564@ygametime.com
DTSTAMP:20220319T153000Z
DTSTART;TZID=America/Chicago:20220319T103000
DURATION:PT0H60M0S
SUMMARY:Team 12  vs Team 3
DESCRIPTION:PreK5/K | Soccer\nFrisco Family YMCA\n
URL;VALUE=URI:https://ygametime.com/branch/frisco/sports/2022-spring-soccer/12441/?utm_medium=calendar&utm_source=team_cal&utm_content=league_url#game-286564
LOCATION:Pre K field 3 
BEGIN:VALARM
TRIGGER:-P2H
ACTION:DISPLAY
DESCRIPTION:Team 12  vs Team 3
END:VALARM
END:VEVENT
BEGIN:VEVENT
UID:frisco-286568@ygametime.com
DTSTAMP:20220326T153000Z
DTSTART;TZID=America/Chicago:20220326T103000
DURATION:PT0H60M0S
SUMMARY:Team 8  vs Team 12 
DESCRIPTION:PreK5/K | Soccer\nFrisco Family YMCA\n
URL;VALUE=URI:https://ygametime.com/branch/frisco/sports/2022-spring-soccer/12441/?utm_medium=calendar&utm_source=team_cal&utm_content=league_url#game-286568
LOCATION:Pre K Field 1 
BEGIN:VALARM
TRIGGER:-P2H
ACTION:DISPLAY
DESCRIPTION:Team 8  vs Team 12 
END:VALARM
END:VEVENT
BEGIN:VEVENT
UID:frisco-286578@ygametime.com
DTSTAMP:20220402T163000Z
DTSTART;TZID=America/Chicago:20220402T113000
DURATION:PT0H60M0S
SUMMARY:Team 12  vs Team 10 
DESCRIPTION:PreK5/K | Soccer\nFrisco Family YMCA\n
URL;VALUE=URI:https://ygametime.com/branch/frisco/sports/2022-spring-soccer/12441/?utm_medium=calendar&utm_source=team_cal&utm_content=league_url#game-286578
LOCATION:Pre K Field 1 
BEGIN:VALARM
TRIGGER:-P2H
ACTION:DISPLAY
DESCRIPTION:Team 12  vs Team 10 
END:VALARM
END:VEVENT
BEGIN:VEVENT
UID:frisco-286582@ygametime.com
DTSTAMP:20220409T153000Z
DTSTART;TZID=America/Chicago:20220409T103000
DURATION:PT0H60M0S
SUMMARY:Team 12  vs Team 1
DESCRIPTION:PreK5/K | Soccer\nFrisco Family YMCA\n
URL;VALUE=URI:https://ygametime.com/branch/frisco/sports/2022-spring-soccer/12441/?utm_medium=calendar&utm_source=team_cal&utm_content=league_url#game-286582
LOCATION:Pre K field 3 
BEGIN:VALARM
TRIGGER:-P2H
ACTION:DISPLAY
DESCRIPTION:Team 12  vs Team 1
END:VALARM
END:VEVENT
BEGIN:VEVENT
UID:frisco-286593@ygametime.com
DTSTAMP:20220423T153000Z
DTSTART;TZID=America/Chicago:20220423T103000
DURATION:PT0H60M0S
SUMMARY:Team 12  vs Team 6
DESCRIPTION:PreK5/K | Soccer\nFrisco Family YMCA\n
URL;VALUE=URI:https://ygametime.com/branch/frisco/sports/2022-spring-soccer/12441/?utm_medium=calendar&utm_source=team_cal&utm_content=league_url#game-286593
LOCATION:Pre k field 2 
BEGIN:VALARM
TRIGGER:-P2H
ACTION:DISPLAY
DESCRIPTION:Team 12  vs Team 6
END:VALARM
END:VEVENT
END:VCALENDAR

