BEGIN:VCALENDAR
VERSION:2.0
PRODID:-//YGAMETIME.com//YGT iCal Creator//EN
METHOD:PUBLISH
X-PUBLISHED-TTL:PT6H
REFRESH-INTERVAL;VALUE=DURATION:PT6H
CALSCALE:GREGORIAN
X-WR-CALNAME:YGAMETIME CALENDAR
BEGIN:VTIMEZONE
TZID:America/Chicago
X-LIC-LOCATION:America/Chicago
BEGIN:DAYLIGHT
TZOFFSETFROM:-0600
TZOFFSETTO:-0500
TZNAME:CDT
DTSTART:19700308T020000
RRULE:FREQ=YEARLY;BYMONTH=3;BYDAY=2SU
END:DAYLIGHT
BEGIN:STANDARD
TZOFFSETFROM:-0500
TZOFFSETTO:-0600
TZNAME:CST
DTSTART:19701101T020000
RRULE:FREQ=YEARLY;BYMONTH=11;BYDAY=1SU
END:STANDARD
END:VTIMEZONE
BEGIN:VEVENT
UID:frisco-286598@ygametime.com
DTSTAMP:20220312T183000Z
DTSTART;TZID=America/Chicago:20220312T123000
DURATION:PT0H60M0S
SUMMARY:Team 5  vs Team 1 
DESCRIPTION:1st/2nd | Soccer\nFrisco Family YMCA\n
URL;VALUE=URI:https://ygametime.com/branch/frisco/sports/2022-spring-soccer/12446/?utm_medium=calendar&utm_source=team_cal&utm_content=league_url#game-286598
LOCATION:1st/2nd Field 2 
BEGIN:VALARM
TRIGGER:-P2H
ACTION:DISPLAY
DESCRIPTION:Team 5  vs Team 1 
END:VALARM
END:VEVENT
BEGIN:VEVENT
UID:frisco-286605@ygametime.com
DTSTAMP:20220319T183000Z
DTSTART;TZID=America/Chicago:20220319T133000
DURATION:PT0H60M0S
SUMMARY:Team 1  vs Team 6 
DESCRIPTION:1st/2nd | Soccer\nFrisco Family YMCA\n
URL;VALUE=URI:https://ygametime.com/branch/frisco/sports/2022-spring-soccer/12446/?utm_medium=calendar&utm_source=team_cal&utm_content=league_url#game-286605
LOCATION:1st/2nd fields
BEGIN:VALARM
TRIGGER:-P2H
ACTION:DISPLAY
DESCRIPTION:Team 1  vs Team 6 
END:VALARM
END:VEVENT
BEGIN:VEVENT
UID:frisco-286608@ygametime.com
DTSTAMP:20220326T183000Z
DTSTART;TZID=America/Chicago:20220326T133000
DURATION:PT0H60M0S
SUMMARY:Team 7  vs Team 1 
DESCRIPTION:1st/2nd | Soccer\nFrisco Family YMCA\n
URL;VALUE=URI:https://ygametime.com/branch/frisco/sports/2022-spring-soccer/12446/?utm_medium=calendar&utm_source=team_cal&utm_content=league_url#game-286608
LOCATION:1st/2nd Field 2 
BEGIN:VALARM
TRIGGER:-P2H
ACTION:DISPLAY
DESCRIPTION:Team 7  vs Team 1 
END:VALARM
END:VEVENT
BEGIN:VEVENT
UID:frisco-286611@ygametime.com
DTSTAMP:20220402T173000Z
DTSTART;TZID=America/Chicago:20220402T123000
DURATION:PT0H60M0S
SUMMARY:Team 1  vs Team 8 
DESCRIPTION:1st/2nd | Soccer\nFrisco Family YMCA\n
URL;VALUE=URI:https://ygametime.com/branch/frisco/sports/2022-spring-soccer/12446/?utm_medium=calendar&utm_source=team_cal&utm_content=league_url#game-286611
LOCATION:1st/2nd fields
BEGIN:VALARM
TRIGGER:-P2H
ACTION:DISPLAY
DESCRIPTION:Team 1  vs Team 8 
END:VALARM
END:VEVENT
END:VCALENDAR

