BEGIN:VCALENDAR
VERSION:2.0
PRODID:-//YGAMETIME.com//YGT iCal Creator//EN
METHOD:PUBLISH
X-PUBLISHED-TTL:PT6H
REFRESH-INTERVAL;VALUE=DURATION:PT6H
CALSCALE:GREGORIAN
X-WR-CALNAME:YGAMETIME CALENDAR
BEGIN:VTIMEZONE
TZID:America/Chicago
X-LIC-LOCATION:America/Chicago
BEGIN:DAYLIGHT
TZOFFSETFROM:-0600
TZOFFSETTO:-0500
TZNAME:CDT
DTSTART:19700308T020000
RRULE:FREQ=YEARLY;BYMONTH=3;BYDAY=2SU
END:DAYLIGHT
BEGIN:STANDARD
TZOFFSETFROM:-0500
TZOFFSETTO:-0600
TZNAME:CST
DTSTART:19701101T020000
RRULE:FREQ=YEARLY;BYMONTH=11;BYDAY=1SU
END:STANDARD
END:VTIMEZONE
BEGIN:VEVENT
UID:frisco-286630@ygametime.com
DTSTAMP:20220312T183000Z
DTSTART;TZID=America/Chicago:20220312T123000
DURATION:PT0H60M0S
SUMMARY:Team 4  vs Team 1
DESCRIPTION:3rd/4th | Soccer\nFrisco Family YMCA\n
URL;VALUE=URI:https://ygametime.com/branch/frisco/sports/2022-spring-soccer/12447/?utm_medium=calendar&utm_source=team_cal&utm_content=league_url#game-286630
LOCATION:3rd-6th Field
BEGIN:VALARM
TRIGGER:-P2H
ACTION:DISPLAY
DESCRIPTION:Team 4  vs Team 1
END:VALARM
END:VEVENT
BEGIN:VEVENT
UID:frisco-286635@ygametime.com
DTSTAMP:20220319T193000Z
DTSTART;TZID=America/Chicago:20220319T143000
DURATION:PT0H60M0S
SUMMARY:Team 1 vs Team 5 
DESCRIPTION:3rd/4th | Soccer\nFrisco Family YMCA\n
URL;VALUE=URI:https://ygametime.com/branch/frisco/sports/2022-spring-soccer/12447/?utm_medium=calendar&utm_source=team_cal&utm_content=league_url#game-286635
LOCATION:3rd-6th Field
BEGIN:VALARM
TRIGGER:-P2H
ACTION:DISPLAY
DESCRIPTION:Team 1 vs Team 5 
END:VALARM
END:VEVENT
BEGIN:VEVENT
UID:frisco-286637@ygametime.com
DTSTAMP:20220326T183000Z
DTSTART;TZID=America/Chicago:20220326T133000
DURATION:PT0H60M0S
SUMMARY:Team 2  vs Team 1
DESCRIPTION:3rd/4th | Soccer\nFrisco Family YMCA\n
URL;VALUE=URI:https://ygametime.com/branch/frisco/sports/2022-spring-soccer/12447/?utm_medium=calendar&utm_source=team_cal&utm_content=league_url#game-286637
LOCATION:3rd-6th Field
BEGIN:VALARM
TRIGGER:-P2H
ACTION:DISPLAY
DESCRIPTION:Team 2  vs Team 1
END:VALARM
END:VEVENT
BEGIN:VEVENT
UID:frisco-286639@ygametime.com
DTSTAMP:20220402T173000Z
DTSTART;TZID=America/Chicago:20220402T123000
DURATION:PT0H60M0S
SUMMARY:Team 1 vs Team 3
DESCRIPTION:3rd/4th | Soccer\nFrisco Family YMCA\n
URL;VALUE=URI:https://ygametime.com/branch/frisco/sports/2022-spring-soccer/12447/?utm_medium=calendar&utm_source=team_cal&utm_content=league_url#game-286639
LOCATION:3rd-6th Field
BEGIN:VALARM
TRIGGER:-P2H
ACTION:DISPLAY
DESCRIPTION:Team 1 vs Team 3
END:VALARM
END:VEVENT
BEGIN:VEVENT
UID:frisco-286643@ygametime.com
DTSTAMP:20220409T183000Z
DTSTART;TZID=America/Chicago:20220409T133000
DURATION:PT0H60M0S
SUMMARY:Team 1 vs Team 5 
DESCRIPTION:3rd/4th | Soccer\nFrisco Family YMCA\n
URL;VALUE=URI:https://ygametime.com/branch/frisco/sports/2022-spring-soccer/12447/?utm_medium=calendar&utm_source=team_cal&utm_content=league_url#game-286643
LOCATION:3rd-6th Field
BEGIN:VALARM
TRIGGER:-P2H
ACTION:DISPLAY
DESCRIPTION:Team 1 vs Team 5 
END:VALARM
END:VEVENT
BEGIN:VEVENT
UID:frisco-286644@ygametime.com
DTSTAMP:20220409T193000Z
DTSTART;TZID=America/Chicago:20220409T143000
DURATION:PT0H60M0S
SUMMARY:Team 2  vs Team 1
DESCRIPTION:3rd/4th | Soccer\nFrisco Family YMCA\n
URL;VALUE=URI:https://ygametime.com/branch/frisco/sports/2022-spring-soccer/12447/?utm_medium=calendar&utm_source=team_cal&utm_content=league_url#game-286644
LOCATION:3rd-6th Field
BEGIN:VALARM
TRIGGER:-P2H
ACTION:DISPLAY
DESCRIPTION:Team 2  vs Team 1
END:VALARM
END:VEVENT
END:VCALENDAR

