BEGIN:VCALENDAR
VERSION:2.0
PRODID:-//YGAMETIME.com//YGT iCal Creator//EN
METHOD:PUBLISH
X-PUBLISHED-TTL:PT6H
REFRESH-INTERVAL;VALUE=DURATION:PT6H
CALSCALE:GREGORIAN
X-WR-CALNAME:YGAMETIME CALENDAR
BEGIN:VTIMEZONE
TZID:America/Chicago
X-LIC-LOCATION:America/Chicago
BEGIN:DAYLIGHT
TZOFFSETFROM:-0600
TZOFFSETTO:-0500
TZNAME:CDT
DTSTART:19700308T020000
RRULE:FREQ=YEARLY;BYMONTH=3;BYDAY=2SU
END:DAYLIGHT
BEGIN:STANDARD
TZOFFSETFROM:-0500
TZOFFSETTO:-0600
TZNAME:CST
DTSTART:19701101T020000
RRULE:FREQ=YEARLY;BYMONTH=11;BYDAY=1SU
END:STANDARD
END:VTIMEZONE
BEGIN:VEVENT
UID:frisco-286630@ygametime.com
DTSTAMP:20220312T183000Z
DTSTART;TZID=America/Chicago:20220312T123000
DURATION:PT0H60M0S
SUMMARY:Team 4  vs Team 1
DESCRIPTION:3rd/4th | Soccer\nFrisco Family YMCA\n
URL;VALUE=URI:https://ygametime.com/branch/frisco/sports/2022-spring-soccer/12447/?utm_medium=calendar&utm_source=team_cal&utm_content=league_url#game-286630
LOCATION:3rd-6th Field
BEGIN:VALARM
TRIGGER:-P2H
ACTION:DISPLAY
DESCRIPTION:Team 4  vs Team 1
END:VALARM
END:VEVENT
BEGIN:VEVENT
UID:frisco-286632@ygametime.com
DTSTAMP:20220312T203000Z
DTSTART;TZID=America/Chicago:20220312T143000
DURATION:PT0H60M0S
SUMMARY:Team 3 vs Team 4 
DESCRIPTION:3rd/4th | Soccer\nFrisco Family YMCA\n
URL;VALUE=URI:https://ygametime.com/branch/frisco/sports/2022-spring-soccer/12447/?utm_medium=calendar&utm_source=team_cal&utm_content=league_url#game-286632
LOCATION:3rd-6th Field
BEGIN:VALARM
TRIGGER:-P2H
ACTION:DISPLAY
DESCRIPTION:Team 3 vs Team 4 
END:VALARM
END:VEVENT
BEGIN:VEVENT
UID:frisco-286633@ygametime.com
DTSTAMP:20220319T173000Z
DTSTART;TZID=America/Chicago:20220319T123000
DURATION:PT0H60M0S
SUMMARY:Team 5  vs Team 4 
DESCRIPTION:3rd/4th | Soccer\nFrisco Family YMCA\n
URL;VALUE=URI:https://ygametime.com/branch/frisco/sports/2022-spring-soccer/12447/?utm_medium=calendar&utm_source=team_cal&utm_content=league_url#game-286633
LOCATION:3rd-6th Field
BEGIN:VALARM
TRIGGER:-P2H
ACTION:DISPLAY
DESCRIPTION:Team 5  vs Team 4 
END:VALARM
END:VEVENT
BEGIN:VEVENT
UID:frisco-286636@ygametime.com
DTSTAMP:20220326T173000Z
DTSTART;TZID=America/Chicago:20220326T123000
DURATION:PT0H60M0S
SUMMARY:Team 4  vs Team 2 
DESCRIPTION:3rd/4th | Soccer\nFrisco Family YMCA\n
URL;VALUE=URI:https://ygametime.com/branch/frisco/sports/2022-spring-soccer/12447/?utm_medium=calendar&utm_source=team_cal&utm_content=league_url#game-286636
LOCATION:3rd-6th Field
BEGIN:VALARM
TRIGGER:-P2H
ACTION:DISPLAY
DESCRIPTION:Team 4  vs Team 2 
END:VALARM
END:VEVENT
BEGIN:VEVENT
UID:frisco-286641@ygametime.com
DTSTAMP:20220402T193000Z
DTSTART;TZID=America/Chicago:20220402T143000
DURATION:PT0H60M0S
SUMMARY:Team 5  vs Team 4 
DESCRIPTION:3rd/4th | Soccer\nFrisco Family YMCA\n
URL;VALUE=URI:https://ygametime.com/branch/frisco/sports/2022-spring-soccer/12447/?utm_medium=calendar&utm_source=team_cal&utm_content=league_url#game-286641
LOCATION:3rd-6th Field
BEGIN:VALARM
TRIGGER:-P2H
ACTION:DISPLAY
DESCRIPTION:Team 5  vs Team 4 
END:VALARM
END:VEVENT
BEGIN:VEVENT
UID:frisco-286642@ygametime.com
DTSTAMP:20220409T173000Z
DTSTART;TZID=America/Chicago:20220409T123000
DURATION:PT0H60M0S
SUMMARY:Team 4  vs Team 3
DESCRIPTION:3rd/4th | Soccer\nFrisco Family YMCA\n
URL;VALUE=URI:https://ygametime.com/branch/frisco/sports/2022-spring-soccer/12447/?utm_medium=calendar&utm_source=team_cal&utm_content=league_url#game-286642
LOCATION:3rd-6th Field
BEGIN:VALARM
TRIGGER:-P2H
ACTION:DISPLAY
DESCRIPTION:Team 4  vs Team 3
END:VALARM
END:VEVENT
END:VCALENDAR

