BEGIN:VCALENDAR
VERSION:2.0
PRODID:-//YGAMETIME.com//YGT iCal Creator//EN
METHOD:PUBLISH
X-PUBLISHED-TTL:PT6H
REFRESH-INTERVAL;VALUE=DURATION:PT6H
CALSCALE:GREGORIAN
X-WR-CALNAME:YGAMETIME CALENDAR
BEGIN:VTIMEZONE
TZID:America/Chicago
X-LIC-LOCATION:America/Chicago
BEGIN:DAYLIGHT
TZOFFSETFROM:-0600
TZOFFSETTO:-0500
TZNAME:CDT
DTSTART:19700308T020000
RRULE:FREQ=YEARLY;BYMONTH=3;BYDAY=2SU
END:DAYLIGHT
BEGIN:STANDARD
TZOFFSETFROM:-0500
TZOFFSETTO:-0600
TZNAME:CST
DTSTART:19701101T020000
RRULE:FREQ=YEARLY;BYMONTH=11;BYDAY=1SU
END:STANDARD
END:VTIMEZONE
BEGIN:VEVENT
UID:frisco-286388@ygametime.com
DTSTAMP:20220312T174500Z
DTSTART;TZID=America/Chicago:20220312T114500
DURATION:PT0H60M0S
SUMMARY:Team 4  vs Team 1 
DESCRIPTION:5th/6th | Soccer\nFrisco Family YMCA\n
URL;VALUE=URI:https://ygametime.com/branch/frisco/sports/2022-spring-soccer/12448/?utm_medium=calendar&utm_source=team_cal&utm_content=league_url#game-286388
LOCATION:3rd-6th Field
BEGIN:VALARM
TRIGGER:-P2H
ACTION:DISPLAY
DESCRIPTION:Team 4  vs Team 1 
END:VALARM
END:VEVENT
BEGIN:VEVENT
UID:frisco-286390@ygametime.com
DTSTAMP:20220312T194500Z
DTSTART;TZID=America/Chicago:20220312T134500
DURATION:PT0H60M0S
SUMMARY:Team 3  vs Team 4 
DESCRIPTION:5th/6th | Soccer\nFrisco Family YMCA\n
URL;VALUE=URI:https://ygametime.com/branch/frisco/sports/2022-spring-soccer/12448/?utm_medium=calendar&utm_source=team_cal&utm_content=league_url#game-286390
LOCATION:3rd-6th Field
BEGIN:VALARM
TRIGGER:-P2H
ACTION:DISPLAY
DESCRIPTION:Team 3  vs Team 4 
END:VALARM
END:VEVENT
BEGIN:VEVENT
UID:frisco-286391@ygametime.com
DTSTAMP:20220319T164500Z
DTSTART;TZID=America/Chicago:20220319T114500
DURATION:PT0H60M0S
SUMMARY:Team 5  vs Team 4 
DESCRIPTION:5th/6th | Soccer\nFrisco Family YMCA\n
URL;VALUE=URI:https://ygametime.com/branch/frisco/sports/2022-spring-soccer/12448/?utm_medium=calendar&utm_source=team_cal&utm_content=league_url#game-286391
LOCATION:3rd-6th Field
BEGIN:VALARM
TRIGGER:-P2H
ACTION:DISPLAY
DESCRIPTION:Team 5  vs Team 4 
END:VALARM
END:VEVENT
BEGIN:VEVENT
UID:frisco-286394@ygametime.com
DTSTAMP:20220326T164500Z
DTSTART;TZID=America/Chicago:20220326T114500
DURATION:PT0H60M0S
SUMMARY:Team 4  vs Team 2
DESCRIPTION:5th/6th | Soccer\nFrisco Family YMCA\n
URL;VALUE=URI:https://ygametime.com/branch/frisco/sports/2022-spring-soccer/12448/?utm_medium=calendar&utm_source=team_cal&utm_content=league_url#game-286394
LOCATION:3rd-6th Field
BEGIN:VALARM
TRIGGER:-P2H
ACTION:DISPLAY
DESCRIPTION:Team 4  vs Team 2
END:VALARM
END:VEVENT
END:VCALENDAR

