BEGIN:VCALENDAR
VERSION:2.0
PRODID:-//YGAMETIME.com//YGT iCal Creator//EN
METHOD:PUBLISH
X-PUBLISHED-TTL:PT6H
REFRESH-INTERVAL;VALUE=DURATION:PT6H
CALSCALE:GREGORIAN
X-WR-CALNAME:YGAMETIME CALENDAR
BEGIN:VTIMEZONE
TZID:America/Chicago
X-LIC-LOCATION:America/Chicago
BEGIN:DAYLIGHT
TZOFFSETFROM:-0600
TZOFFSETTO:-0500
TZNAME:CDT
DTSTART:19700308T020000
RRULE:FREQ=YEARLY;BYMONTH=3;BYDAY=2SU
END:DAYLIGHT
BEGIN:STANDARD
TZOFFSETFROM:-0500
TZOFFSETTO:-0600
TZNAME:CST
DTSTART:19701101T020000
RRULE:FREQ=YEARLY;BYMONTH=11;BYDAY=1SU
END:STANDARD
END:VTIMEZONE
BEGIN:VEVENT
UID:georgetown-348715@ygametime.com
DTSTAMP:20230126T000000Z
DTSTART;TZID=America/Chicago:20230125T180000
DURATION:PT0H45M0S
SUMMARY:3RD/4TH GRADE COED B vs 3RD/4TH GRADE A
DESCRIPTION:3rd/4th Grade Coed Basketball | Winter Youth Basketball\nGeorgetown YMCA\n
URL;VALUE=URI:https://ygametime.com/branch/georgetown/sports/2023-winter-winter-youth-basketball/15320/?utm_medium=calendar&utm_source=team_cal&utm_content=league_url#game-348715
LOCATION:Forbes Middle School
BEGIN:VALARM
TRIGGER:-P2H
ACTION:DISPLAY
DESCRIPTION:3RD/4TH GRADE COED B vs 3RD/4TH GRADE A
END:VALARM
END:VEVENT
BEGIN:VEVENT
UID:georgetown-348716@ygametime.com
DTSTAMP:20230202T000000Z
DTSTART;TZID=America/Chicago:20230201T180000
DURATION:PT0H45M0S
SUMMARY:3RD/4TH GRADE COED B vs 3RD/4TH GRADE A
DESCRIPTION:3rd/4th Grade Coed Basketball | Winter Youth Basketball\nGeorgetown YMCA\n
URL;VALUE=URI:https://ygametime.com/branch/georgetown/sports/2023-winter-winter-youth-basketball/15320/?utm_medium=calendar&utm_source=team_cal&utm_content=league_url#game-348716
LOCATION:Forbes Middle School
BEGIN:VALARM
TRIGGER:-P2H
ACTION:DISPLAY
DESCRIPTION:3RD/4TH GRADE COED B vs 3RD/4TH GRADE A
END:VALARM
END:VEVENT
BEGIN:VEVENT
UID:georgetown-348717@ygametime.com
DTSTAMP:20230209T000000Z
DTSTART;TZID=America/Chicago:20230208T180000
DURATION:PT0H45M0S
SUMMARY:3RD/4TH GRADE COED B vs 3RD/4TH GRADE A
DESCRIPTION:3rd/4th Grade Coed Basketball | Winter Youth Basketball\nGeorgetown YMCA\n
URL;VALUE=URI:https://ygametime.com/branch/georgetown/sports/2023-winter-winter-youth-basketball/15320/?utm_medium=calendar&utm_source=team_cal&utm_content=league_url#game-348717
LOCATION:Forbes Middle School
BEGIN:VALARM
TRIGGER:-P2H
ACTION:DISPLAY
DESCRIPTION:3RD/4TH GRADE COED B vs 3RD/4TH GRADE A
END:VALARM
END:VEVENT
BEGIN:VEVENT
UID:georgetown-348718@ygametime.com
DTSTAMP:20230216T000000Z
DTSTART;TZID=America/Chicago:20230215T180000
DURATION:PT0H45M0S
SUMMARY:3RD/4TH GRADE COED B vs 3RD/4TH GRADE A
DESCRIPTION:3rd/4th Grade Coed Basketball | Winter Youth Basketball\nGeorgetown YMCA\n
URL;VALUE=URI:https://ygametime.com/branch/georgetown/sports/2023-winter-winter-youth-basketball/15320/?utm_medium=calendar&utm_source=team_cal&utm_content=league_url#game-348718
LOCATION:Forbes Middle School
BEGIN:VALARM
TRIGGER:-P2H
ACTION:DISPLAY
DESCRIPTION:3RD/4TH GRADE COED B vs 3RD/4TH GRADE A
END:VALARM
END:VEVENT
BEGIN:VEVENT
UID:georgetown-348719@ygametime.com
DTSTAMP:20230223T000000Z
DTSTART;TZID=America/Chicago:20230222T180000
DURATION:PT0H45M0S
SUMMARY:3RD/4TH GRADE COED B vs 3RD/4TH GRADE A
DESCRIPTION:3rd/4th Grade Coed Basketball | Winter Youth Basketball\nGeorgetown YMCA\n
URL;VALUE=URI:https://ygametime.com/branch/georgetown/sports/2023-winter-winter-youth-basketball/15320/?utm_medium=calendar&utm_source=team_cal&utm_content=league_url#game-348719
LOCATION:Forbes Middle School
BEGIN:VALARM
TRIGGER:-P2H
ACTION:DISPLAY
DESCRIPTION:3RD/4TH GRADE COED B vs 3RD/4TH GRADE A
END:VALARM
END:VEVENT
BEGIN:VEVENT
UID:georgetown-348720@ygametime.com
DTSTAMP:20230302T000000Z
DTSTART;TZID=America/Chicago:20230301T180000
DURATION:PT0H45M0S
SUMMARY:3RD/4TH GRADE COED B vs 3RD/4TH GRADE A
DESCRIPTION:3rd/4th Grade Coed Basketball | Winter Youth Basketball\nGeorgetown YMCA\n
URL;VALUE=URI:https://ygametime.com/branch/georgetown/sports/2023-winter-winter-youth-basketball/15320/?utm_medium=calendar&utm_source=team_cal&utm_content=league_url#game-348720
LOCATION:Forbes Middle School
BEGIN:VALARM
TRIGGER:-P2H
ACTION:DISPLAY
DESCRIPTION:3RD/4TH GRADE COED B vs 3RD/4TH GRADE A
END:VALARM
END:VEVENT
END:VCALENDAR

