BEGIN:VCALENDAR
VERSION:2.0
PRODID:-//YGAMETIME.com//YGT iCal Creator//EN
METHOD:PUBLISH
X-PUBLISHED-TTL:PT6H
REFRESH-INTERVAL;VALUE=DURATION:PT6H
CALSCALE:GREGORIAN
X-WR-CALNAME:YGAMETIME CALENDAR
BEGIN:VTIMEZONE
TZID:America/Chicago
X-LIC-LOCATION:America/Chicago
BEGIN:DAYLIGHT
TZOFFSETFROM:-0600
TZOFFSETTO:-0500
TZNAME:CDT
DTSTART:19700308T020000
RRULE:FREQ=YEARLY;BYMONTH=3;BYDAY=2SU
END:DAYLIGHT
BEGIN:STANDARD
TZOFFSETFROM:-0500
TZOFFSETTO:-0600
TZNAME:CST
DTSTART:19701101T020000
RRULE:FREQ=YEARLY;BYMONTH=11;BYDAY=1SU
END:STANDARD
END:VTIMEZONE
BEGIN:VEVENT
UID:hays-41390@ygametime.com
DTSTAMP:20160116T150000Z
DTSTART;TZID=America/Chicago:20160116T090000
DURATION:PT0H60M0S
SUMMARY:Mavericks vs Ballers
DESCRIPTION:4-5 Year Old Basketball | Basketball\nHays Communities Family YMCA\n
URL;VALUE=URI:https://ygametime.com/branch/hays/sports/2016-winter-basketball/1359/?utm_medium=calendar&utm_source=team_cal&utm_content=league_url#game-41390
LOCATION:Dahlstrom Middle School (Main Gym Court A)
BEGIN:VALARM
TRIGGER:-P2H
ACTION:DISPLAY
DESCRIPTION:Mavericks vs Ballers
END:VALARM
END:VEVENT
BEGIN:VEVENT
UID:hays-32270@ygametime.com
DTSTAMP:20160116T160000Z
DTSTART;TZID=America/Chicago:20160116T100000
DURATION:PT0H60M0S
SUMMARY:Mavericks vs Dragons
DESCRIPTION:4-5 Year Old Basketball | Basketball\nHays Communities Family YMCA\n
URL;VALUE=URI:https://ygametime.com/branch/hays/sports/2016-winter-basketball/1359/?utm_medium=calendar&utm_source=team_cal&utm_content=league_url#game-32270
LOCATION:Dahlstrom Middle School (Main Gym Court B)
BEGIN:VALARM
TRIGGER:-P2H
ACTION:DISPLAY
DESCRIPTION:Mavericks vs Dragons
END:VALARM
END:VEVENT
BEGIN:VEVENT
UID:hays-41394@ygametime.com
DTSTAMP:20160123T150000Z
DTSTART;TZID=America/Chicago:20160123T090000
DURATION:PT0H60M0S
SUMMARY:Stars vs Mavericks
DESCRIPTION:4-5 Year Old Basketball | Basketball\nHays Communities Family YMCA\n
URL;VALUE=URI:https://ygametime.com/branch/hays/sports/2016-winter-basketball/1359/?utm_medium=calendar&utm_source=team_cal&utm_content=league_url#game-41394
LOCATION:Dahlstrom Middle School (Main Gym Court B)
BEGIN:VALARM
TRIGGER:-P2H
ACTION:DISPLAY
DESCRIPTION:Stars vs Mavericks
END:VALARM
END:VEVENT
BEGIN:VEVENT
UID:hays-32274@ygametime.com
DTSTAMP:20160123T160000Z
DTSTART;TZID=America/Chicago:20160123T100000
DURATION:PT0H60M0S
SUMMARY:Stars vs Mavericks
DESCRIPTION:4-5 Year Old Basketball | Basketball\nHays Communities Family YMCA\n
URL;VALUE=URI:https://ygametime.com/branch/hays/sports/2016-winter-basketball/1359/?utm_medium=calendar&utm_source=team_cal&utm_content=league_url#game-32274
LOCATION:Dahlstrom Middle School (Main Gym Court A)
BEGIN:VALARM
TRIGGER:-P2H
ACTION:DISPLAY
DESCRIPTION:Stars vs Mavericks
END:VALARM
END:VEVENT
BEGIN:VEVENT
UID:hays-32277@ygametime.com
DTSTAMP:20160130T150000Z
DTSTART;TZID=America/Chicago:20160130T090000
DURATION:PT0H60M0S
SUMMARY:Mavericks vs Shooters
DESCRIPTION:4-5 Year Old Basketball | Basketball\nHays Communities Family YMCA\n
URL;VALUE=URI:https://ygametime.com/branch/hays/sports/2016-winter-basketball/1359/?utm_medium=calendar&utm_source=team_cal&utm_content=league_url#game-32277
LOCATION:Dahlstrom Middle School (Main Gym Court B)
BEGIN:VALARM
TRIGGER:-P2H
ACTION:DISPLAY
DESCRIPTION:Mavericks vs Shooters
END:VALARM
END:VEVENT
BEGIN:VEVENT
UID:hays-41398@ygametime.com
DTSTAMP:20160130T150000Z
DTSTART;TZID=America/Chicago:20160130T090000
DURATION:PT0H60M0S
SUMMARY:Mavericks vs Bears
DESCRIPTION:4-5 Year Old Basketball | Basketball\nHays Communities Family YMCA\n
URL;VALUE=URI:https://ygametime.com/branch/hays/sports/2016-winter-basketball/1359/?utm_medium=calendar&utm_source=team_cal&utm_content=league_url#game-41398
LOCATION:Dahlstrom Middle School (Main Gym Court A)
BEGIN:VALARM
TRIGGER:-P2H
ACTION:DISPLAY
DESCRIPTION:Mavericks vs Bears
END:VALARM
END:VEVENT
BEGIN:VEVENT
UID:hays-41402@ygametime.com
DTSTAMP:20160206T150000Z
DTSTART;TZID=America/Chicago:20160206T090000
DURATION:PT0H60M0S
SUMMARY:Magic vs Mavericks
DESCRIPTION:4-5 Year Old Basketball | Basketball\nHays Communities Family YMCA\n
URL;VALUE=URI:https://ygametime.com/branch/hays/sports/2016-winter-basketball/1359/?utm_medium=calendar&utm_source=team_cal&utm_content=league_url#game-41402
LOCATION:Dahlstrom Middle School (Main Gym Court A)
BEGIN:VALARM
TRIGGER:-P2H
ACTION:DISPLAY
DESCRIPTION:Magic vs Mavericks
END:VALARM
END:VEVENT
BEGIN:VEVENT
UID:hays-32283@ygametime.com
DTSTAMP:20160206T160000Z
DTSTART;TZID=America/Chicago:20160206T100000
DURATION:PT0H60M0S
SUMMARY:Bears vs Mavericks
DESCRIPTION:4-5 Year Old Basketball | Basketball\nHays Communities Family YMCA\n
URL;VALUE=URI:https://ygametime.com/branch/hays/sports/2016-winter-basketball/1359/?utm_medium=calendar&utm_source=team_cal&utm_content=league_url#game-32283
LOCATION:Dahlstrom Middle School (Main Gym Court B)
BEGIN:VALARM
TRIGGER:-P2H
ACTION:DISPLAY
DESCRIPTION:Bears vs Mavericks
END:VALARM
END:VEVENT
BEGIN:VEVENT
UID:hays-32285@ygametime.com
DTSTAMP:20160213T150000Z
DTSTART;TZID=America/Chicago:20160213T090000
DURATION:PT0H60M0S
SUMMARY:Mavericks vs Owls
DESCRIPTION:4-5 Year Old Basketball | Basketball\nHays Communities Family YMCA\n
URL;VALUE=URI:https://ygametime.com/branch/hays/sports/2016-winter-basketball/1359/?utm_medium=calendar&utm_source=team_cal&utm_content=league_url#game-32285
LOCATION:Dahlstrom Middle School (Main Gym Court B)
BEGIN:VALARM
TRIGGER:-P2H
ACTION:DISPLAY
DESCRIPTION:Mavericks vs Owls
END:VALARM
END:VEVENT
BEGIN:VEVENT
UID:hays-41409@ygametime.com
DTSTAMP:20160213T160000Z
DTSTART;TZID=America/Chicago:20160213T100000
DURATION:PT0H60M0S
SUMMARY:Mavericks vs Dragons
DESCRIPTION:4-5 Year Old Basketball | Basketball\nHays Communities Family YMCA\n
URL;VALUE=URI:https://ygametime.com/branch/hays/sports/2016-winter-basketball/1359/?utm_medium=calendar&utm_source=team_cal&utm_content=league_url#game-41409
LOCATION:Dahlstrom Middle School (Main Gym Court B)
BEGIN:VALARM
TRIGGER:-P2H
ACTION:DISPLAY
DESCRIPTION:Mavericks vs Dragons
END:VALARM
END:VEVENT
BEGIN:VEVENT
UID:hays-41411@ygametime.com
DTSTAMP:20160220T150000Z
DTSTART;TZID=America/Chicago:20160220T090000
DURATION:PT0H60M0S
SUMMARY:Owls vs Mavericks
DESCRIPTION:4-5 Year Old Basketball | Basketball\nHays Communities Family YMCA\n
URL;VALUE=URI:https://ygametime.com/branch/hays/sports/2016-winter-basketball/1359/?utm_medium=calendar&utm_source=team_cal&utm_content=league_url#game-41411
LOCATION:Dahlstrom Middle School (Main Gym Court B)
BEGIN:VALARM
TRIGGER:-P2H
ACTION:DISPLAY
DESCRIPTION:Owls vs Mavericks
END:VALARM
END:VEVENT
BEGIN:VEVENT
UID:hays-32291@ygametime.com
DTSTAMP:20160220T160000Z
DTSTART;TZID=America/Chicago:20160220T100000
DURATION:PT0H60M0S
SUMMARY:Ballers vs Mavericks
DESCRIPTION:4-5 Year Old Basketball | Basketball\nHays Communities Family YMCA\n
URL;VALUE=URI:https://ygametime.com/branch/hays/sports/2016-winter-basketball/1359/?utm_medium=calendar&utm_source=team_cal&utm_content=league_url#game-32291
LOCATION:Dahlstrom Middle School (Main Gym Court B)
BEGIN:VALARM
TRIGGER:-P2H
ACTION:DISPLAY
DESCRIPTION:Ballers vs Mavericks
END:VALARM
END:VEVENT
BEGIN:VEVENT
UID:hays-32295@ygametime.com
DTSTAMP:20160227T160000Z
DTSTART;TZID=America/Chicago:20160227T100000
DURATION:PT0H60M0S
SUMMARY:Magic vs Mavericks
DESCRIPTION:4-5 Year Old Basketball | Basketball\nHays Communities Family YMCA\n
URL;VALUE=URI:https://ygametime.com/branch/hays/sports/2016-winter-basketball/1359/?utm_medium=calendar&utm_source=team_cal&utm_content=league_url#game-32295
LOCATION:Dahlstrom Middle School (Main Gym Court B)
BEGIN:VALARM
TRIGGER:-P2H
ACTION:DISPLAY
DESCRIPTION:Magic vs Mavericks
END:VALARM
END:VEVENT
BEGIN:VEVENT
UID:hays-41417@ygametime.com
DTSTAMP:20160227T160000Z
DTSTART;TZID=America/Chicago:20160227T100000
DURATION:PT0H60M0S
SUMMARY:Mavericks vs Shooters
DESCRIPTION:4-5 Year Old Basketball | Basketball\nHays Communities Family YMCA\n
URL;VALUE=URI:https://ygametime.com/branch/hays/sports/2016-winter-basketball/1359/?utm_medium=calendar&utm_source=team_cal&utm_content=league_url#game-41417
LOCATION:Dahlstrom Middle School (Main Gym Court B)
BEGIN:VALARM
TRIGGER:-P2H
ACTION:DISPLAY
DESCRIPTION:Mavericks vs Shooters
END:VALARM
END:VEVENT
BEGIN:VEVENT
UID:hays-41419@ygametime.com
DTSTAMP:20160305T150000Z
DTSTART;TZID=America/Chicago:20160305T090000
DURATION:PT0H60M0S
SUMMARY:Mavericks vs Ballers
DESCRIPTION:4-5 Year Old Basketball | Basketball\nHays Communities Family YMCA\n
URL;VALUE=URI:https://ygametime.com/branch/hays/sports/2016-winter-basketball/1359/?utm_medium=calendar&utm_source=team_cal&utm_content=league_url#game-41419
LOCATION:Dahlstrom Middle School (Main Gym Court B)
BEGIN:VALARM
TRIGGER:-P2H
ACTION:DISPLAY
DESCRIPTION:Mavericks vs Ballers
END:VALARM
END:VEVENT
BEGIN:VEVENT
UID:hays-32299@ygametime.com
DTSTAMP:20160305T160000Z
DTSTART;TZID=America/Chicago:20160305T100000
DURATION:PT0H60M0S
SUMMARY:Mavericks vs Dragons
DESCRIPTION:4-5 Year Old Basketball | Basketball\nHays Communities Family YMCA\n
URL;VALUE=URI:https://ygametime.com/branch/hays/sports/2016-winter-basketball/1359/?utm_medium=calendar&utm_source=team_cal&utm_content=league_url#game-32299
LOCATION:Dahlstrom Middle School (Main Gym Court B)
BEGIN:VALARM
TRIGGER:-P2H
ACTION:DISPLAY
DESCRIPTION:Mavericks vs Dragons
END:VALARM
END:VEVENT
END:VCALENDAR

