BEGIN:VCALENDAR
VERSION:2.0
PRODID:-//YGAMETIME.com//YGT iCal Creator//EN
METHOD:PUBLISH
X-PUBLISHED-TTL:PT6H
REFRESH-INTERVAL;VALUE=DURATION:PT6H
CALSCALE:GREGORIAN
X-WR-CALNAME:YGAMETIME CALENDAR
BEGIN:VTIMEZONE
TZID:America/Chicago
X-LIC-LOCATION:America/Chicago
BEGIN:DAYLIGHT
TZOFFSETFROM:-0600
TZOFFSETTO:-0500
TZNAME:CDT
DTSTART:19700308T020000
RRULE:FREQ=YEARLY;BYMONTH=3;BYDAY=2SU
END:DAYLIGHT
BEGIN:STANDARD
TZOFFSETFROM:-0500
TZOFFSETTO:-0600
TZNAME:CST
DTSTART:19701101T020000
RRULE:FREQ=YEARLY;BYMONTH=11;BYDAY=1SU
END:STANDARD
END:VTIMEZONE
BEGIN:VEVENT
UID:hays-32271@ygametime.com
DTSTAMP:20160116T160000Z
DTSTART;TZID=America/Chicago:20160116T100000
DURATION:PT0H60M0S
SUMMARY:Owls vs Stars
DESCRIPTION:4-5 Year Old Basketball | Basketball\nHays Communities Family YMCA\n
URL;VALUE=URI:https://ygametime.com/branch/hays/sports/2016-winter-basketball/1359/?utm_medium=calendar&utm_source=team_cal&utm_content=league_url#game-32271
LOCATION:Dahlstrom Middle School (Main Gym Court A)
BEGIN:VALARM
TRIGGER:-P2H
ACTION:DISPLAY
DESCRIPTION:Owls vs Stars
END:VALARM
END:VEVENT
BEGIN:VEVENT
UID:hays-41392@ygametime.com
DTSTAMP:20160116T160000Z
DTSTART;TZID=America/Chicago:20160116T100000
DURATION:PT0H60M0S
SUMMARY:Shooters vs Stars
DESCRIPTION:4-5 Year Old Basketball | Basketball\nHays Communities Family YMCA\n
URL;VALUE=URI:https://ygametime.com/branch/hays/sports/2016-winter-basketball/1359/?utm_medium=calendar&utm_source=team_cal&utm_content=league_url#game-41392
LOCATION:Dahlstrom Middle School (Main Gym Court B)
BEGIN:VALARM
TRIGGER:-P2H
ACTION:DISPLAY
DESCRIPTION:Shooters vs Stars
END:VALARM
END:VEVENT
BEGIN:VEVENT
UID:hays-41394@ygametime.com
DTSTAMP:20160123T150000Z
DTSTART;TZID=America/Chicago:20160123T090000
DURATION:PT0H60M0S
SUMMARY:Stars vs Mavericks
DESCRIPTION:4-5 Year Old Basketball | Basketball\nHays Communities Family YMCA\n
URL;VALUE=URI:https://ygametime.com/branch/hays/sports/2016-winter-basketball/1359/?utm_medium=calendar&utm_source=team_cal&utm_content=league_url#game-41394
LOCATION:Dahlstrom Middle School (Main Gym Court B)
BEGIN:VALARM
TRIGGER:-P2H
ACTION:DISPLAY
DESCRIPTION:Stars vs Mavericks
END:VALARM
END:VEVENT
BEGIN:VEVENT
UID:hays-32274@ygametime.com
DTSTAMP:20160123T160000Z
DTSTART;TZID=America/Chicago:20160123T100000
DURATION:PT0H60M0S
SUMMARY:Stars vs Mavericks
DESCRIPTION:4-5 Year Old Basketball | Basketball\nHays Communities Family YMCA\n
URL;VALUE=URI:https://ygametime.com/branch/hays/sports/2016-winter-basketball/1359/?utm_medium=calendar&utm_source=team_cal&utm_content=league_url#game-32274
LOCATION:Dahlstrom Middle School (Main Gym Court A)
BEGIN:VALARM
TRIGGER:-P2H
ACTION:DISPLAY
DESCRIPTION:Stars vs Mavericks
END:VALARM
END:VEVENT
BEGIN:VEVENT
UID:hays-32276@ygametime.com
DTSTAMP:20160130T150000Z
DTSTART;TZID=America/Chicago:20160130T090000
DURATION:PT0H60M0S
SUMMARY:Magic vs Stars
DESCRIPTION:4-5 Year Old Basketball | Basketball\nHays Communities Family YMCA\n
URL;VALUE=URI:https://ygametime.com/branch/hays/sports/2016-winter-basketball/1359/?utm_medium=calendar&utm_source=team_cal&utm_content=league_url#game-32276
LOCATION:Dahlstrom Middle School (Main Gym Court A)
BEGIN:VALARM
TRIGGER:-P2H
ACTION:DISPLAY
DESCRIPTION:Magic vs Stars
END:VALARM
END:VEVENT
BEGIN:VEVENT
UID:hays-41400@ygametime.com
DTSTAMP:20160130T160000Z
DTSTART;TZID=America/Chicago:20160130T100000
DURATION:PT0H60M0S
SUMMARY:Stars vs Ballers
DESCRIPTION:4-5 Year Old Basketball | Basketball\nHays Communities Family YMCA\n
URL;VALUE=URI:https://ygametime.com/branch/hays/sports/2016-winter-basketball/1359/?utm_medium=calendar&utm_source=team_cal&utm_content=league_url#game-41400
LOCATION:Dahlstrom Middle School (Main Gym Court A)
BEGIN:VALARM
TRIGGER:-P2H
ACTION:DISPLAY
DESCRIPTION:Stars vs Ballers
END:VALARM
END:VEVENT
BEGIN:VEVENT
UID:hays-32282@ygametime.com
DTSTAMP:20160206T160000Z
DTSTART;TZID=America/Chicago:20160206T100000
DURATION:PT0H60M0S
SUMMARY:Stars vs Dragons
DESCRIPTION:4-5 Year Old Basketball | Basketball\nHays Communities Family YMCA\n
URL;VALUE=URI:https://ygametime.com/branch/hays/sports/2016-winter-basketball/1359/?utm_medium=calendar&utm_source=team_cal&utm_content=league_url#game-32282
LOCATION:Dahlstrom Middle School (Main Gym Court A)
BEGIN:VALARM
TRIGGER:-P2H
ACTION:DISPLAY
DESCRIPTION:Stars vs Dragons
END:VALARM
END:VEVENT
BEGIN:VEVENT
UID:hays-41404@ygametime.com
DTSTAMP:20160206T160000Z
DTSTART;TZID=America/Chicago:20160206T100000
DURATION:PT0H60M0S
SUMMARY:Bears vs Stars
DESCRIPTION:4-5 Year Old Basketball | Basketball\nHays Communities Family YMCA\n
URL;VALUE=URI:https://ygametime.com/branch/hays/sports/2016-winter-basketball/1359/?utm_medium=calendar&utm_source=team_cal&utm_content=league_url#game-41404
LOCATION:Dahlstrom Middle School (Main Gym Court A)
BEGIN:VALARM
TRIGGER:-P2H
ACTION:DISPLAY
DESCRIPTION:Bears vs Stars
END:VALARM
END:VEVENT
BEGIN:VEVENT
UID:hays-32284@ygametime.com
DTSTAMP:20160213T150000Z
DTSTART;TZID=America/Chicago:20160213T090000
DURATION:PT0H60M0S
SUMMARY:Stars vs Ballers
DESCRIPTION:4-5 Year Old Basketball | Basketball\nHays Communities Family YMCA\n
URL;VALUE=URI:https://ygametime.com/branch/hays/sports/2016-winter-basketball/1359/?utm_medium=calendar&utm_source=team_cal&utm_content=league_url#game-32284
LOCATION:Dahlstrom Middle School (Main Gym Court A)
BEGIN:VALARM
TRIGGER:-P2H
ACTION:DISPLAY
DESCRIPTION:Stars vs Ballers
END:VALARM
END:VEVENT
BEGIN:VEVENT
UID:hays-41408@ygametime.com
DTSTAMP:20160213T160000Z
DTSTART;TZID=America/Chicago:20160213T100000
DURATION:PT0H60M0S
SUMMARY:Stars vs Magic
DESCRIPTION:4-5 Year Old Basketball | Basketball\nHays Communities Family YMCA\n
URL;VALUE=URI:https://ygametime.com/branch/hays/sports/2016-winter-basketball/1359/?utm_medium=calendar&utm_source=team_cal&utm_content=league_url#game-41408
LOCATION:Dahlstrom Middle School (Main Gym Court A)
BEGIN:VALARM
TRIGGER:-P2H
ACTION:DISPLAY
DESCRIPTION:Stars vs Magic
END:VALARM
END:VEVENT
BEGIN:VEVENT
UID:hays-32288@ygametime.com
DTSTAMP:20160220T150000Z
DTSTART;TZID=America/Chicago:20160220T090000
DURATION:PT0H60M0S
SUMMARY:Shooters vs Stars
DESCRIPTION:4-5 Year Old Basketball | Basketball\nHays Communities Family YMCA\n
URL;VALUE=URI:https://ygametime.com/branch/hays/sports/2016-winter-basketball/1359/?utm_medium=calendar&utm_source=team_cal&utm_content=league_url#game-32288
LOCATION:Dahlstrom Middle School (Main Gym Court A)
BEGIN:VALARM
TRIGGER:-P2H
ACTION:DISPLAY
DESCRIPTION:Shooters vs Stars
END:VALARM
END:VEVENT
BEGIN:VEVENT
UID:hays-41412@ygametime.com
DTSTAMP:20160220T160000Z
DTSTART;TZID=America/Chicago:20160220T100000
DURATION:PT0H60M0S
SUMMARY:Dragons vs Stars
DESCRIPTION:4-5 Year Old Basketball | Basketball\nHays Communities Family YMCA\n
URL;VALUE=URI:https://ygametime.com/branch/hays/sports/2016-winter-basketball/1359/?utm_medium=calendar&utm_source=team_cal&utm_content=league_url#game-41412
LOCATION:Dahlstrom Middle School (Main Gym Court A)
BEGIN:VALARM
TRIGGER:-P2H
ACTION:DISPLAY
DESCRIPTION:Dragons vs Stars
END:VALARM
END:VEVENT
BEGIN:VEVENT
UID:hays-32292@ygametime.com
DTSTAMP:20160227T150000Z
DTSTART;TZID=America/Chicago:20160227T090000
DURATION:PT0H60M0S
SUMMARY:Stars vs Bears
DESCRIPTION:4-5 Year Old Basketball | Basketball\nHays Communities Family YMCA\n
URL;VALUE=URI:https://ygametime.com/branch/hays/sports/2016-winter-basketball/1359/?utm_medium=calendar&utm_source=team_cal&utm_content=league_url#game-32292
LOCATION:Dahlstrom Middle School (Main Gym Court A)
BEGIN:VALARM
TRIGGER:-P2H
ACTION:DISPLAY
DESCRIPTION:Stars vs Bears
END:VALARM
END:VEVENT
BEGIN:VEVENT
UID:hays-41415@ygametime.com
DTSTAMP:20160227T150000Z
DTSTART;TZID=America/Chicago:20160227T090000
DURATION:PT0H60M0S
SUMMARY:Stars vs Owls
DESCRIPTION:4-5 Year Old Basketball | Basketball\nHays Communities Family YMCA\n
URL;VALUE=URI:https://ygametime.com/branch/hays/sports/2016-winter-basketball/1359/?utm_medium=calendar&utm_source=team_cal&utm_content=league_url#game-41415
LOCATION:Dahlstrom Middle School (Main Gym Court B)
BEGIN:VALARM
TRIGGER:-P2H
ACTION:DISPLAY
DESCRIPTION:Stars vs Owls
END:VALARM
END:VEVENT
BEGIN:VEVENT
UID:hays-32296@ygametime.com
DTSTAMP:20160305T150000Z
DTSTART;TZID=America/Chicago:20160305T090000
DURATION:PT0H60M0S
SUMMARY:Owls vs Stars
DESCRIPTION:4-5 Year Old Basketball | Basketball\nHays Communities Family YMCA\n
URL;VALUE=URI:https://ygametime.com/branch/hays/sports/2016-winter-basketball/1359/?utm_medium=calendar&utm_source=team_cal&utm_content=league_url#game-32296
LOCATION:Dahlstrom Middle School (Main Gym Court A)
BEGIN:VALARM
TRIGGER:-P2H
ACTION:DISPLAY
DESCRIPTION:Owls vs Stars
END:VALARM
END:VEVENT
BEGIN:VEVENT
UID:hays-41421@ygametime.com
DTSTAMP:20160305T160000Z
DTSTART;TZID=America/Chicago:20160305T100000
DURATION:PT0H60M0S
SUMMARY:Shooters vs Stars
DESCRIPTION:4-5 Year Old Basketball | Basketball\nHays Communities Family YMCA\n
URL;VALUE=URI:https://ygametime.com/branch/hays/sports/2016-winter-basketball/1359/?utm_medium=calendar&utm_source=team_cal&utm_content=league_url#game-41421
LOCATION:Dahlstrom Middle School (Main Gym Court B)
BEGIN:VALARM
TRIGGER:-P2H
ACTION:DISPLAY
DESCRIPTION:Shooters vs Stars
END:VALARM
END:VEVENT
END:VCALENDAR

