BEGIN:VCALENDAR
VERSION:2.0
PRODID:-//YGAMETIME.com//YGT iCal Creator//EN
METHOD:PUBLISH
X-PUBLISHED-TTL:PT6H
REFRESH-INTERVAL;VALUE=DURATION:PT6H
CALSCALE:GREGORIAN
X-WR-CALNAME:YGAMETIME CALENDAR
BEGIN:VTIMEZONE
TZID:America/Chicago
X-LIC-LOCATION:America/Chicago
BEGIN:DAYLIGHT
TZOFFSETFROM:-0600
TZOFFSETTO:-0500
TZNAME:CDT
DTSTART:19700308T020000
RRULE:FREQ=YEARLY;BYMONTH=3;BYDAY=2SU
END:DAYLIGHT
BEGIN:STANDARD
TZOFFSETFROM:-0500
TZOFFSETTO:-0600
TZNAME:CST
DTSTART:19701101T020000
RRULE:FREQ=YEARLY;BYMONTH=11;BYDAY=1SU
END:STANDARD
END:VTIMEZONE
BEGIN:VEVENT
UID:hays-32269@ygametime.com
DTSTAMP:20160116T150000Z
DTSTART;TZID=America/Chicago:20160116T090000
DURATION:PT0H60M0S
SUMMARY:Bears vs Shooters
DESCRIPTION:4-5 Year Old Basketball | Basketball\nHays Communities Family YMCA\n
URL;VALUE=URI:https://ygametime.com/branch/hays/sports/2016-winter-basketball/1359/?utm_medium=calendar&utm_source=team_cal&utm_content=league_url#game-32269
LOCATION:Dahlstrom Middle School (Main Gym Court B)
BEGIN:VALARM
TRIGGER:-P2H
ACTION:DISPLAY
DESCRIPTION:Bears vs Shooters
END:VALARM
END:VEVENT
BEGIN:VEVENT
UID:hays-41393@ygametime.com
DTSTAMP:20160116T160000Z
DTSTART;TZID=America/Chicago:20160116T100000
DURATION:PT0H60M0S
SUMMARY:Owls vs Bears
DESCRIPTION:4-5 Year Old Basketball | Basketball\nHays Communities Family YMCA\n
URL;VALUE=URI:https://ygametime.com/branch/hays/sports/2016-winter-basketball/1359/?utm_medium=calendar&utm_source=team_cal&utm_content=league_url#game-41393
LOCATION:Dahlstrom Middle School (Main Gym Court A)
BEGIN:VALARM
TRIGGER:-P2H
ACTION:DISPLAY
DESCRIPTION:Owls vs Bears
END:VALARM
END:VEVENT
BEGIN:VEVENT
UID:hays-32275@ygametime.com
DTSTAMP:20160123T160000Z
DTSTART;TZID=America/Chicago:20160123T100000
DURATION:PT0H60M0S
SUMMARY:Ballers vs Bears
DESCRIPTION:4-5 Year Old Basketball | Basketball\nHays Communities Family YMCA\n
URL;VALUE=URI:https://ygametime.com/branch/hays/sports/2016-winter-basketball/1359/?utm_medium=calendar&utm_source=team_cal&utm_content=league_url#game-32275
LOCATION:Dahlstrom Middle School (Main Gym Court B)
BEGIN:VALARM
TRIGGER:-P2H
ACTION:DISPLAY
DESCRIPTION:Ballers vs Bears
END:VALARM
END:VEVENT
BEGIN:VEVENT
UID:hays-41396@ygametime.com
DTSTAMP:20160123T160000Z
DTSTART;TZID=America/Chicago:20160123T100000
DURATION:PT0H60M0S
SUMMARY:Bears vs Shooters
DESCRIPTION:4-5 Year Old Basketball | Basketball\nHays Communities Family YMCA\n
URL;VALUE=URI:https://ygametime.com/branch/hays/sports/2016-winter-basketball/1359/?utm_medium=calendar&utm_source=team_cal&utm_content=league_url#game-41396
LOCATION:Dahlstrom Middle School (Main Gym Court A)
BEGIN:VALARM
TRIGGER:-P2H
ACTION:DISPLAY
DESCRIPTION:Bears vs Shooters
END:VALARM
END:VEVENT
BEGIN:VEVENT
UID:hays-41398@ygametime.com
DTSTAMP:20160130T150000Z
DTSTART;TZID=America/Chicago:20160130T090000
DURATION:PT0H60M0S
SUMMARY:Mavericks vs Bears
DESCRIPTION:4-5 Year Old Basketball | Basketball\nHays Communities Family YMCA\n
URL;VALUE=URI:https://ygametime.com/branch/hays/sports/2016-winter-basketball/1359/?utm_medium=calendar&utm_source=team_cal&utm_content=league_url#game-41398
LOCATION:Dahlstrom Middle School (Main Gym Court A)
BEGIN:VALARM
TRIGGER:-P2H
ACTION:DISPLAY
DESCRIPTION:Mavericks vs Bears
END:VALARM
END:VEVENT
BEGIN:VEVENT
UID:hays-32279@ygametime.com
DTSTAMP:20160130T160000Z
DTSTART;TZID=America/Chicago:20160130T100000
DURATION:PT0H60M0S
SUMMARY:Owls vs Bears
DESCRIPTION:4-5 Year Old Basketball | Basketball\nHays Communities Family YMCA\n
URL;VALUE=URI:https://ygametime.com/branch/hays/sports/2016-winter-basketball/1359/?utm_medium=calendar&utm_source=team_cal&utm_content=league_url#game-32279
LOCATION:Dahlstrom Middle School (Main Gym Court B)
BEGIN:VALARM
TRIGGER:-P2H
ACTION:DISPLAY
DESCRIPTION:Owls vs Bears
END:VALARM
END:VEVENT
BEGIN:VEVENT
UID:hays-32283@ygametime.com
DTSTAMP:20160206T160000Z
DTSTART;TZID=America/Chicago:20160206T100000
DURATION:PT0H60M0S
SUMMARY:Bears vs Mavericks
DESCRIPTION:4-5 Year Old Basketball | Basketball\nHays Communities Family YMCA\n
URL;VALUE=URI:https://ygametime.com/branch/hays/sports/2016-winter-basketball/1359/?utm_medium=calendar&utm_source=team_cal&utm_content=league_url#game-32283
LOCATION:Dahlstrom Middle School (Main Gym Court B)
BEGIN:VALARM
TRIGGER:-P2H
ACTION:DISPLAY
DESCRIPTION:Bears vs Mavericks
END:VALARM
END:VEVENT
BEGIN:VEVENT
UID:hays-41404@ygametime.com
DTSTAMP:20160206T160000Z
DTSTART;TZID=America/Chicago:20160206T100000
DURATION:PT0H60M0S
SUMMARY:Bears vs Stars
DESCRIPTION:4-5 Year Old Basketball | Basketball\nHays Communities Family YMCA\n
URL;VALUE=URI:https://ygametime.com/branch/hays/sports/2016-winter-basketball/1359/?utm_medium=calendar&utm_source=team_cal&utm_content=league_url#game-41404
LOCATION:Dahlstrom Middle School (Main Gym Court A)
BEGIN:VALARM
TRIGGER:-P2H
ACTION:DISPLAY
DESCRIPTION:Bears vs Stars
END:VALARM
END:VEVENT
BEGIN:VEVENT
UID:hays-41406@ygametime.com
DTSTAMP:20160213T150000Z
DTSTART;TZID=America/Chicago:20160213T090000
DURATION:PT0H60M0S
SUMMARY:Bears vs Ballers
DESCRIPTION:4-5 Year Old Basketball | Basketball\nHays Communities Family YMCA\n
URL;VALUE=URI:https://ygametime.com/branch/hays/sports/2016-winter-basketball/1359/?utm_medium=calendar&utm_source=team_cal&utm_content=league_url#game-41406
LOCATION:Dahlstrom Middle School (Main Gym Court A)
BEGIN:VALARM
TRIGGER:-P2H
ACTION:DISPLAY
DESCRIPTION:Bears vs Ballers
END:VALARM
END:VEVENT
BEGIN:VEVENT
UID:hays-32287@ygametime.com
DTSTAMP:20160213T160000Z
DTSTART;TZID=America/Chicago:20160213T100000
DURATION:PT0H60M0S
SUMMARY:Magic vs Bears
DESCRIPTION:4-5 Year Old Basketball | Basketball\nHays Communities Family YMCA\n
URL;VALUE=URI:https://ygametime.com/branch/hays/sports/2016-winter-basketball/1359/?utm_medium=calendar&utm_source=team_cal&utm_content=league_url#game-32287
LOCATION:Dahlstrom Middle School (Main Gym Court B)
BEGIN:VALARM
TRIGGER:-P2H
ACTION:DISPLAY
DESCRIPTION:Magic vs Bears
END:VALARM
END:VEVENT
BEGIN:VEVENT
UID:hays-41410@ygametime.com
DTSTAMP:20160220T150000Z
DTSTART;TZID=America/Chicago:20160220T090000
DURATION:PT0H60M0S
SUMMARY:Magic vs Bears
DESCRIPTION:4-5 Year Old Basketball | Basketball\nHays Communities Family YMCA\n
URL;VALUE=URI:https://ygametime.com/branch/hays/sports/2016-winter-basketball/1359/?utm_medium=calendar&utm_source=team_cal&utm_content=league_url#game-41410
LOCATION:Dahlstrom Middle School (Main Gym Court A)
BEGIN:VALARM
TRIGGER:-P2H
ACTION:DISPLAY
DESCRIPTION:Magic vs Bears
END:VALARM
END:VEVENT
BEGIN:VEVENT
UID:hays-32290@ygametime.com
DTSTAMP:20160220T160000Z
DTSTART;TZID=America/Chicago:20160220T100000
DURATION:PT0H60M0S
SUMMARY:Bears vs Dragons
DESCRIPTION:4-5 Year Old Basketball | Basketball\nHays Communities Family YMCA\n
URL;VALUE=URI:https://ygametime.com/branch/hays/sports/2016-winter-basketball/1359/?utm_medium=calendar&utm_source=team_cal&utm_content=league_url#game-32290
LOCATION:Dahlstrom Middle School (Main Gym Court A)
BEGIN:VALARM
TRIGGER:-P2H
ACTION:DISPLAY
DESCRIPTION:Bears vs Dragons
END:VALARM
END:VEVENT
BEGIN:VEVENT
UID:hays-32292@ygametime.com
DTSTAMP:20160227T150000Z
DTSTART;TZID=America/Chicago:20160227T090000
DURATION:PT0H60M0S
SUMMARY:Stars vs Bears
DESCRIPTION:4-5 Year Old Basketball | Basketball\nHays Communities Family YMCA\n
URL;VALUE=URI:https://ygametime.com/branch/hays/sports/2016-winter-basketball/1359/?utm_medium=calendar&utm_source=team_cal&utm_content=league_url#game-32292
LOCATION:Dahlstrom Middle School (Main Gym Court A)
BEGIN:VALARM
TRIGGER:-P2H
ACTION:DISPLAY
DESCRIPTION:Stars vs Bears
END:VALARM
END:VEVENT
BEGIN:VEVENT
UID:hays-41414@ygametime.com
DTSTAMP:20160227T150000Z
DTSTART;TZID=America/Chicago:20160227T090000
DURATION:PT0H60M0S
SUMMARY:Bears vs Dragons
DESCRIPTION:4-5 Year Old Basketball | Basketball\nHays Communities Family YMCA\n
URL;VALUE=URI:https://ygametime.com/branch/hays/sports/2016-winter-basketball/1359/?utm_medium=calendar&utm_source=team_cal&utm_content=league_url#game-41414
LOCATION:Dahlstrom Middle School (Main Gym Court A)
BEGIN:VALARM
TRIGGER:-P2H
ACTION:DISPLAY
DESCRIPTION:Bears vs Dragons
END:VALARM
END:VEVENT
BEGIN:VEVENT
UID:hays-41418@ygametime.com
DTSTAMP:20160305T150000Z
DTSTART;TZID=America/Chicago:20160305T090000
DURATION:PT0H60M0S
SUMMARY:Owls vs Bears
DESCRIPTION:4-5 Year Old Basketball | Basketball\nHays Communities Family YMCA\n
URL;VALUE=URI:https://ygametime.com/branch/hays/sports/2016-winter-basketball/1359/?utm_medium=calendar&utm_source=team_cal&utm_content=league_url#game-41418
LOCATION:Dahlstrom Middle School (Main Gym Court A)
BEGIN:VALARM
TRIGGER:-P2H
ACTION:DISPLAY
DESCRIPTION:Owls vs Bears
END:VALARM
END:VEVENT
BEGIN:VEVENT
UID:hays-32298@ygametime.com
DTSTAMP:20160305T160000Z
DTSTART;TZID=America/Chicago:20160305T100000
DURATION:PT0H60M0S
SUMMARY:Bears vs Shooters
DESCRIPTION:4-5 Year Old Basketball | Basketball\nHays Communities Family YMCA\n
URL;VALUE=URI:https://ygametime.com/branch/hays/sports/2016-winter-basketball/1359/?utm_medium=calendar&utm_source=team_cal&utm_content=league_url#game-32298
LOCATION:Dahlstrom Middle School (Main Gym Court A)
BEGIN:VALARM
TRIGGER:-P2H
ACTION:DISPLAY
DESCRIPTION:Bears vs Shooters
END:VALARM
END:VEVENT
END:VCALENDAR

