BEGIN:VCALENDAR
VERSION:2.0
PRODID:-//YGAMETIME.com//YGT iCal Creator//EN
METHOD:PUBLISH
X-PUBLISHED-TTL:PT6H
REFRESH-INTERVAL;VALUE=DURATION:PT6H
CALSCALE:GREGORIAN
X-WR-CALNAME:YGAMETIME CALENDAR
BEGIN:VTIMEZONE
TZID:America/Chicago
X-LIC-LOCATION:America/Chicago
BEGIN:DAYLIGHT
TZOFFSETFROM:-0600
TZOFFSETTO:-0500
TZNAME:CDT
DTSTART:19700308T020000
RRULE:FREQ=YEARLY;BYMONTH=3;BYDAY=2SU
END:DAYLIGHT
BEGIN:STANDARD
TZOFFSETFROM:-0500
TZOFFSETTO:-0600
TZNAME:CST
DTSTART:19701101T020000
RRULE:FREQ=YEARLY;BYMONTH=11;BYDAY=1SU
END:STANDARD
END:VTIMEZONE
BEGIN:VEVENT
UID:hays-41422@ygametime.com
DTSTAMP:20160116T170000Z
DTSTART;TZID=America/Chicago:20160116T110000
DURATION:PT0H60M0S
SUMMARY:Aggies vs Hawks
DESCRIPTION:6-7 Year Old Basketball | Basketball\nHays Communities Family YMCA\n
URL;VALUE=URI:https://ygametime.com/branch/hays/sports/2016-winter-basketball/1418/?utm_medium=calendar&utm_source=team_cal&utm_content=league_url#game-41422
LOCATION:Dahlstrom Middle School (Main Gym Court A)
BEGIN:VALARM
TRIGGER:-P2H
ACTION:DISPLAY
DESCRIPTION:Aggies vs Hawks
END:VALARM
END:VEVENT
BEGIN:VEVENT
UID:hays-41431@ygametime.com
DTSTAMP:20160123T190000Z
DTSTART;TZID=America/Chicago:20160123T130000
DURATION:PT0H60M0S
SUMMARY:Hawks vs Cougars
DESCRIPTION:6-7 Year Old Basketball | Basketball\nHays Communities Family YMCA\n
URL;VALUE=URI:https://ygametime.com/branch/hays/sports/2016-winter-basketball/1418/?utm_medium=calendar&utm_source=team_cal&utm_content=league_url#game-41431
LOCATION:Dahlstrom Middle School (Main Gym Court A)
BEGIN:VALARM
TRIGGER:-P2H
ACTION:DISPLAY
DESCRIPTION:Hawks vs Cougars
END:VALARM
END:VEVENT
BEGIN:VEVENT
UID:hays-41435@ygametime.com
DTSTAMP:20160130T180000Z
DTSTART;TZID=America/Chicago:20160130T120000
DURATION:PT0H60M0S
SUMMARY:Razorbacks vs Hawks
DESCRIPTION:6-7 Year Old Basketball | Basketball\nHays Communities Family YMCA\n
URL;VALUE=URI:https://ygametime.com/branch/hays/sports/2016-winter-basketball/1418/?utm_medium=calendar&utm_source=team_cal&utm_content=league_url#game-41435
LOCATION:Dahlstrom Middle School (Main Gym Court B)
BEGIN:VALARM
TRIGGER:-P2H
ACTION:DISPLAY
DESCRIPTION:Razorbacks vs Hawks
END:VALARM
END:VEVENT
BEGIN:VEVENT
UID:hays-41439@ygametime.com
DTSTAMP:20160206T180000Z
DTSTART;TZID=America/Chicago:20160206T120000
DURATION:PT0H60M0S
SUMMARY:Hawks vs Snakes
DESCRIPTION:6-7 Year Old Basketball | Basketball\nHays Communities Family YMCA\n
URL;VALUE=URI:https://ygametime.com/branch/hays/sports/2016-winter-basketball/1418/?utm_medium=calendar&utm_source=team_cal&utm_content=league_url#game-41439
LOCATION:Dahlstrom Middle School (Main Gym Court A)
BEGIN:VALARM
TRIGGER:-P2H
ACTION:DISPLAY
DESCRIPTION:Hawks vs Snakes
END:VALARM
END:VEVENT
BEGIN:VEVENT
UID:hays-41443@ygametime.com
DTSTAMP:20160213T170000Z
DTSTART;TZID=America/Chicago:20160213T110000
DURATION:PT0H60M0S
SUMMARY:Zebras vs Hawks
DESCRIPTION:6-7 Year Old Basketball | Basketball\nHays Communities Family YMCA\n
URL;VALUE=URI:https://ygametime.com/branch/hays/sports/2016-winter-basketball/1418/?utm_medium=calendar&utm_source=team_cal&utm_content=league_url#game-41443
LOCATION:Dahlstrom Middle School (Main Gym Court B)
BEGIN:VALARM
TRIGGER:-P2H
ACTION:DISPLAY
DESCRIPTION:Zebras vs Hawks
END:VALARM
END:VEVENT
BEGIN:VEVENT
UID:hays-41447@ygametime.com
DTSTAMP:20160220T170000Z
DTSTART;TZID=America/Chicago:20160220T110000
DURATION:PT0H60M0S
SUMMARY:Hawks vs Longhorns
DESCRIPTION:6-7 Year Old Basketball | Basketball\nHays Communities Family YMCA\n
URL;VALUE=URI:https://ygametime.com/branch/hays/sports/2016-winter-basketball/1418/?utm_medium=calendar&utm_source=team_cal&utm_content=league_url#game-41447
LOCATION:Dahlstrom Middle School (Main Gym Court B)
BEGIN:VALARM
TRIGGER:-P2H
ACTION:DISPLAY
DESCRIPTION:Hawks vs Longhorns
END:VALARM
END:VEVENT
BEGIN:VEVENT
UID:hays-41456@ygametime.com
DTSTAMP:20160227T190000Z
DTSTART;TZID=America/Chicago:20160227T130000
DURATION:PT0H60M0S
SUMMARY:Raptors vs Hawks
DESCRIPTION:6-7 Year Old Basketball | Basketball\nHays Communities Family YMCA\n
URL;VALUE=URI:https://ygametime.com/branch/hays/sports/2016-winter-basketball/1418/?utm_medium=calendar&utm_source=team_cal&utm_content=league_url#game-41456
LOCATION:Dahlstrom Middle School (Main Gym Court A)
BEGIN:VALARM
TRIGGER:-P2H
ACTION:DISPLAY
DESCRIPTION:Raptors vs Hawks
END:VALARM
END:VEVENT
BEGIN:VEVENT
UID:hays-41460@ygametime.com
DTSTAMP:20160305T180000Z
DTSTART;TZID=America/Chicago:20160305T120000
DURATION:PT0H60M0S
SUMMARY:Hawks vs Hornets
DESCRIPTION:6-7 Year Old Basketball | Basketball\nHays Communities Family YMCA\n
URL;VALUE=URI:https://ygametime.com/branch/hays/sports/2016-winter-basketball/1418/?utm_medium=calendar&utm_source=team_cal&utm_content=league_url#game-41460
LOCATION:Dahlstrom Middle School (Main Gym Court B)
BEGIN:VALARM
TRIGGER:-P2H
ACTION:DISPLAY
DESCRIPTION:Hawks vs Hornets
END:VALARM
END:VEVENT
END:VCALENDAR

