BEGIN:VCALENDAR
VERSION:2.0
PRODID:-//YGAMETIME.com//YGT iCal Creator//EN
METHOD:PUBLISH
X-PUBLISHED-TTL:PT6H
REFRESH-INTERVAL;VALUE=DURATION:PT6H
CALSCALE:GREGORIAN
X-WR-CALNAME:YGAMETIME CALENDAR
BEGIN:VTIMEZONE
TZID:America/Chicago
X-LIC-LOCATION:America/Chicago
BEGIN:DAYLIGHT
TZOFFSETFROM:-0600
TZOFFSETTO:-0500
TZNAME:CDT
DTSTART:19700308T020000
RRULE:FREQ=YEARLY;BYMONTH=3;BYDAY=2SU
END:DAYLIGHT
BEGIN:STANDARD
TZOFFSETFROM:-0500
TZOFFSETTO:-0600
TZNAME:CST
DTSTART:19701101T020000
RRULE:FREQ=YEARLY;BYMONTH=11;BYDAY=1SU
END:STANDARD
END:VTIMEZONE
BEGIN:VEVENT
UID:hays-41424@ygametime.com
DTSTAMP:20160116T180000Z
DTSTART;TZID=America/Chicago:20160116T120000
DURATION:PT0H60M0S
SUMMARY:Hornets vs Razorbacks
DESCRIPTION:6-7 Year Old Basketball | Basketball\nHays Communities Family YMCA\n
URL;VALUE=URI:https://ygametime.com/branch/hays/sports/2016-winter-basketball/1418/?utm_medium=calendar&utm_source=team_cal&utm_content=league_url#game-41424
LOCATION:Dahlstrom Middle School (Main Gym Court B)
BEGIN:VALARM
TRIGGER:-P2H
ACTION:DISPLAY
DESCRIPTION:Hornets vs Razorbacks
END:VALARM
END:VEVENT
BEGIN:VEVENT
UID:hays-41427@ygametime.com
DTSTAMP:20160123T170000Z
DTSTART;TZID=America/Chicago:20160123T110000
DURATION:PT0H60M0S
SUMMARY:Razorbacks vs Aggies
DESCRIPTION:6-7 Year Old Basketball | Basketball\nHays Communities Family YMCA\n
URL;VALUE=URI:https://ygametime.com/branch/hays/sports/2016-winter-basketball/1418/?utm_medium=calendar&utm_source=team_cal&utm_content=league_url#game-41427
LOCATION:Dahlstrom Middle School (Main Gym Court A)
BEGIN:VALARM
TRIGGER:-P2H
ACTION:DISPLAY
DESCRIPTION:Razorbacks vs Aggies
END:VALARM
END:VEVENT
BEGIN:VEVENT
UID:hays-41435@ygametime.com
DTSTAMP:20160130T180000Z
DTSTART;TZID=America/Chicago:20160130T120000
DURATION:PT0H60M0S
SUMMARY:Razorbacks vs Hawks
DESCRIPTION:6-7 Year Old Basketball | Basketball\nHays Communities Family YMCA\n
URL;VALUE=URI:https://ygametime.com/branch/hays/sports/2016-winter-basketball/1418/?utm_medium=calendar&utm_source=team_cal&utm_content=league_url#game-41435
LOCATION:Dahlstrom Middle School (Main Gym Court B)
BEGIN:VALARM
TRIGGER:-P2H
ACTION:DISPLAY
DESCRIPTION:Razorbacks vs Hawks
END:VALARM
END:VEVENT
BEGIN:VEVENT
UID:hays-41440@ygametime.com
DTSTAMP:20160206T180000Z
DTSTART;TZID=America/Chicago:20160206T120000
DURATION:PT0H60M0S
SUMMARY:Zebras vs Razorbacks
DESCRIPTION:6-7 Year Old Basketball | Basketball\nHays Communities Family YMCA\n
URL;VALUE=URI:https://ygametime.com/branch/hays/sports/2016-winter-basketball/1418/?utm_medium=calendar&utm_source=team_cal&utm_content=league_url#game-41440
LOCATION:Dahlstrom Middle School (Main Gym Court B)
BEGIN:VALARM
TRIGGER:-P2H
ACTION:DISPLAY
DESCRIPTION:Zebras vs Razorbacks
END:VALARM
END:VEVENT
BEGIN:VEVENT
UID:hays-41445@ygametime.com
DTSTAMP:20160213T180000Z
DTSTART;TZID=America/Chicago:20160213T120000
DURATION:PT0H60M0S
SUMMARY:Razorbacks vs Raptors
DESCRIPTION:6-7 Year Old Basketball | Basketball\nHays Communities Family YMCA\n
URL;VALUE=URI:https://ygametime.com/branch/hays/sports/2016-winter-basketball/1418/?utm_medium=calendar&utm_source=team_cal&utm_content=league_url#game-41445
LOCATION:Dahlstrom Middle School (Main Gym Court B)
BEGIN:VALARM
TRIGGER:-P2H
ACTION:DISPLAY
DESCRIPTION:Razorbacks vs Raptors
END:VALARM
END:VEVENT
BEGIN:VEVENT
UID:hays-41450@ygametime.com
DTSTAMP:20160220T180000Z
DTSTART;TZID=America/Chicago:20160220T120000
DURATION:PT0H60M0S
SUMMARY:Bobcats vs Razorbacks
DESCRIPTION:6-7 Year Old Basketball | Basketball\nHays Communities Family YMCA\n
URL;VALUE=URI:https://ygametime.com/branch/hays/sports/2016-winter-basketball/1418/?utm_medium=calendar&utm_source=team_cal&utm_content=league_url#game-41450
LOCATION:Dahlstrom Middle School (Main Gym Court B)
BEGIN:VALARM
TRIGGER:-P2H
ACTION:DISPLAY
DESCRIPTION:Bobcats vs Razorbacks
END:VALARM
END:VEVENT
BEGIN:VEVENT
UID:hays-41455@ygametime.com
DTSTAMP:20160227T180000Z
DTSTART;TZID=America/Chicago:20160227T120000
DURATION:PT0H60M0S
SUMMARY:Razorbacks vs Cougars
DESCRIPTION:6-7 Year Old Basketball | Basketball\nHays Communities Family YMCA\n
URL;VALUE=URI:https://ygametime.com/branch/hays/sports/2016-winter-basketball/1418/?utm_medium=calendar&utm_source=team_cal&utm_content=league_url#game-41455
LOCATION:Dahlstrom Middle School (Main Gym Court B)
BEGIN:VALARM
TRIGGER:-P2H
ACTION:DISPLAY
DESCRIPTION:Razorbacks vs Cougars
END:VALARM
END:VEVENT
BEGIN:VEVENT
UID:hays-41459@ygametime.com
DTSTAMP:20160305T180000Z
DTSTART;TZID=America/Chicago:20160305T120000
DURATION:PT0H60M0S
SUMMARY:Snakes vs Razorbacks
DESCRIPTION:6-7 Year Old Basketball | Basketball\nHays Communities Family YMCA\n
URL;VALUE=URI:https://ygametime.com/branch/hays/sports/2016-winter-basketball/1418/?utm_medium=calendar&utm_source=team_cal&utm_content=league_url#game-41459
LOCATION:Dahlstrom Middle School (Main Gym Court A)
BEGIN:VALARM
TRIGGER:-P2H
ACTION:DISPLAY
DESCRIPTION:Snakes vs Razorbacks
END:VALARM
END:VEVENT
END:VCALENDAR

