BEGIN:VCALENDAR
VERSION:2.0
PRODID:-//YGAMETIME.com//YGT iCal Creator//EN
METHOD:PUBLISH
X-PUBLISHED-TTL:PT6H
REFRESH-INTERVAL;VALUE=DURATION:PT6H
CALSCALE:GREGORIAN
X-WR-CALNAME:YGAMETIME CALENDAR
BEGIN:VTIMEZONE
TZID:America/Chicago
X-LIC-LOCATION:America/Chicago
BEGIN:DAYLIGHT
TZOFFSETFROM:-0600
TZOFFSETTO:-0500
TZNAME:CDT
DTSTART:19700308T020000
RRULE:FREQ=YEARLY;BYMONTH=3;BYDAY=2SU
END:DAYLIGHT
BEGIN:STANDARD
TZOFFSETFROM:-0500
TZOFFSETTO:-0600
TZNAME:CST
DTSTART:19701101T020000
RRULE:FREQ=YEARLY;BYMONTH=11;BYDAY=1SU
END:STANDARD
END:VTIMEZONE
BEGIN:VEVENT
UID:hays-41467@ygametime.com
DTSTAMP:20160116T200000Z
DTSTART;TZID=America/Chicago:20160116T140000
DURATION:PT0H60M0S
SUMMARY:Sharks vs Wizards
DESCRIPTION:8-9 Year Old Basketball | Basketball\nHays Communities Family YMCA\n
URL;VALUE=URI:https://ygametime.com/branch/hays/sports/2016-winter-basketball/1419/?utm_medium=calendar&utm_source=team_cal&utm_content=league_url#game-41467
LOCATION:Buda Elementary School
BEGIN:VALARM
TRIGGER:-P2H
ACTION:DISPLAY
DESCRIPTION:Sharks vs Wizards
END:VALARM
END:VEVENT
BEGIN:VEVENT
UID:hays-41472@ygametime.com
DTSTAMP:20160123T190000Z
DTSTART;TZID=America/Chicago:20160123T130000
DURATION:PT0H60M0S
SUMMARY:Wizards vs Thunder
DESCRIPTION:8-9 Year Old Basketball | Basketball\nHays Communities Family YMCA\n
URL;VALUE=URI:https://ygametime.com/branch/hays/sports/2016-winter-basketball/1419/?utm_medium=calendar&utm_source=team_cal&utm_content=league_url#game-41472
LOCATION:Buda Elementary School
BEGIN:VALARM
TRIGGER:-P2H
ACTION:DISPLAY
DESCRIPTION:Wizards vs Thunder
END:VALARM
END:VEVENT
BEGIN:VEVENT
UID:hays-41476@ygametime.com
DTSTAMP:20160130T170000Z
DTSTART;TZID=America/Chicago:20160130T110000
DURATION:PT0H60M0S
SUMMARY:Tigers vs Wizards
DESCRIPTION:8-9 Year Old Basketball | Basketball\nHays Communities Family YMCA\n
URL;VALUE=URI:https://ygametime.com/branch/hays/sports/2016-winter-basketball/1419/?utm_medium=calendar&utm_source=team_cal&utm_content=league_url#game-41476
LOCATION:Buda Elementary School
BEGIN:VALARM
TRIGGER:-P2H
ACTION:DISPLAY
DESCRIPTION:Tigers vs Wizards
END:VALARM
END:VEVENT
BEGIN:VEVENT
UID:hays-41480@ygametime.com
DTSTAMP:20160206T150000Z
DTSTART;TZID=America/Chicago:20160206T090000
DURATION:PT0H60M0S
SUMMARY:Wizards vs Huskies
DESCRIPTION:8-9 Year Old Basketball | Basketball\nHays Communities Family YMCA\n
URL;VALUE=URI:https://ygametime.com/branch/hays/sports/2016-winter-basketball/1419/?utm_medium=calendar&utm_source=team_cal&utm_content=league_url#game-41480
LOCATION:Buda Elementary School
BEGIN:VALARM
TRIGGER:-P2H
ACTION:DISPLAY
DESCRIPTION:Wizards vs Huskies
END:VALARM
END:VEVENT
BEGIN:VEVENT
UID:hays-41490@ygametime.com
DTSTAMP:20160213T190000Z
DTSTART;TZID=America/Chicago:20160213T130000
DURATION:PT0H60M0S
SUMMARY:Jayhawks vs Wizards
DESCRIPTION:8-9 Year Old Basketball | Basketball\nHays Communities Family YMCA\n
URL;VALUE=URI:https://ygametime.com/branch/hays/sports/2016-winter-basketball/1419/?utm_medium=calendar&utm_source=team_cal&utm_content=league_url#game-41490
LOCATION:Buda Elementary School
BEGIN:VALARM
TRIGGER:-P2H
ACTION:DISPLAY
DESCRIPTION:Jayhawks vs Wizards
END:VALARM
END:VEVENT
BEGIN:VEVENT
UID:hays-41494@ygametime.com
DTSTAMP:20160220T170000Z
DTSTART;TZID=America/Chicago:20160220T110000
DURATION:PT0H60M0S
SUMMARY:Wizards vs Bucks
DESCRIPTION:8-9 Year Old Basketball | Basketball\nHays Communities Family YMCA\n
URL;VALUE=URI:https://ygametime.com/branch/hays/sports/2016-winter-basketball/1419/?utm_medium=calendar&utm_source=team_cal&utm_content=league_url#game-41494
LOCATION:Buda Elementary School
BEGIN:VALARM
TRIGGER:-P2H
ACTION:DISPLAY
DESCRIPTION:Wizards vs Bucks
END:VALARM
END:VEVENT
BEGIN:VEVENT
UID:hays-41498@ygametime.com
DTSTAMP:20160227T150000Z
DTSTART;TZID=America/Chicago:20160227T090000
DURATION:PT0H60M0S
SUMMARY:Wizards vs Gators
DESCRIPTION:8-9 Year Old Basketball | Basketball\nHays Communities Family YMCA\n
URL;VALUE=URI:https://ygametime.com/branch/hays/sports/2016-winter-basketball/1419/?utm_medium=calendar&utm_source=team_cal&utm_content=league_url#game-41498
LOCATION:Buda Elementary School
BEGIN:VALARM
TRIGGER:-P2H
ACTION:DISPLAY
DESCRIPTION:Wizards vs Gators
END:VALARM
END:VEVENT
BEGIN:VEVENT
UID:hays-41504@ygametime.com
DTSTAMP:20160305T150000Z
DTSTART;TZID=America/Chicago:20160305T090000
DURATION:PT0H60M0S
SUMMARY:Cavaliers vs Wizards
DESCRIPTION:8-9 Year Old Basketball | Basketball\nHays Communities Family YMCA\n
URL;VALUE=URI:https://ygametime.com/branch/hays/sports/2016-winter-basketball/1419/?utm_medium=calendar&utm_source=team_cal&utm_content=league_url#game-41504
LOCATION:Buda Elementary School
BEGIN:VALARM
TRIGGER:-P2H
ACTION:DISPLAY
DESCRIPTION:Cavaliers vs Wizards
END:VALARM
END:VEVENT
END:VCALENDAR

