BEGIN:VCALENDAR
VERSION:2.0
PRODID:-//YGAMETIME.com//YGT iCal Creator//EN
METHOD:PUBLISH
X-PUBLISHED-TTL:PT6H
REFRESH-INTERVAL;VALUE=DURATION:PT6H
CALSCALE:GREGORIAN
X-WR-CALNAME:YGAMETIME CALENDAR
BEGIN:VTIMEZONE
TZID:America/Chicago
X-LIC-LOCATION:America/Chicago
BEGIN:DAYLIGHT
TZOFFSETFROM:-0600
TZOFFSETTO:-0500
TZNAME:CDT
DTSTART:19700308T020000
RRULE:FREQ=YEARLY;BYMONTH=3;BYDAY=2SU
END:DAYLIGHT
BEGIN:STANDARD
TZOFFSETFROM:-0500
TZOFFSETTO:-0600
TZNAME:CST
DTSTART:19701101T020000
RRULE:FREQ=YEARLY;BYMONTH=11;BYDAY=1SU
END:STANDARD
END:VTIMEZONE
BEGIN:VEVENT
UID:hays-41462@ygametime.com
DTSTAMP:20160116T150000Z
DTSTART;TZID=America/Chicago:20160116T090000
DURATION:PT0H60M0S
SUMMARY:Huskies vs Gators
DESCRIPTION:8-9 Year Old Basketball | Basketball\nHays Communities Family YMCA\n
URL;VALUE=URI:https://ygametime.com/branch/hays/sports/2016-winter-basketball/1419/?utm_medium=calendar&utm_source=team_cal&utm_content=league_url#game-41462
LOCATION:Buda Elementary School
BEGIN:VALARM
TRIGGER:-P2H
ACTION:DISPLAY
DESCRIPTION:Huskies vs Gators
END:VALARM
END:VEVENT
BEGIN:VEVENT
UID:hays-41468@ygametime.com
DTSTAMP:20160123T150000Z
DTSTART;TZID=America/Chicago:20160123T090000
DURATION:PT0H60M0S
SUMMARY:Jayhawks vs Huskies
DESCRIPTION:8-9 Year Old Basketball | Basketball\nHays Communities Family YMCA\n
URL;VALUE=URI:https://ygametime.com/branch/hays/sports/2016-winter-basketball/1419/?utm_medium=calendar&utm_source=team_cal&utm_content=league_url#game-41468
LOCATION:Buda Elementary School
BEGIN:VALARM
TRIGGER:-P2H
ACTION:DISPLAY
DESCRIPTION:Jayhawks vs Huskies
END:VALARM
END:VEVENT
BEGIN:VEVENT
UID:hays-41474@ygametime.com
DTSTAMP:20160130T150000Z
DTSTART;TZID=America/Chicago:20160130T090000
DURATION:PT0H60M0S
SUMMARY:Huskies vs Bucks
DESCRIPTION:8-9 Year Old Basketball | Basketball\nHays Communities Family YMCA\n
URL;VALUE=URI:https://ygametime.com/branch/hays/sports/2016-winter-basketball/1419/?utm_medium=calendar&utm_source=team_cal&utm_content=league_url#game-41474
LOCATION:Buda Elementary School
BEGIN:VALARM
TRIGGER:-P2H
ACTION:DISPLAY
DESCRIPTION:Huskies vs Bucks
END:VALARM
END:VEVENT
BEGIN:VEVENT
UID:hays-41480@ygametime.com
DTSTAMP:20160206T150000Z
DTSTART;TZID=America/Chicago:20160206T090000
DURATION:PT0H60M0S
SUMMARY:Wizards vs Huskies
DESCRIPTION:8-9 Year Old Basketball | Basketball\nHays Communities Family YMCA\n
URL;VALUE=URI:https://ygametime.com/branch/hays/sports/2016-winter-basketball/1419/?utm_medium=calendar&utm_source=team_cal&utm_content=league_url#game-41480
LOCATION:Buda Elementary School
BEGIN:VALARM
TRIGGER:-P2H
ACTION:DISPLAY
DESCRIPTION:Wizards vs Huskies
END:VALARM
END:VEVENT
BEGIN:VEVENT
UID:hays-41486@ygametime.com
DTSTAMP:20160213T150000Z
DTSTART;TZID=America/Chicago:20160213T090000
DURATION:PT0H60M0S
SUMMARY:Huskies vs Cavaliers
DESCRIPTION:8-9 Year Old Basketball | Basketball\nHays Communities Family YMCA\n
URL;VALUE=URI:https://ygametime.com/branch/hays/sports/2016-winter-basketball/1419/?utm_medium=calendar&utm_source=team_cal&utm_content=league_url#game-41486
LOCATION:Buda Elementary School
BEGIN:VALARM
TRIGGER:-P2H
ACTION:DISPLAY
DESCRIPTION:Huskies vs Cavaliers
END:VALARM
END:VEVENT
BEGIN:VEVENT
UID:hays-41492@ygametime.com
DTSTAMP:20160220T150000Z
DTSTART;TZID=America/Chicago:20160220T090000
DURATION:PT0H60M0S
SUMMARY:Bulldogs vs Huskies
DESCRIPTION:8-9 Year Old Basketball | Basketball\nHays Communities Family YMCA\n
URL;VALUE=URI:https://ygametime.com/branch/hays/sports/2016-winter-basketball/1419/?utm_medium=calendar&utm_source=team_cal&utm_content=league_url#game-41492
LOCATION:Buda Elementary School
BEGIN:VALARM
TRIGGER:-P2H
ACTION:DISPLAY
DESCRIPTION:Bulldogs vs Huskies
END:VALARM
END:VEVENT
BEGIN:VEVENT
UID:hays-41503@ygametime.com
DTSTAMP:20160227T200000Z
DTSTART;TZID=America/Chicago:20160227T140000
DURATION:PT0H60M0S
SUMMARY:Huskies vs Tarheels
DESCRIPTION:8-9 Year Old Basketball | Basketball\nHays Communities Family YMCA\n
URL;VALUE=URI:https://ygametime.com/branch/hays/sports/2016-winter-basketball/1419/?utm_medium=calendar&utm_source=team_cal&utm_content=league_url#game-41503
LOCATION:Buda Elementary School
BEGIN:VALARM
TRIGGER:-P2H
ACTION:DISPLAY
DESCRIPTION:Huskies vs Tarheels
END:VALARM
END:VEVENT
BEGIN:VEVENT
UID:hays-41507@ygametime.com
DTSTAMP:20160305T180000Z
DTSTART;TZID=America/Chicago:20160305T120000
DURATION:PT0H60M0S
SUMMARY:Spurs vs Huskies
DESCRIPTION:8-9 Year Old Basketball | Basketball\nHays Communities Family YMCA\n
URL;VALUE=URI:https://ygametime.com/branch/hays/sports/2016-winter-basketball/1419/?utm_medium=calendar&utm_source=team_cal&utm_content=league_url#game-41507
LOCATION:Buda Elementary School
BEGIN:VALARM
TRIGGER:-P2H
ACTION:DISPLAY
DESCRIPTION:Spurs vs Huskies
END:VALARM
END:VEVENT
END:VCALENDAR

