BEGIN:VCALENDAR
VERSION:2.0
PRODID:-//YGAMETIME.com//YGT iCal Creator//EN
METHOD:PUBLISH
X-PUBLISHED-TTL:PT6H
REFRESH-INTERVAL;VALUE=DURATION:PT6H
CALSCALE:GREGORIAN
X-WR-CALNAME:YGAMETIME CALENDAR
BEGIN:VTIMEZONE
TZID:America/Chicago
X-LIC-LOCATION:America/Chicago
BEGIN:DAYLIGHT
TZOFFSETFROM:-0600
TZOFFSETTO:-0500
TZNAME:CDT
DTSTART:19700308T020000
RRULE:FREQ=YEARLY;BYMONTH=3;BYDAY=2SU
END:DAYLIGHT
BEGIN:STANDARD
TZOFFSETFROM:-0500
TZOFFSETTO:-0600
TZNAME:CST
DTSTART:19701101T020000
RRULE:FREQ=YEARLY;BYMONTH=11;BYDAY=1SU
END:STANDARD
END:VTIMEZONE
BEGIN:VEVENT
UID:hays-41465@ygametime.com
DTSTAMP:20160116T180000Z
DTSTART;TZID=America/Chicago:20160116T120000
DURATION:PT0H60M0S
SUMMARY:Spurs vs Cavaliers
DESCRIPTION:8-9 Year Old Basketball | Basketball\nHays Communities Family YMCA\n
URL;VALUE=URI:https://ygametime.com/branch/hays/sports/2016-winter-basketball/1419/?utm_medium=calendar&utm_source=team_cal&utm_content=league_url#game-41465
LOCATION:Buda Elementary School
BEGIN:VALARM
TRIGGER:-P2H
ACTION:DISPLAY
DESCRIPTION:Spurs vs Cavaliers
END:VALARM
END:VEVENT
BEGIN:VEVENT
UID:hays-41469@ygametime.com
DTSTAMP:20160123T160000Z
DTSTART;TZID=America/Chicago:20160123T100000
DURATION:PT0H60M0S
SUMMARY:Bulldogs vs Spurs
DESCRIPTION:8-9 Year Old Basketball | Basketball\nHays Communities Family YMCA\n
URL;VALUE=URI:https://ygametime.com/branch/hays/sports/2016-winter-basketball/1419/?utm_medium=calendar&utm_source=team_cal&utm_content=league_url#game-41469
LOCATION:Buda Elementary School
BEGIN:VALARM
TRIGGER:-P2H
ACTION:DISPLAY
DESCRIPTION:Bulldogs vs Spurs
END:VALARM
END:VEVENT
BEGIN:VEVENT
UID:hays-41479@ygametime.com
DTSTAMP:20160130T200000Z
DTSTART;TZID=America/Chicago:20160130T140000
DURATION:PT0H60M0S
SUMMARY:Spurs vs Tarheels
DESCRIPTION:8-9 Year Old Basketball | Basketball\nHays Communities Family YMCA\n
URL;VALUE=URI:https://ygametime.com/branch/hays/sports/2016-winter-basketball/1419/?utm_medium=calendar&utm_source=team_cal&utm_content=league_url#game-41479
LOCATION:Buda Elementary School
BEGIN:VALARM
TRIGGER:-P2H
ACTION:DISPLAY
DESCRIPTION:Spurs vs Tarheels
END:VALARM
END:VEVENT
BEGIN:VEVENT
UID:hays-41483@ygametime.com
DTSTAMP:20160206T180000Z
DTSTART;TZID=America/Chicago:20160206T120000
DURATION:PT0H60M0S
SUMMARY:Gators vs Spurs
DESCRIPTION:8-9 Year Old Basketball | Basketball\nHays Communities Family YMCA\n
URL;VALUE=URI:https://ygametime.com/branch/hays/sports/2016-winter-basketball/1419/?utm_medium=calendar&utm_source=team_cal&utm_content=league_url#game-41483
LOCATION:Buda Elementary School
BEGIN:VALARM
TRIGGER:-P2H
ACTION:DISPLAY
DESCRIPTION:Gators vs Spurs
END:VALARM
END:VEVENT
BEGIN:VEVENT
UID:hays-41489@ygametime.com
DTSTAMP:20160213T180000Z
DTSTART;TZID=America/Chicago:20160213T120000
DURATION:PT0H60M0S
SUMMARY:Sharks vs Spurs
DESCRIPTION:8-9 Year Old Basketball | Basketball\nHays Communities Family YMCA\n
URL;VALUE=URI:https://ygametime.com/branch/hays/sports/2016-winter-basketball/1419/?utm_medium=calendar&utm_source=team_cal&utm_content=league_url#game-41489
LOCATION:Buda Elementary School
BEGIN:VALARM
TRIGGER:-P2H
ACTION:DISPLAY
DESCRIPTION:Sharks vs Spurs
END:VALARM
END:VEVENT
BEGIN:VEVENT
UID:hays-41495@ygametime.com
DTSTAMP:20160220T180000Z
DTSTART;TZID=America/Chicago:20160220T120000
DURATION:PT0H60M0S
SUMMARY:Spurs vs Thunder
DESCRIPTION:8-9 Year Old Basketball | Basketball\nHays Communities Family YMCA\n
URL;VALUE=URI:https://ygametime.com/branch/hays/sports/2016-winter-basketball/1419/?utm_medium=calendar&utm_source=team_cal&utm_content=league_url#game-41495
LOCATION:Buda Elementary School
BEGIN:VALARM
TRIGGER:-P2H
ACTION:DISPLAY
DESCRIPTION:Spurs vs Thunder
END:VALARM
END:VEVENT
BEGIN:VEVENT
UID:hays-41501@ygametime.com
DTSTAMP:20160227T180000Z
DTSTART;TZID=America/Chicago:20160227T120000
DURATION:PT0H60M0S
SUMMARY:Tigers vs Spurs
DESCRIPTION:8-9 Year Old Basketball | Basketball\nHays Communities Family YMCA\n
URL;VALUE=URI:https://ygametime.com/branch/hays/sports/2016-winter-basketball/1419/?utm_medium=calendar&utm_source=team_cal&utm_content=league_url#game-41501
LOCATION:Buda Elementary School
BEGIN:VALARM
TRIGGER:-P2H
ACTION:DISPLAY
DESCRIPTION:Tigers vs Spurs
END:VALARM
END:VEVENT
BEGIN:VEVENT
UID:hays-41507@ygametime.com
DTSTAMP:20160305T180000Z
DTSTART;TZID=America/Chicago:20160305T120000
DURATION:PT0H60M0S
SUMMARY:Spurs vs Huskies
DESCRIPTION:8-9 Year Old Basketball | Basketball\nHays Communities Family YMCA\n
URL;VALUE=URI:https://ygametime.com/branch/hays/sports/2016-winter-basketball/1419/?utm_medium=calendar&utm_source=team_cal&utm_content=league_url#game-41507
LOCATION:Buda Elementary School
BEGIN:VALARM
TRIGGER:-P2H
ACTION:DISPLAY
DESCRIPTION:Spurs vs Huskies
END:VALARM
END:VEVENT
END:VCALENDAR

